BEGIN:VCALENDAR
VERSION:2.0
PRODID:-//Central Christian Church - ECPv6.15.20//NONSGML v1.0//EN
CALSCALE:GREGORIAN
METHOD:PUBLISH
X-WR-CALNAME:Central Christian Church
X-ORIGINAL-URL:https://cccaustin.org
X-WR-CALDESC:Events for Central Christian Church
REFRESH-INTERVAL;VALUE=DURATION:PT1H
X-Robots-Tag:noindex
X-PUBLISHED-TTL:PT1H
BEGIN:VTIMEZONE
TZID:America/Chicago
BEGIN:DAYLIGHT
TZOFFSETFROM:-0600
TZOFFSETTO:-0500
TZNAME:CDT
DTSTART:20250309T080000
END:DAYLIGHT
BEGIN:STANDARD
TZOFFSETFROM:-0500
TZOFFSETTO:-0600
TZNAME:CST
DTSTART:20251102T070000
END:STANDARD
BEGIN:DAYLIGHT
TZOFFSETFROM:-0600
TZOFFSETTO:-0500
TZNAME:CDT
DTSTART:20260308T080000
END:DAYLIGHT
BEGIN:STANDARD
TZOFFSETFROM:-0500
TZOFFSETTO:-0600
TZNAME:CST
DTSTART:20261101T070000
END:STANDARD
BEGIN:DAYLIGHT
TZOFFSETFROM:-0600
TZOFFSETTO:-0500
TZNAME:CDT
DTSTART:20270314T080000
END:DAYLIGHT
BEGIN:STANDARD
TZOFFSETFROM:-0500
TZOFFSETTO:-0600
TZNAME:CST
DTSTART:20271107T070000
END:STANDARD
END:VTIMEZONE
BEGIN:VEVENT
DTSTART;TZID=America/Chicago:20260426T110000
DTEND;TZID=America/Chicago:20260426T120000
DTSTAMP:20260424T124830
CREATED:20241210T164358Z
LAST-MODIFIED:20260324T031230Z
UID:10003229-1777201200-1777204800@cccaustin.org
SUMMARY:Worship Service
DESCRIPTION:Please join us each Sunday morning at 11am in person\, or livestreaming on our facebook page (link below) to take part in our worship service as we share fellowship\, music\, Communion\, and a thought provoking sermon. We hope to see you! \n\nhttps://www.facebook.com/CentralChristianChurchAustin
URL:https://cccaustin.org/event/worship-service-3/2026-04-26/
LOCATION:Central Christian Church\, 1110 Guadalupe Street\, Austin\, 78701\, United States
ATTACH;FMTTYPE=image/jpeg:https://cccaustin.org/wp-content/uploads/2022/07/worship2.jpg
END:VEVENT
BEGIN:VEVENT
DTSTART;TZID=America/Chicago:20260427T080000
DTEND;TZID=America/Chicago:20260427T090000
DTSTAMP:20260424T124830
CREATED:20230904T000049Z
LAST-MODIFIED:20260303T231046Z
UID:10001137-1777276800-1777280400@cccaustin.org
SUMMARY:Open Sanctuary
DESCRIPTION:The sanctuary will be open to welcome all for a time of meditation and reflection. Come by and be sure to share with your friends\, neighbors\, and co-workers who may also like to drop by. Pastor Layne will be on hand on his Pastor’s Porch at the front door with fresh coffee\, breakfast bars\, conversation\, smiles\, and the Joke of the Day.
URL:https://cccaustin.org/event/open-sanctuary/2026-04-27/
LOCATION:Central Christian Church\, 1110 Guadalupe Street\, Austin\, 78701\, United States
ATTACH;FMTTYPE=image/jpeg:https://cccaustin.org/wp-content/uploads/2023/09/Sanctuary2.jpg
END:VEVENT
BEGIN:VEVENT
DTSTART;TZID=America/Chicago:20260427T110000
DTEND;TZID=America/Chicago:20260427T120000
DTSTAMP:20260424T124830
CREATED:20251106T010826Z
LAST-MODIFIED:20260203T222400Z
UID:10002589-1777287600-1777291200@cccaustin.org
SUMMARY:Staff Meeting
DESCRIPTION:
URL:https://cccaustin.org/event/staff-meeting/2026-04-27/
LOCATION:Central Christian Church\, 1110 Guadalupe Street\, Austin\, 78701\, United States
ATTACH;FMTTYPE=image/jpeg:https://cccaustin.org/wp-content/uploads/2025/11/teaching-in-2020-3.jpg
END:VEVENT
BEGIN:VEVENT
DTSTART;TZID=America/Chicago:20260429T080000
DTEND;TZID=America/Chicago:20260429T090000
DTSTAMP:20260424T124830
CREATED:20230904T000049Z
LAST-MODIFIED:20260303T231046Z
UID:10001138-1777449600-1777453200@cccaustin.org
SUMMARY:Open Sanctuary
DESCRIPTION:The sanctuary will be open to welcome all for a time of meditation and reflection. Come by and be sure to share with your friends\, neighbors\, and co-workers who may also like to drop by. Pastor Layne will be on hand on his Pastor’s Porch at the front door with fresh coffee\, breakfast bars\, conversation\, smiles\, and the Joke of the Day.
URL:https://cccaustin.org/event/open-sanctuary/2026-04-29/
LOCATION:Central Christian Church\, 1110 Guadalupe Street\, Austin\, 78701\, United States
ATTACH;FMTTYPE=image/jpeg:https://cccaustin.org/wp-content/uploads/2023/09/Sanctuary2.jpg
END:VEVENT
BEGIN:VEVENT
DTSTART;TZID=America/Chicago:20260503T110000
DTEND;TZID=America/Chicago:20260503T120000
DTSTAMP:20260424T124830
CREATED:20241210T164358Z
LAST-MODIFIED:20260324T031230Z
UID:10003230-1777806000-1777809600@cccaustin.org
SUMMARY:Worship Service
DESCRIPTION:Please join us each Sunday morning at 11am in person\, or livestreaming on our facebook page (link below) to take part in our worship service as we share fellowship\, music\, Communion\, and a thought provoking sermon. We hope to see you! \n\nhttps://www.facebook.com/CentralChristianChurchAustin
URL:https://cccaustin.org/event/worship-service-3/2026-05-03/
LOCATION:Central Christian Church\, 1110 Guadalupe Street\, Austin\, 78701\, United States
ATTACH;FMTTYPE=image/jpeg:https://cccaustin.org/wp-content/uploads/2022/07/worship2.jpg
END:VEVENT
BEGIN:VEVENT
DTSTART;TZID=America/Chicago:20260504T080000
DTEND;TZID=America/Chicago:20260504T090000
DTSTAMP:20260424T124830
CREATED:20230904T000049Z
LAST-MODIFIED:20260303T231046Z
UID:10001139-1777881600-1777885200@cccaustin.org
SUMMARY:Open Sanctuary
DESCRIPTION:The sanctuary will be open to welcome all for a time of meditation and reflection. Come by and be sure to share with your friends\, neighbors\, and co-workers who may also like to drop by. Pastor Layne will be on hand on his Pastor’s Porch at the front door with fresh coffee\, breakfast bars\, conversation\, smiles\, and the Joke of the Day.
URL:https://cccaustin.org/event/open-sanctuary/2026-05-04/
LOCATION:Central Christian Church\, 1110 Guadalupe Street\, Austin\, 78701\, United States
ATTACH;FMTTYPE=image/jpeg:https://cccaustin.org/wp-content/uploads/2023/09/Sanctuary2.jpg
END:VEVENT
BEGIN:VEVENT
DTSTART;TZID=America/Chicago:20260504T110000
DTEND;TZID=America/Chicago:20260504T120000
DTSTAMP:20260424T124830
CREATED:20251106T010826Z
LAST-MODIFIED:20260203T222400Z
UID:10002590-1777892400-1777896000@cccaustin.org
SUMMARY:Staff Meeting
DESCRIPTION:
URL:https://cccaustin.org/event/staff-meeting/2026-05-04/
LOCATION:Central Christian Church\, 1110 Guadalupe Street\, Austin\, 78701\, United States
ATTACH;FMTTYPE=image/jpeg:https://cccaustin.org/wp-content/uploads/2025/11/teaching-in-2020-3.jpg
END:VEVENT
BEGIN:VEVENT
DTSTART;TZID=America/Chicago:20260504T183000
DTEND;TZID=America/Chicago:20260504T200000
DTSTAMP:20260424T124830
CREATED:20251201T162815Z
LAST-MODIFIED:20251201T162815Z
UID:10002641-1777919400-1777924800@cccaustin.org
SUMMARY:NAMI Meeting
DESCRIPTION:
URL:https://cccaustin.org/event/nami-meeting/2026-05-04/
LOCATION:Central Christian Church\, 1110 Guadalupe Street\, Austin\, 78701\, United States
ATTACH;FMTTYPE=image/jpeg:https://cccaustin.org/wp-content/uploads/2025/12/NAMI.jpeg
END:VEVENT
BEGIN:VEVENT
DTSTART;TZID=America/Chicago:20260506T080000
DTEND;TZID=America/Chicago:20260506T090000
DTSTAMP:20260424T124830
CREATED:20230904T000049Z
LAST-MODIFIED:20260303T231046Z
UID:10001140-1778054400-1778058000@cccaustin.org
SUMMARY:Open Sanctuary
DESCRIPTION:The sanctuary will be open to welcome all for a time of meditation and reflection. Come by and be sure to share with your friends\, neighbors\, and co-workers who may also like to drop by. Pastor Layne will be on hand on his Pastor’s Porch at the front door with fresh coffee\, breakfast bars\, conversation\, smiles\, and the Joke of the Day.
URL:https://cccaustin.org/event/open-sanctuary/2026-05-06/
LOCATION:Central Christian Church\, 1110 Guadalupe Street\, Austin\, 78701\, United States
ATTACH;FMTTYPE=image/jpeg:https://cccaustin.org/wp-content/uploads/2023/09/Sanctuary2.jpg
END:VEVENT
BEGIN:VEVENT
DTSTART;TZID=America/Chicago:20260510T110000
DTEND;TZID=America/Chicago:20260510T120000
DTSTAMP:20260424T124830
CREATED:20241210T164358Z
LAST-MODIFIED:20260324T031230Z
UID:10003231-1778410800-1778414400@cccaustin.org
SUMMARY:Worship Service
DESCRIPTION:Please join us each Sunday morning at 11am in person\, or livestreaming on our facebook page (link below) to take part in our worship service as we share fellowship\, music\, Communion\, and a thought provoking sermon. We hope to see you! \n\nhttps://www.facebook.com/CentralChristianChurchAustin
URL:https://cccaustin.org/event/worship-service-3/2026-05-10/
LOCATION:Central Christian Church\, 1110 Guadalupe Street\, Austin\, 78701\, United States
ATTACH;FMTTYPE=image/jpeg:https://cccaustin.org/wp-content/uploads/2022/07/worship2.jpg
END:VEVENT
BEGIN:VEVENT
DTSTART;TZID=America/Chicago:20260511T080000
DTEND;TZID=America/Chicago:20260511T090000
DTSTAMP:20260424T124830
CREATED:20230904T000049Z
LAST-MODIFIED:20260303T231046Z
UID:10001141-1778486400-1778490000@cccaustin.org
SUMMARY:Open Sanctuary
DESCRIPTION:The sanctuary will be open to welcome all for a time of meditation and reflection. Come by and be sure to share with your friends\, neighbors\, and co-workers who may also like to drop by. Pastor Layne will be on hand on his Pastor’s Porch at the front door with fresh coffee\, breakfast bars\, conversation\, smiles\, and the Joke of the Day.
URL:https://cccaustin.org/event/open-sanctuary/2026-05-11/
LOCATION:Central Christian Church\, 1110 Guadalupe Street\, Austin\, 78701\, United States
ATTACH;FMTTYPE=image/jpeg:https://cccaustin.org/wp-content/uploads/2023/09/Sanctuary2.jpg
END:VEVENT
BEGIN:VEVENT
DTSTART;TZID=America/Chicago:20260511T110000
DTEND;TZID=America/Chicago:20260511T120000
DTSTAMP:20260424T124830
CREATED:20251106T010826Z
LAST-MODIFIED:20260203T222400Z
UID:10002591-1778497200-1778500800@cccaustin.org
SUMMARY:Staff Meeting
DESCRIPTION:
URL:https://cccaustin.org/event/staff-meeting/2026-05-11/
LOCATION:Central Christian Church\, 1110 Guadalupe Street\, Austin\, 78701\, United States
ATTACH;FMTTYPE=image/jpeg:https://cccaustin.org/wp-content/uploads/2025/11/teaching-in-2020-3.jpg
END:VEVENT
BEGIN:VEVENT
DTSTART;TZID=America/Chicago:20260513T080000
DTEND;TZID=America/Chicago:20260513T090000
DTSTAMP:20260424T124830
CREATED:20230904T000049Z
LAST-MODIFIED:20260303T231046Z
UID:10001142-1778659200-1778662800@cccaustin.org
SUMMARY:Open Sanctuary
DESCRIPTION:The sanctuary will be open to welcome all for a time of meditation and reflection. Come by and be sure to share with your friends\, neighbors\, and co-workers who may also like to drop by. Pastor Layne will be on hand on his Pastor’s Porch at the front door with fresh coffee\, breakfast bars\, conversation\, smiles\, and the Joke of the Day.
URL:https://cccaustin.org/event/open-sanctuary/2026-05-13/
LOCATION:Central Christian Church\, 1110 Guadalupe Street\, Austin\, 78701\, United States
ATTACH;FMTTYPE=image/jpeg:https://cccaustin.org/wp-content/uploads/2023/09/Sanctuary2.jpg
END:VEVENT
BEGIN:VEVENT
DTSTART;TZID=America/Chicago:20260517T110000
DTEND;TZID=America/Chicago:20260517T120000
DTSTAMP:20260424T124830
CREATED:20241210T164358Z
LAST-MODIFIED:20260324T031230Z
UID:10003232-1779015600-1779019200@cccaustin.org
SUMMARY:Worship Service
DESCRIPTION:Please join us each Sunday morning at 11am in person\, or livestreaming on our facebook page (link below) to take part in our worship service as we share fellowship\, music\, Communion\, and a thought provoking sermon. We hope to see you! \n\nhttps://www.facebook.com/CentralChristianChurchAustin
URL:https://cccaustin.org/event/worship-service-3/2026-05-17/
LOCATION:Central Christian Church\, 1110 Guadalupe Street\, Austin\, 78701\, United States
ATTACH;FMTTYPE=image/jpeg:https://cccaustin.org/wp-content/uploads/2022/07/worship2.jpg
END:VEVENT
BEGIN:VEVENT
DTSTART;TZID=America/Chicago:20260518T080000
DTEND;TZID=America/Chicago:20260518T090000
DTSTAMP:20260424T124830
CREATED:20230904T000049Z
LAST-MODIFIED:20260303T231046Z
UID:10001143-1779091200-1779094800@cccaustin.org
SUMMARY:Open Sanctuary
DESCRIPTION:The sanctuary will be open to welcome all for a time of meditation and reflection. Come by and be sure to share with your friends\, neighbors\, and co-workers who may also like to drop by. Pastor Layne will be on hand on his Pastor’s Porch at the front door with fresh coffee\, breakfast bars\, conversation\, smiles\, and the Joke of the Day.
URL:https://cccaustin.org/event/open-sanctuary/2026-05-18/
LOCATION:Central Christian Church\, 1110 Guadalupe Street\, Austin\, 78701\, United States
ATTACH;FMTTYPE=image/jpeg:https://cccaustin.org/wp-content/uploads/2023/09/Sanctuary2.jpg
END:VEVENT
BEGIN:VEVENT
DTSTART;TZID=America/Chicago:20260518T110000
DTEND;TZID=America/Chicago:20260518T120000
DTSTAMP:20260424T124830
CREATED:20251106T010826Z
LAST-MODIFIED:20260203T222400Z
UID:10002592-1779102000-1779105600@cccaustin.org
SUMMARY:Staff Meeting
DESCRIPTION:
URL:https://cccaustin.org/event/staff-meeting/2026-05-18/
LOCATION:Central Christian Church\, 1110 Guadalupe Street\, Austin\, 78701\, United States
ATTACH;FMTTYPE=image/jpeg:https://cccaustin.org/wp-content/uploads/2025/11/teaching-in-2020-3.jpg
END:VEVENT
BEGIN:VEVENT
DTSTART;TZID=America/Chicago:20260520T080000
DTEND;TZID=America/Chicago:20260520T090000
DTSTAMP:20260424T124830
CREATED:20230904T000049Z
LAST-MODIFIED:20260303T231046Z
UID:10001144-1779264000-1779267600@cccaustin.org
SUMMARY:Open Sanctuary
DESCRIPTION:The sanctuary will be open to welcome all for a time of meditation and reflection. Come by and be sure to share with your friends\, neighbors\, and co-workers who may also like to drop by. Pastor Layne will be on hand on his Pastor’s Porch at the front door with fresh coffee\, breakfast bars\, conversation\, smiles\, and the Joke of the Day.
URL:https://cccaustin.org/event/open-sanctuary/2026-05-20/
LOCATION:Central Christian Church\, 1110 Guadalupe Street\, Austin\, 78701\, United States
ATTACH;FMTTYPE=image/jpeg:https://cccaustin.org/wp-content/uploads/2023/09/Sanctuary2.jpg
END:VEVENT
BEGIN:VEVENT
DTSTART;TZID=America/Chicago:20260524T110000
DTEND;TZID=America/Chicago:20260524T120000
DTSTAMP:20260424T124830
CREATED:20241210T164358Z
LAST-MODIFIED:20260324T031230Z
UID:10003233-1779620400-1779624000@cccaustin.org
SUMMARY:Worship Service
DESCRIPTION:Please join us each Sunday morning at 11am in person\, or livestreaming on our facebook page (link below) to take part in our worship service as we share fellowship\, music\, Communion\, and a thought provoking sermon. We hope to see you! \n\nhttps://www.facebook.com/CentralChristianChurchAustin
URL:https://cccaustin.org/event/worship-service-3/2026-05-24/
LOCATION:Central Christian Church\, 1110 Guadalupe Street\, Austin\, 78701\, United States
ATTACH;FMTTYPE=image/jpeg:https://cccaustin.org/wp-content/uploads/2022/07/worship2.jpg
END:VEVENT
BEGIN:VEVENT
DTSTART;TZID=America/Chicago:20260525T080000
DTEND;TZID=America/Chicago:20260525T090000
DTSTAMP:20260424T124830
CREATED:20230904T000049Z
LAST-MODIFIED:20260303T231046Z
UID:10001145-1779696000-1779699600@cccaustin.org
SUMMARY:Open Sanctuary
DESCRIPTION:The sanctuary will be open to welcome all for a time of meditation and reflection. Come by and be sure to share with your friends\, neighbors\, and co-workers who may also like to drop by. Pastor Layne will be on hand on his Pastor’s Porch at the front door with fresh coffee\, breakfast bars\, conversation\, smiles\, and the Joke of the Day.
URL:https://cccaustin.org/event/open-sanctuary/2026-05-25/
LOCATION:Central Christian Church\, 1110 Guadalupe Street\, Austin\, 78701\, United States
ATTACH;FMTTYPE=image/jpeg:https://cccaustin.org/wp-content/uploads/2023/09/Sanctuary2.jpg
END:VEVENT
BEGIN:VEVENT
DTSTART;TZID=America/Chicago:20260525T110000
DTEND;TZID=America/Chicago:20260525T120000
DTSTAMP:20260424T124830
CREATED:20251106T010826Z
LAST-MODIFIED:20260203T222400Z
UID:10002593-1779706800-1779710400@cccaustin.org
SUMMARY:Staff Meeting
DESCRIPTION:
URL:https://cccaustin.org/event/staff-meeting/2026-05-25/
LOCATION:Central Christian Church\, 1110 Guadalupe Street\, Austin\, 78701\, United States
ATTACH;FMTTYPE=image/jpeg:https://cccaustin.org/wp-content/uploads/2025/11/teaching-in-2020-3.jpg
END:VEVENT
BEGIN:VEVENT
DTSTART;TZID=America/Chicago:20260527T080000
DTEND;TZID=America/Chicago:20260527T090000
DTSTAMP:20260424T124830
CREATED:20230904T000049Z
LAST-MODIFIED:20260303T231046Z
UID:10001146-1779868800-1779872400@cccaustin.org
SUMMARY:Open Sanctuary
DESCRIPTION:The sanctuary will be open to welcome all for a time of meditation and reflection. Come by and be sure to share with your friends\, neighbors\, and co-workers who may also like to drop by. Pastor Layne will be on hand on his Pastor’s Porch at the front door with fresh coffee\, breakfast bars\, conversation\, smiles\, and the Joke of the Day.
URL:https://cccaustin.org/event/open-sanctuary/2026-05-27/
LOCATION:Central Christian Church\, 1110 Guadalupe Street\, Austin\, 78701\, United States
ATTACH;FMTTYPE=image/jpeg:https://cccaustin.org/wp-content/uploads/2023/09/Sanctuary2.jpg
END:VEVENT
BEGIN:VEVENT
DTSTART;TZID=America/Chicago:20260531T110000
DTEND;TZID=America/Chicago:20260531T120000
DTSTAMP:20260424T124830
CREATED:20241210T164358Z
LAST-MODIFIED:20260324T031230Z
UID:10003234-1780225200-1780228800@cccaustin.org
SUMMARY:Worship Service
DESCRIPTION:Please join us each Sunday morning at 11am in person\, or livestreaming on our facebook page (link below) to take part in our worship service as we share fellowship\, music\, Communion\, and a thought provoking sermon. We hope to see you! \n\nhttps://www.facebook.com/CentralChristianChurchAustin
URL:https://cccaustin.org/event/worship-service-3/2026-05-31/
LOCATION:Central Christian Church\, 1110 Guadalupe Street\, Austin\, 78701\, United States
ATTACH;FMTTYPE=image/jpeg:https://cccaustin.org/wp-content/uploads/2022/07/worship2.jpg
END:VEVENT
BEGIN:VEVENT
DTSTART;TZID=America/Chicago:20260601T080000
DTEND;TZID=America/Chicago:20260601T090000
DTSTAMP:20260424T124830
CREATED:20230904T000049Z
LAST-MODIFIED:20260303T231046Z
UID:10001147-1780300800-1780304400@cccaustin.org
SUMMARY:Open Sanctuary
DESCRIPTION:The sanctuary will be open to welcome all for a time of meditation and reflection. Come by and be sure to share with your friends\, neighbors\, and co-workers who may also like to drop by. Pastor Layne will be on hand on his Pastor’s Porch at the front door with fresh coffee\, breakfast bars\, conversation\, smiles\, and the Joke of the Day.
URL:https://cccaustin.org/event/open-sanctuary/2026-06-01/
LOCATION:Central Christian Church\, 1110 Guadalupe Street\, Austin\, 78701\, United States
ATTACH;FMTTYPE=image/jpeg:https://cccaustin.org/wp-content/uploads/2023/09/Sanctuary2.jpg
END:VEVENT
BEGIN:VEVENT
DTSTART;TZID=America/Chicago:20260601T110000
DTEND;TZID=America/Chicago:20260601T120000
DTSTAMP:20260424T124830
CREATED:20251106T010826Z
LAST-MODIFIED:20260203T222400Z
UID:10002594-1780311600-1780315200@cccaustin.org
SUMMARY:Staff Meeting
DESCRIPTION:
URL:https://cccaustin.org/event/staff-meeting/2026-06-01/
LOCATION:Central Christian Church\, 1110 Guadalupe Street\, Austin\, 78701\, United States
ATTACH;FMTTYPE=image/jpeg:https://cccaustin.org/wp-content/uploads/2025/11/teaching-in-2020-3.jpg
END:VEVENT
BEGIN:VEVENT
DTSTART;TZID=America/Chicago:20260601T183000
DTEND;TZID=America/Chicago:20260601T200000
DTSTAMP:20260424T124830
CREATED:20251201T162815Z
LAST-MODIFIED:20251201T162815Z
UID:10002642-1780338600-1780344000@cccaustin.org
SUMMARY:NAMI Meeting
DESCRIPTION:
URL:https://cccaustin.org/event/nami-meeting/2026-06-01/
LOCATION:Central Christian Church\, 1110 Guadalupe Street\, Austin\, 78701\, United States
ATTACH;FMTTYPE=image/jpeg:https://cccaustin.org/wp-content/uploads/2025/12/NAMI.jpeg
END:VEVENT
BEGIN:VEVENT
DTSTART;TZID=America/Chicago:20260603T080000
DTEND;TZID=America/Chicago:20260603T090000
DTSTAMP:20260424T124830
CREATED:20230904T000049Z
LAST-MODIFIED:20260303T231046Z
UID:10001148-1780473600-1780477200@cccaustin.org
SUMMARY:Open Sanctuary
DESCRIPTION:The sanctuary will be open to welcome all for a time of meditation and reflection. Come by and be sure to share with your friends\, neighbors\, and co-workers who may also like to drop by. Pastor Layne will be on hand on his Pastor’s Porch at the front door with fresh coffee\, breakfast bars\, conversation\, smiles\, and the Joke of the Day.
URL:https://cccaustin.org/event/open-sanctuary/2026-06-03/
LOCATION:Central Christian Church\, 1110 Guadalupe Street\, Austin\, 78701\, United States
ATTACH;FMTTYPE=image/jpeg:https://cccaustin.org/wp-content/uploads/2023/09/Sanctuary2.jpg
END:VEVENT
BEGIN:VEVENT
DTSTART;TZID=America/Chicago:20260607T110000
DTEND;TZID=America/Chicago:20260607T120000
DTSTAMP:20260424T124830
CREATED:20241210T164358Z
LAST-MODIFIED:20260324T031230Z
UID:10003235-1780830000-1780833600@cccaustin.org
SUMMARY:Worship Service
DESCRIPTION:Please join us each Sunday morning at 11am in person\, or livestreaming on our facebook page (link below) to take part in our worship service as we share fellowship\, music\, Communion\, and a thought provoking sermon. We hope to see you! \n\nhttps://www.facebook.com/CentralChristianChurchAustin
URL:https://cccaustin.org/event/worship-service-3/2026-06-07/
LOCATION:Central Christian Church\, 1110 Guadalupe Street\, Austin\, 78701\, United States
ATTACH;FMTTYPE=image/jpeg:https://cccaustin.org/wp-content/uploads/2022/07/worship2.jpg
END:VEVENT
BEGIN:VEVENT
DTSTART;TZID=America/Chicago:20260608T080000
DTEND;TZID=America/Chicago:20260608T090000
DTSTAMP:20260424T124830
CREATED:20230904T000049Z
LAST-MODIFIED:20260303T231046Z
UID:10001149-1780905600-1780909200@cccaustin.org
SUMMARY:Open Sanctuary
DESCRIPTION:The sanctuary will be open to welcome all for a time of meditation and reflection. Come by and be sure to share with your friends\, neighbors\, and co-workers who may also like to drop by. Pastor Layne will be on hand on his Pastor’s Porch at the front door with fresh coffee\, breakfast bars\, conversation\, smiles\, and the Joke of the Day.
URL:https://cccaustin.org/event/open-sanctuary/2026-06-08/
LOCATION:Central Christian Church\, 1110 Guadalupe Street\, Austin\, 78701\, United States
ATTACH;FMTTYPE=image/jpeg:https://cccaustin.org/wp-content/uploads/2023/09/Sanctuary2.jpg
END:VEVENT
BEGIN:VEVENT
DTSTART;TZID=America/Chicago:20260608T110000
DTEND;TZID=America/Chicago:20260608T120000
DTSTAMP:20260424T124830
CREATED:20251106T010826Z
LAST-MODIFIED:20260203T222400Z
UID:10002595-1780916400-1780920000@cccaustin.org
SUMMARY:Staff Meeting
DESCRIPTION:
URL:https://cccaustin.org/event/staff-meeting/2026-06-08/
LOCATION:Central Christian Church\, 1110 Guadalupe Street\, Austin\, 78701\, United States
ATTACH;FMTTYPE=image/jpeg:https://cccaustin.org/wp-content/uploads/2025/11/teaching-in-2020-3.jpg
END:VEVENT
BEGIN:VEVENT
DTSTART;TZID=America/Chicago:20260610T080000
DTEND;TZID=America/Chicago:20260610T090000
DTSTAMP:20260424T124830
CREATED:20230904T000049Z
LAST-MODIFIED:20260303T231046Z
UID:10001150-1781078400-1781082000@cccaustin.org
SUMMARY:Open Sanctuary
DESCRIPTION:The sanctuary will be open to welcome all for a time of meditation and reflection. Come by and be sure to share with your friends\, neighbors\, and co-workers who may also like to drop by. Pastor Layne will be on hand on his Pastor’s Porch at the front door with fresh coffee\, breakfast bars\, conversation\, smiles\, and the Joke of the Day.
URL:https://cccaustin.org/event/open-sanctuary/2026-06-10/
LOCATION:Central Christian Church\, 1110 Guadalupe Street\, Austin\, 78701\, United States
ATTACH;FMTTYPE=image/jpeg:https://cccaustin.org/wp-content/uploads/2023/09/Sanctuary2.jpg
END:VEVENT
END:VCALENDAR