BEGIN:VCALENDAR
VERSION:2.0
PRODID:-//Central Christian Church - ECPv6.15.20//NONSGML v1.0//EN
CALSCALE:GREGORIAN
METHOD:PUBLISH
X-ORIGINAL-URL:https://cccaustin.org
X-WR-CALDESC:Events for Central Christian Church
REFRESH-INTERVAL;VALUE=DURATION:PT1H
X-Robots-Tag:noindex
X-PUBLISHED-TTL:PT1H
BEGIN:VTIMEZONE
TZID:America/Chicago
BEGIN:DAYLIGHT
TZOFFSETFROM:-0600
TZOFFSETTO:-0500
TZNAME:CDT
DTSTART:20250309T080000
END:DAYLIGHT
BEGIN:STANDARD
TZOFFSETFROM:-0500
TZOFFSETTO:-0600
TZNAME:CST
DTSTART:20251102T070000
END:STANDARD
BEGIN:DAYLIGHT
TZOFFSETFROM:-0600
TZOFFSETTO:-0500
TZNAME:CDT
DTSTART:20260308T080000
END:DAYLIGHT
BEGIN:STANDARD
TZOFFSETFROM:-0500
TZOFFSETTO:-0600
TZNAME:CST
DTSTART:20261101T070000
END:STANDARD
BEGIN:DAYLIGHT
TZOFFSETFROM:-0600
TZOFFSETTO:-0500
TZNAME:CDT
DTSTART:20270314T080000
END:DAYLIGHT
BEGIN:STANDARD
TZOFFSETFROM:-0500
TZOFFSETTO:-0600
TZNAME:CST
DTSTART:20271107T070000
END:STANDARD
BEGIN:DAYLIGHT
TZOFFSETFROM:-0600
TZOFFSETTO:-0500
TZNAME:CDT
DTSTART:20280312T080000
END:DAYLIGHT
BEGIN:STANDARD
TZOFFSETFROM:-0500
TZOFFSETTO:-0600
TZNAME:CST
DTSTART:20281105T070000
END:STANDARD
END:VTIMEZONE
BEGIN:VEVENT
DTSTART;TZID=America/Chicago:20261130T080000
DTEND;TZID=America/Chicago:20261130T090000
DTSTAMP:20260425T055611
CREATED:20230904T000049Z
LAST-MODIFIED:20260303T231046Z
UID:10001199-1796025600-1796029200@cccaustin.org
SUMMARY:Open Sanctuary
DESCRIPTION:The sanctuary will be open to welcome all for a time of meditation and reflection. Come by and be sure to share with your friends\, neighbors\, and co-workers who may also like to drop by. Pastor Layne will be on hand on his Pastor’s Porch at the front door with fresh coffee\, breakfast bars\, conversation\, smiles\, and the Joke of the Day.
URL:https://cccaustin.org/event/open-sanctuary/2026-11-30/
LOCATION:Central Christian Church\, 1110 Guadalupe Street\, Austin\, 78701\, United States
ATTACH;FMTTYPE=image/jpeg:https://cccaustin.org/wp-content/uploads/2023/09/Sanctuary2.jpg
END:VEVENT
BEGIN:VEVENT
DTSTART;TZID=America/Chicago:20261130T110000
DTEND;TZID=America/Chicago:20261130T120000
DTSTAMP:20260425T055611
CREATED:20251106T010826Z
LAST-MODIFIED:20260203T222400Z
UID:10002620-1796036400-1796040000@cccaustin.org
SUMMARY:Staff Meeting
DESCRIPTION:
URL:https://cccaustin.org/event/staff-meeting/2026-11-30/
LOCATION:Central Christian Church\, 1110 Guadalupe Street\, Austin\, 78701\, United States
ATTACH;FMTTYPE=image/jpeg:https://cccaustin.org/wp-content/uploads/2025/11/teaching-in-2020-3.jpg
END:VEVENT
BEGIN:VEVENT
DTSTART;TZID=America/Chicago:20261202T080000
DTEND;TZID=America/Chicago:20261202T090000
DTSTAMP:20260425T055611
CREATED:20230904T000049Z
LAST-MODIFIED:20260303T231046Z
UID:10001200-1796198400-1796202000@cccaustin.org
SUMMARY:Open Sanctuary
DESCRIPTION:The sanctuary will be open to welcome all for a time of meditation and reflection. Come by and be sure to share with your friends\, neighbors\, and co-workers who may also like to drop by. Pastor Layne will be on hand on his Pastor’s Porch at the front door with fresh coffee\, breakfast bars\, conversation\, smiles\, and the Joke of the Day.
URL:https://cccaustin.org/event/open-sanctuary/2026-12-02/
LOCATION:Central Christian Church\, 1110 Guadalupe Street\, Austin\, 78701\, United States
ATTACH;FMTTYPE=image/jpeg:https://cccaustin.org/wp-content/uploads/2023/09/Sanctuary2.jpg
END:VEVENT
BEGIN:VEVENT
DTSTART;TZID=America/Chicago:20261206T110000
DTEND;TZID=America/Chicago:20261206T120000
DTSTAMP:20260425T055611
CREATED:20241210T164358Z
LAST-MODIFIED:20260324T031230Z
UID:10003261-1796554800-1796558400@cccaustin.org
SUMMARY:Worship Service
DESCRIPTION:Please join us each Sunday morning at 11am in person\, or livestreaming on our facebook page (link below) to take part in our worship service as we share fellowship\, music\, Communion\, and a thought provoking sermon. We hope to see you! \n\nhttps://www.facebook.com/CentralChristianChurchAustin
URL:https://cccaustin.org/event/worship-service-3/2026-12-06/
LOCATION:Central Christian Church\, 1110 Guadalupe Street\, Austin\, 78701\, United States
ATTACH;FMTTYPE=image/jpeg:https://cccaustin.org/wp-content/uploads/2022/07/worship2.jpg
END:VEVENT
BEGIN:VEVENT
DTSTART;TZID=America/Chicago:20261207T080000
DTEND;TZID=America/Chicago:20261207T090000
DTSTAMP:20260425T055611
CREATED:20230904T000049Z
LAST-MODIFIED:20260303T231046Z
UID:10001201-1796630400-1796634000@cccaustin.org
SUMMARY:Open Sanctuary
DESCRIPTION:The sanctuary will be open to welcome all for a time of meditation and reflection. Come by and be sure to share with your friends\, neighbors\, and co-workers who may also like to drop by. Pastor Layne will be on hand on his Pastor’s Porch at the front door with fresh coffee\, breakfast bars\, conversation\, smiles\, and the Joke of the Day.
URL:https://cccaustin.org/event/open-sanctuary/2026-12-07/
LOCATION:Central Christian Church\, 1110 Guadalupe Street\, Austin\, 78701\, United States
ATTACH;FMTTYPE=image/jpeg:https://cccaustin.org/wp-content/uploads/2023/09/Sanctuary2.jpg
END:VEVENT
BEGIN:VEVENT
DTSTART;TZID=America/Chicago:20261207T110000
DTEND;TZID=America/Chicago:20261207T120000
DTSTAMP:20260425T055611
CREATED:20251106T010826Z
LAST-MODIFIED:20260203T222400Z
UID:10002621-1796641200-1796644800@cccaustin.org
SUMMARY:Staff Meeting
DESCRIPTION:
URL:https://cccaustin.org/event/staff-meeting/2026-12-07/
LOCATION:Central Christian Church\, 1110 Guadalupe Street\, Austin\, 78701\, United States
ATTACH;FMTTYPE=image/jpeg:https://cccaustin.org/wp-content/uploads/2025/11/teaching-in-2020-3.jpg
END:VEVENT
BEGIN:VEVENT
DTSTART;TZID=America/Chicago:20261209T080000
DTEND;TZID=America/Chicago:20261209T090000
DTSTAMP:20260425T055611
CREATED:20230904T000049Z
LAST-MODIFIED:20260303T231046Z
UID:10001202-1796803200-1796806800@cccaustin.org
SUMMARY:Open Sanctuary
DESCRIPTION:The sanctuary will be open to welcome all for a time of meditation and reflection. Come by and be sure to share with your friends\, neighbors\, and co-workers who may also like to drop by. Pastor Layne will be on hand on his Pastor’s Porch at the front door with fresh coffee\, breakfast bars\, conversation\, smiles\, and the Joke of the Day.
URL:https://cccaustin.org/event/open-sanctuary/2026-12-09/
LOCATION:Central Christian Church\, 1110 Guadalupe Street\, Austin\, 78701\, United States
ATTACH;FMTTYPE=image/jpeg:https://cccaustin.org/wp-content/uploads/2023/09/Sanctuary2.jpg
END:VEVENT
BEGIN:VEVENT
DTSTART;TZID=America/Chicago:20261213T110000
DTEND;TZID=America/Chicago:20261213T120000
DTSTAMP:20260425T055611
CREATED:20241210T164358Z
LAST-MODIFIED:20260324T031230Z
UID:10003262-1797159600-1797163200@cccaustin.org
SUMMARY:Worship Service
DESCRIPTION:Please join us each Sunday morning at 11am in person\, or livestreaming on our facebook page (link below) to take part in our worship service as we share fellowship\, music\, Communion\, and a thought provoking sermon. We hope to see you! \n\nhttps://www.facebook.com/CentralChristianChurchAustin
URL:https://cccaustin.org/event/worship-service-3/2026-12-13/
LOCATION:Central Christian Church\, 1110 Guadalupe Street\, Austin\, 78701\, United States
ATTACH;FMTTYPE=image/jpeg:https://cccaustin.org/wp-content/uploads/2022/07/worship2.jpg
END:VEVENT
BEGIN:VEVENT
DTSTART;TZID=America/Chicago:20261214T080000
DTEND;TZID=America/Chicago:20261214T090000
DTSTAMP:20260425T055611
CREATED:20230904T000049Z
LAST-MODIFIED:20260303T231046Z
UID:10001203-1797235200-1797238800@cccaustin.org
SUMMARY:Open Sanctuary
DESCRIPTION:The sanctuary will be open to welcome all for a time of meditation and reflection. Come by and be sure to share with your friends\, neighbors\, and co-workers who may also like to drop by. Pastor Layne will be on hand on his Pastor’s Porch at the front door with fresh coffee\, breakfast bars\, conversation\, smiles\, and the Joke of the Day.
URL:https://cccaustin.org/event/open-sanctuary/2026-12-14/
LOCATION:Central Christian Church\, 1110 Guadalupe Street\, Austin\, 78701\, United States
ATTACH;FMTTYPE=image/jpeg:https://cccaustin.org/wp-content/uploads/2023/09/Sanctuary2.jpg
END:VEVENT
BEGIN:VEVENT
DTSTART;TZID=America/Chicago:20261214T110000
DTEND;TZID=America/Chicago:20261214T120000
DTSTAMP:20260425T055611
CREATED:20251106T010826Z
LAST-MODIFIED:20260203T222400Z
UID:10002622-1797246000-1797249600@cccaustin.org
SUMMARY:Staff Meeting
DESCRIPTION:
URL:https://cccaustin.org/event/staff-meeting/2026-12-14/
LOCATION:Central Christian Church\, 1110 Guadalupe Street\, Austin\, 78701\, United States
ATTACH;FMTTYPE=image/jpeg:https://cccaustin.org/wp-content/uploads/2025/11/teaching-in-2020-3.jpg
END:VEVENT
BEGIN:VEVENT
DTSTART;TZID=America/Chicago:20261216T080000
DTEND;TZID=America/Chicago:20261216T090000
DTSTAMP:20260425T055611
CREATED:20230904T000049Z
LAST-MODIFIED:20260303T231046Z
UID:10001204-1797408000-1797411600@cccaustin.org
SUMMARY:Open Sanctuary
DESCRIPTION:The sanctuary will be open to welcome all for a time of meditation and reflection. Come by and be sure to share with your friends\, neighbors\, and co-workers who may also like to drop by. Pastor Layne will be on hand on his Pastor’s Porch at the front door with fresh coffee\, breakfast bars\, conversation\, smiles\, and the Joke of the Day.
URL:https://cccaustin.org/event/open-sanctuary/2026-12-16/
LOCATION:Central Christian Church\, 1110 Guadalupe Street\, Austin\, 78701\, United States
ATTACH;FMTTYPE=image/jpeg:https://cccaustin.org/wp-content/uploads/2023/09/Sanctuary2.jpg
END:VEVENT
BEGIN:VEVENT
DTSTART;TZID=America/Chicago:20261220T110000
DTEND;TZID=America/Chicago:20261220T120000
DTSTAMP:20260425T055611
CREATED:20241210T164358Z
LAST-MODIFIED:20260324T031230Z
UID:10003263-1797764400-1797768000@cccaustin.org
SUMMARY:Worship Service
DESCRIPTION:Please join us each Sunday morning at 11am in person\, or livestreaming on our facebook page (link below) to take part in our worship service as we share fellowship\, music\, Communion\, and a thought provoking sermon. We hope to see you! \n\nhttps://www.facebook.com/CentralChristianChurchAustin
URL:https://cccaustin.org/event/worship-service-3/2026-12-20/
LOCATION:Central Christian Church\, 1110 Guadalupe Street\, Austin\, 78701\, United States
ATTACH;FMTTYPE=image/jpeg:https://cccaustin.org/wp-content/uploads/2022/07/worship2.jpg
END:VEVENT
BEGIN:VEVENT
DTSTART;TZID=America/Chicago:20261221T080000
DTEND;TZID=America/Chicago:20261221T090000
DTSTAMP:20260425T055611
CREATED:20230904T000049Z
LAST-MODIFIED:20260303T231046Z
UID:10001205-1797840000-1797843600@cccaustin.org
SUMMARY:Open Sanctuary
DESCRIPTION:The sanctuary will be open to welcome all for a time of meditation and reflection. Come by and be sure to share with your friends\, neighbors\, and co-workers who may also like to drop by. Pastor Layne will be on hand on his Pastor’s Porch at the front door with fresh coffee\, breakfast bars\, conversation\, smiles\, and the Joke of the Day.
URL:https://cccaustin.org/event/open-sanctuary/2026-12-21/
LOCATION:Central Christian Church\, 1110 Guadalupe Street\, Austin\, 78701\, United States
ATTACH;FMTTYPE=image/jpeg:https://cccaustin.org/wp-content/uploads/2023/09/Sanctuary2.jpg
END:VEVENT
BEGIN:VEVENT
DTSTART;TZID=America/Chicago:20261221T110000
DTEND;TZID=America/Chicago:20261221T120000
DTSTAMP:20260425T055611
CREATED:20251106T010826Z
LAST-MODIFIED:20260203T222400Z
UID:10002623-1797850800-1797854400@cccaustin.org
SUMMARY:Staff Meeting
DESCRIPTION:
URL:https://cccaustin.org/event/staff-meeting/2026-12-21/
LOCATION:Central Christian Church\, 1110 Guadalupe Street\, Austin\, 78701\, United States
ATTACH;FMTTYPE=image/jpeg:https://cccaustin.org/wp-content/uploads/2025/11/teaching-in-2020-3.jpg
END:VEVENT
BEGIN:VEVENT
DTSTART;TZID=America/Chicago:20261223T080000
DTEND;TZID=America/Chicago:20261223T090000
DTSTAMP:20260425T055611
CREATED:20230904T000049Z
LAST-MODIFIED:20260303T231046Z
UID:10001206-1798012800-1798016400@cccaustin.org
SUMMARY:Open Sanctuary
DESCRIPTION:The sanctuary will be open to welcome all for a time of meditation and reflection. Come by and be sure to share with your friends\, neighbors\, and co-workers who may also like to drop by. Pastor Layne will be on hand on his Pastor’s Porch at the front door with fresh coffee\, breakfast bars\, conversation\, smiles\, and the Joke of the Day.
URL:https://cccaustin.org/event/open-sanctuary/2026-12-23/
LOCATION:Central Christian Church\, 1110 Guadalupe Street\, Austin\, 78701\, United States
ATTACH;FMTTYPE=image/jpeg:https://cccaustin.org/wp-content/uploads/2023/09/Sanctuary2.jpg
END:VEVENT
BEGIN:VEVENT
DTSTART;TZID=America/Chicago:20261227T110000
DTEND;TZID=America/Chicago:20261227T120000
DTSTAMP:20260425T055611
CREATED:20241210T164358Z
LAST-MODIFIED:20260324T031230Z
UID:10003264-1798369200-1798372800@cccaustin.org
SUMMARY:Worship Service
DESCRIPTION:Please join us each Sunday morning at 11am in person\, or livestreaming on our facebook page (link below) to take part in our worship service as we share fellowship\, music\, Communion\, and a thought provoking sermon. We hope to see you! \n\nhttps://www.facebook.com/CentralChristianChurchAustin
URL:https://cccaustin.org/event/worship-service-3/2026-12-27/
LOCATION:Central Christian Church\, 1110 Guadalupe Street\, Austin\, 78701\, United States
ATTACH;FMTTYPE=image/jpeg:https://cccaustin.org/wp-content/uploads/2022/07/worship2.jpg
END:VEVENT
BEGIN:VEVENT
DTSTART;TZID=America/Chicago:20261228T080000
DTEND;TZID=America/Chicago:20261228T090000
DTSTAMP:20260425T055611
CREATED:20230904T000049Z
LAST-MODIFIED:20260303T231046Z
UID:10001207-1798444800-1798448400@cccaustin.org
SUMMARY:Open Sanctuary
DESCRIPTION:The sanctuary will be open to welcome all for a time of meditation and reflection. Come by and be sure to share with your friends\, neighbors\, and co-workers who may also like to drop by. Pastor Layne will be on hand on his Pastor’s Porch at the front door with fresh coffee\, breakfast bars\, conversation\, smiles\, and the Joke of the Day.
URL:https://cccaustin.org/event/open-sanctuary/2026-12-28/
LOCATION:Central Christian Church\, 1110 Guadalupe Street\, Austin\, 78701\, United States
ATTACH;FMTTYPE=image/jpeg:https://cccaustin.org/wp-content/uploads/2023/09/Sanctuary2.jpg
END:VEVENT
BEGIN:VEVENT
DTSTART;TZID=America/Chicago:20261228T110000
DTEND;TZID=America/Chicago:20261228T120000
DTSTAMP:20260425T055611
CREATED:20251106T010826Z
LAST-MODIFIED:20260203T222400Z
UID:10002624-1798455600-1798459200@cccaustin.org
SUMMARY:Staff Meeting
DESCRIPTION:
URL:https://cccaustin.org/event/staff-meeting/2026-12-28/
LOCATION:Central Christian Church\, 1110 Guadalupe Street\, Austin\, 78701\, United States
ATTACH;FMTTYPE=image/jpeg:https://cccaustin.org/wp-content/uploads/2025/11/teaching-in-2020-3.jpg
END:VEVENT
BEGIN:VEVENT
DTSTART;TZID=America/Chicago:20261230T080000
DTEND;TZID=America/Chicago:20261230T090000
DTSTAMP:20260425T055611
CREATED:20230904T000049Z
LAST-MODIFIED:20260303T231046Z
UID:10001208-1798617600-1798621200@cccaustin.org
SUMMARY:Open Sanctuary
DESCRIPTION:The sanctuary will be open to welcome all for a time of meditation and reflection. Come by and be sure to share with your friends\, neighbors\, and co-workers who may also like to drop by. Pastor Layne will be on hand on his Pastor’s Porch at the front door with fresh coffee\, breakfast bars\, conversation\, smiles\, and the Joke of the Day.
URL:https://cccaustin.org/event/open-sanctuary/2026-12-30/
LOCATION:Central Christian Church\, 1110 Guadalupe Street\, Austin\, 78701\, United States
ATTACH;FMTTYPE=image/jpeg:https://cccaustin.org/wp-content/uploads/2023/09/Sanctuary2.jpg
END:VEVENT
BEGIN:VEVENT
DTSTART;TZID=America/Chicago:20270103T110000
DTEND;TZID=America/Chicago:20270103T120000
DTSTAMP:20260425T055611
CREATED:20241210T164358Z
LAST-MODIFIED:20260324T031230Z
UID:10003265-1798974000-1798977600@cccaustin.org
SUMMARY:Worship Service
DESCRIPTION:Please join us each Sunday morning at 11am in person\, or livestreaming on our facebook page (link below) to take part in our worship service as we share fellowship\, music\, Communion\, and a thought provoking sermon. We hope to see you! \n\nhttps://www.facebook.com/CentralChristianChurchAustin
URL:https://cccaustin.org/event/worship-service-3/2027-01-03/
LOCATION:Central Christian Church\, 1110 Guadalupe Street\, Austin\, 78701\, United States
ATTACH;FMTTYPE=image/jpeg:https://cccaustin.org/wp-content/uploads/2022/07/worship2.jpg
END:VEVENT
BEGIN:VEVENT
DTSTART;TZID=America/Chicago:20270104T080000
DTEND;TZID=America/Chicago:20270104T090000
DTSTAMP:20260425T055611
CREATED:20230904T000049Z
LAST-MODIFIED:20260303T231046Z
UID:10001209-1799049600-1799053200@cccaustin.org
SUMMARY:Open Sanctuary
DESCRIPTION:The sanctuary will be open to welcome all for a time of meditation and reflection. Come by and be sure to share with your friends\, neighbors\, and co-workers who may also like to drop by. Pastor Layne will be on hand on his Pastor’s Porch at the front door with fresh coffee\, breakfast bars\, conversation\, smiles\, and the Joke of the Day.
URL:https://cccaustin.org/event/open-sanctuary/2027-01-04/
LOCATION:Central Christian Church\, 1110 Guadalupe Street\, Austin\, 78701\, United States
ATTACH;FMTTYPE=image/jpeg:https://cccaustin.org/wp-content/uploads/2023/09/Sanctuary2.jpg
END:VEVENT
BEGIN:VEVENT
DTSTART;TZID=America/Chicago:20270106T080000
DTEND;TZID=America/Chicago:20270106T090000
DTSTAMP:20260425T055611
CREATED:20230904T000049Z
LAST-MODIFIED:20260303T231046Z
UID:10001210-1799222400-1799226000@cccaustin.org
SUMMARY:Open Sanctuary
DESCRIPTION:The sanctuary will be open to welcome all for a time of meditation and reflection. Come by and be sure to share with your friends\, neighbors\, and co-workers who may also like to drop by. Pastor Layne will be on hand on his Pastor’s Porch at the front door with fresh coffee\, breakfast bars\, conversation\, smiles\, and the Joke of the Day.
URL:https://cccaustin.org/event/open-sanctuary/2027-01-06/
LOCATION:Central Christian Church\, 1110 Guadalupe Street\, Austin\, 78701\, United States
ATTACH;FMTTYPE=image/jpeg:https://cccaustin.org/wp-content/uploads/2023/09/Sanctuary2.jpg
END:VEVENT
BEGIN:VEVENT
DTSTART;TZID=America/Chicago:20270110T110000
DTEND;TZID=America/Chicago:20270110T120000
DTSTAMP:20260425T055611
CREATED:20241210T164358Z
LAST-MODIFIED:20260324T031230Z
UID:10003266-1799578800-1799582400@cccaustin.org
SUMMARY:Worship Service
DESCRIPTION:Please join us each Sunday morning at 11am in person\, or livestreaming on our facebook page (link below) to take part in our worship service as we share fellowship\, music\, Communion\, and a thought provoking sermon. We hope to see you! \n\nhttps://www.facebook.com/CentralChristianChurchAustin
URL:https://cccaustin.org/event/worship-service-3/2027-01-10/
LOCATION:Central Christian Church\, 1110 Guadalupe Street\, Austin\, 78701\, United States
ATTACH;FMTTYPE=image/jpeg:https://cccaustin.org/wp-content/uploads/2022/07/worship2.jpg
END:VEVENT
BEGIN:VEVENT
DTSTART;TZID=America/Chicago:20270111T080000
DTEND;TZID=America/Chicago:20270111T090000
DTSTAMP:20260425T055611
CREATED:20230904T000049Z
LAST-MODIFIED:20260303T231046Z
UID:10001211-1799654400-1799658000@cccaustin.org
SUMMARY:Open Sanctuary
DESCRIPTION:The sanctuary will be open to welcome all for a time of meditation and reflection. Come by and be sure to share with your friends\, neighbors\, and co-workers who may also like to drop by. Pastor Layne will be on hand on his Pastor’s Porch at the front door with fresh coffee\, breakfast bars\, conversation\, smiles\, and the Joke of the Day.
URL:https://cccaustin.org/event/open-sanctuary/2027-01-11/
LOCATION:Central Christian Church\, 1110 Guadalupe Street\, Austin\, 78701\, United States
ATTACH;FMTTYPE=image/jpeg:https://cccaustin.org/wp-content/uploads/2023/09/Sanctuary2.jpg
END:VEVENT
BEGIN:VEVENT
DTSTART;TZID=America/Chicago:20270113T080000
DTEND;TZID=America/Chicago:20270113T090000
DTSTAMP:20260425T055611
CREATED:20230904T000049Z
LAST-MODIFIED:20260303T231046Z
UID:10001212-1799827200-1799830800@cccaustin.org
SUMMARY:Open Sanctuary
DESCRIPTION:The sanctuary will be open to welcome all for a time of meditation and reflection. Come by and be sure to share with your friends\, neighbors\, and co-workers who may also like to drop by. Pastor Layne will be on hand on his Pastor’s Porch at the front door with fresh coffee\, breakfast bars\, conversation\, smiles\, and the Joke of the Day.
URL:https://cccaustin.org/event/open-sanctuary/2027-01-13/
LOCATION:Central Christian Church\, 1110 Guadalupe Street\, Austin\, 78701\, United States
ATTACH;FMTTYPE=image/jpeg:https://cccaustin.org/wp-content/uploads/2023/09/Sanctuary2.jpg
END:VEVENT
BEGIN:VEVENT
DTSTART;TZID=America/Chicago:20270117T110000
DTEND;TZID=America/Chicago:20270117T120000
DTSTAMP:20260425T055611
CREATED:20241210T164358Z
LAST-MODIFIED:20260324T031230Z
UID:10003267-1800183600-1800187200@cccaustin.org
SUMMARY:Worship Service
DESCRIPTION:Please join us each Sunday morning at 11am in person\, or livestreaming on our facebook page (link below) to take part in our worship service as we share fellowship\, music\, Communion\, and a thought provoking sermon. We hope to see you! \n\nhttps://www.facebook.com/CentralChristianChurchAustin
URL:https://cccaustin.org/event/worship-service-3/2027-01-17/
LOCATION:Central Christian Church\, 1110 Guadalupe Street\, Austin\, 78701\, United States
ATTACH;FMTTYPE=image/jpeg:https://cccaustin.org/wp-content/uploads/2022/07/worship2.jpg
END:VEVENT
BEGIN:VEVENT
DTSTART;TZID=America/Chicago:20270118T080000
DTEND;TZID=America/Chicago:20270118T090000
DTSTAMP:20260425T055611
CREATED:20230904T000049Z
LAST-MODIFIED:20260303T231046Z
UID:10001213-1800259200-1800262800@cccaustin.org
SUMMARY:Open Sanctuary
DESCRIPTION:The sanctuary will be open to welcome all for a time of meditation and reflection. Come by and be sure to share with your friends\, neighbors\, and co-workers who may also like to drop by. Pastor Layne will be on hand on his Pastor’s Porch at the front door with fresh coffee\, breakfast bars\, conversation\, smiles\, and the Joke of the Day.
URL:https://cccaustin.org/event/open-sanctuary/2027-01-18/
LOCATION:Central Christian Church\, 1110 Guadalupe Street\, Austin\, 78701\, United States
ATTACH;FMTTYPE=image/jpeg:https://cccaustin.org/wp-content/uploads/2023/09/Sanctuary2.jpg
END:VEVENT
BEGIN:VEVENT
DTSTART;TZID=America/Chicago:20270120T080000
DTEND;TZID=America/Chicago:20270120T090000
DTSTAMP:20260425T055611
CREATED:20230904T000049Z
LAST-MODIFIED:20260303T231046Z
UID:10001214-1800432000-1800435600@cccaustin.org
SUMMARY:Open Sanctuary
DESCRIPTION:The sanctuary will be open to welcome all for a time of meditation and reflection. Come by and be sure to share with your friends\, neighbors\, and co-workers who may also like to drop by. Pastor Layne will be on hand on his Pastor’s Porch at the front door with fresh coffee\, breakfast bars\, conversation\, smiles\, and the Joke of the Day.
URL:https://cccaustin.org/event/open-sanctuary/2027-01-20/
LOCATION:Central Christian Church\, 1110 Guadalupe Street\, Austin\, 78701\, United States
ATTACH;FMTTYPE=image/jpeg:https://cccaustin.org/wp-content/uploads/2023/09/Sanctuary2.jpg
END:VEVENT
BEGIN:VEVENT
DTSTART;TZID=America/Chicago:20270124T110000
DTEND;TZID=America/Chicago:20270124T120000
DTSTAMP:20260425T055611
CREATED:20241210T164358Z
LAST-MODIFIED:20260324T031230Z
UID:10003268-1800788400-1800792000@cccaustin.org
SUMMARY:Worship Service
DESCRIPTION:Please join us each Sunday morning at 11am in person\, or livestreaming on our facebook page (link below) to take part in our worship service as we share fellowship\, music\, Communion\, and a thought provoking sermon. We hope to see you! \n\nhttps://www.facebook.com/CentralChristianChurchAustin
URL:https://cccaustin.org/event/worship-service-3/2027-01-24/
LOCATION:Central Christian Church\, 1110 Guadalupe Street\, Austin\, 78701\, United States
ATTACH;FMTTYPE=image/jpeg:https://cccaustin.org/wp-content/uploads/2022/07/worship2.jpg
END:VEVENT
BEGIN:VEVENT
DTSTART;TZID=America/Chicago:20270125T080000
DTEND;TZID=America/Chicago:20270125T090000
DTSTAMP:20260425T055611
CREATED:20230904T000049Z
LAST-MODIFIED:20260303T231046Z
UID:10001215-1800864000-1800867600@cccaustin.org
SUMMARY:Open Sanctuary
DESCRIPTION:The sanctuary will be open to welcome all for a time of meditation and reflection. Come by and be sure to share with your friends\, neighbors\, and co-workers who may also like to drop by. Pastor Layne will be on hand on his Pastor’s Porch at the front door with fresh coffee\, breakfast bars\, conversation\, smiles\, and the Joke of the Day.
URL:https://cccaustin.org/event/open-sanctuary/2027-01-25/
LOCATION:Central Christian Church\, 1110 Guadalupe Street\, Austin\, 78701\, United States
ATTACH;FMTTYPE=image/jpeg:https://cccaustin.org/wp-content/uploads/2023/09/Sanctuary2.jpg
END:VEVENT
END:VCALENDAR