BEGIN:VCALENDAR
VERSION:2.0
PRODID:-//Central Christian Church - ECPv6.15.20//NONSGML v1.0//EN
CALSCALE:GREGORIAN
METHOD:PUBLISH
X-WR-CALNAME:Central Christian Church
X-ORIGINAL-URL:https://cccaustin.org
X-WR-CALDESC:Events for Central Christian Church
REFRESH-INTERVAL;VALUE=DURATION:PT1H
X-Robots-Tag:noindex
X-PUBLISHED-TTL:PT1H
BEGIN:VTIMEZONE
TZID:America/Chicago
BEGIN:DAYLIGHT
TZOFFSETFROM:-0600
TZOFFSETTO:-0500
TZNAME:CDT
DTSTART:20260308T080000
END:DAYLIGHT
BEGIN:STANDARD
TZOFFSETFROM:-0500
TZOFFSETTO:-0600
TZNAME:CST
DTSTART:20261101T070000
END:STANDARD
BEGIN:DAYLIGHT
TZOFFSETFROM:-0600
TZOFFSETTO:-0500
TZNAME:CDT
DTSTART:20270314T080000
END:DAYLIGHT
BEGIN:STANDARD
TZOFFSETFROM:-0500
TZOFFSETTO:-0600
TZNAME:CST
DTSTART:20271107T070000
END:STANDARD
BEGIN:DAYLIGHT
TZOFFSETFROM:-0600
TZOFFSETTO:-0500
TZNAME:CDT
DTSTART:20280312T080000
END:DAYLIGHT
BEGIN:STANDARD
TZOFFSETFROM:-0500
TZOFFSETTO:-0600
TZNAME:CST
DTSTART:20281105T070000
END:STANDARD
END:VTIMEZONE
BEGIN:VEVENT
DTSTART;TZID=America/Chicago:20270705T080000
DTEND;TZID=America/Chicago:20270705T090000
DTSTAMP:20260425T161317
CREATED:20230904T000049Z
LAST-MODIFIED:20260303T231046Z
UID:10001261-1814774400-1814778000@cccaustin.org
SUMMARY:Open Sanctuary
DESCRIPTION:The sanctuary will be open to welcome all for a time of meditation and reflection. Come by and be sure to share with your friends\, neighbors\, and co-workers who may also like to drop by. Pastor Layne will be on hand on his Pastor’s Porch at the front door with fresh coffee\, breakfast bars\, conversation\, smiles\, and the Joke of the Day.
URL:https://cccaustin.org/event/open-sanctuary/2027-07-05/
LOCATION:Central Christian Church\, 1110 Guadalupe Street\, Austin\, 78701\, United States
ATTACH;FMTTYPE=image/jpeg:https://cccaustin.org/wp-content/uploads/2023/09/Sanctuary2.jpg
END:VEVENT
BEGIN:VEVENT
DTSTART;TZID=America/Chicago:20270707T080000
DTEND;TZID=America/Chicago:20270707T090000
DTSTAMP:20260425T161317
CREATED:20230904T000049Z
LAST-MODIFIED:20260303T231046Z
UID:10001262-1814947200-1814950800@cccaustin.org
SUMMARY:Open Sanctuary
DESCRIPTION:The sanctuary will be open to welcome all for a time of meditation and reflection. Come by and be sure to share with your friends\, neighbors\, and co-workers who may also like to drop by. Pastor Layne will be on hand on his Pastor’s Porch at the front door with fresh coffee\, breakfast bars\, conversation\, smiles\, and the Joke of the Day.
URL:https://cccaustin.org/event/open-sanctuary/2027-07-07/
LOCATION:Central Christian Church\, 1110 Guadalupe Street\, Austin\, 78701\, United States
ATTACH;FMTTYPE=image/jpeg:https://cccaustin.org/wp-content/uploads/2023/09/Sanctuary2.jpg
END:VEVENT
BEGIN:VEVENT
DTSTART;TZID=America/Chicago:20270712T080000
DTEND;TZID=America/Chicago:20270712T090000
DTSTAMP:20260425T161317
CREATED:20230904T000049Z
LAST-MODIFIED:20260303T231046Z
UID:10001263-1815379200-1815382800@cccaustin.org
SUMMARY:Open Sanctuary
DESCRIPTION:The sanctuary will be open to welcome all for a time of meditation and reflection. Come by and be sure to share with your friends\, neighbors\, and co-workers who may also like to drop by. Pastor Layne will be on hand on his Pastor’s Porch at the front door with fresh coffee\, breakfast bars\, conversation\, smiles\, and the Joke of the Day.
URL:https://cccaustin.org/event/open-sanctuary/2027-07-12/
LOCATION:Central Christian Church\, 1110 Guadalupe Street\, Austin\, 78701\, United States
ATTACH;FMTTYPE=image/jpeg:https://cccaustin.org/wp-content/uploads/2023/09/Sanctuary2.jpg
END:VEVENT
BEGIN:VEVENT
DTSTART;TZID=America/Chicago:20270714T080000
DTEND;TZID=America/Chicago:20270714T090000
DTSTAMP:20260425T161317
CREATED:20230904T000049Z
LAST-MODIFIED:20260303T231046Z
UID:10001264-1815552000-1815555600@cccaustin.org
SUMMARY:Open Sanctuary
DESCRIPTION:The sanctuary will be open to welcome all for a time of meditation and reflection. Come by and be sure to share with your friends\, neighbors\, and co-workers who may also like to drop by. Pastor Layne will be on hand on his Pastor’s Porch at the front door with fresh coffee\, breakfast bars\, conversation\, smiles\, and the Joke of the Day.
URL:https://cccaustin.org/event/open-sanctuary/2027-07-14/
LOCATION:Central Christian Church\, 1110 Guadalupe Street\, Austin\, 78701\, United States
ATTACH;FMTTYPE=image/jpeg:https://cccaustin.org/wp-content/uploads/2023/09/Sanctuary2.jpg
END:VEVENT
BEGIN:VEVENT
DTSTART;TZID=America/Chicago:20270719T080000
DTEND;TZID=America/Chicago:20270719T090000
DTSTAMP:20260425T161317
CREATED:20230904T000049Z
LAST-MODIFIED:20260303T231046Z
UID:10001265-1815984000-1815987600@cccaustin.org
SUMMARY:Open Sanctuary
DESCRIPTION:The sanctuary will be open to welcome all for a time of meditation and reflection. Come by and be sure to share with your friends\, neighbors\, and co-workers who may also like to drop by. Pastor Layne will be on hand on his Pastor’s Porch at the front door with fresh coffee\, breakfast bars\, conversation\, smiles\, and the Joke of the Day.
URL:https://cccaustin.org/event/open-sanctuary/2027-07-19/
LOCATION:Central Christian Church\, 1110 Guadalupe Street\, Austin\, 78701\, United States
ATTACH;FMTTYPE=image/jpeg:https://cccaustin.org/wp-content/uploads/2023/09/Sanctuary2.jpg
END:VEVENT
BEGIN:VEVENT
DTSTART;TZID=America/Chicago:20270721T080000
DTEND;TZID=America/Chicago:20270721T090000
DTSTAMP:20260425T161317
CREATED:20230904T000049Z
LAST-MODIFIED:20260303T231046Z
UID:10001266-1816156800-1816160400@cccaustin.org
SUMMARY:Open Sanctuary
DESCRIPTION:The sanctuary will be open to welcome all for a time of meditation and reflection. Come by and be sure to share with your friends\, neighbors\, and co-workers who may also like to drop by. Pastor Layne will be on hand on his Pastor’s Porch at the front door with fresh coffee\, breakfast bars\, conversation\, smiles\, and the Joke of the Day.
URL:https://cccaustin.org/event/open-sanctuary/2027-07-21/
LOCATION:Central Christian Church\, 1110 Guadalupe Street\, Austin\, 78701\, United States
ATTACH;FMTTYPE=image/jpeg:https://cccaustin.org/wp-content/uploads/2023/09/Sanctuary2.jpg
END:VEVENT
BEGIN:VEVENT
DTSTART;TZID=America/Chicago:20270726T080000
DTEND;TZID=America/Chicago:20270726T090000
DTSTAMP:20260425T161317
CREATED:20230904T000049Z
LAST-MODIFIED:20260303T231046Z
UID:10001267-1816588800-1816592400@cccaustin.org
SUMMARY:Open Sanctuary
DESCRIPTION:The sanctuary will be open to welcome all for a time of meditation and reflection. Come by and be sure to share with your friends\, neighbors\, and co-workers who may also like to drop by. Pastor Layne will be on hand on his Pastor’s Porch at the front door with fresh coffee\, breakfast bars\, conversation\, smiles\, and the Joke of the Day.
URL:https://cccaustin.org/event/open-sanctuary/2027-07-26/
LOCATION:Central Christian Church\, 1110 Guadalupe Street\, Austin\, 78701\, United States
ATTACH;FMTTYPE=image/jpeg:https://cccaustin.org/wp-content/uploads/2023/09/Sanctuary2.jpg
END:VEVENT
BEGIN:VEVENT
DTSTART;TZID=America/Chicago:20270728T080000
DTEND;TZID=America/Chicago:20270728T090000
DTSTAMP:20260425T161317
CREATED:20230904T000049Z
LAST-MODIFIED:20260303T231046Z
UID:10001268-1816761600-1816765200@cccaustin.org
SUMMARY:Open Sanctuary
DESCRIPTION:The sanctuary will be open to welcome all for a time of meditation and reflection. Come by and be sure to share with your friends\, neighbors\, and co-workers who may also like to drop by. Pastor Layne will be on hand on his Pastor’s Porch at the front door with fresh coffee\, breakfast bars\, conversation\, smiles\, and the Joke of the Day.
URL:https://cccaustin.org/event/open-sanctuary/2027-07-28/
LOCATION:Central Christian Church\, 1110 Guadalupe Street\, Austin\, 78701\, United States
ATTACH;FMTTYPE=image/jpeg:https://cccaustin.org/wp-content/uploads/2023/09/Sanctuary2.jpg
END:VEVENT
BEGIN:VEVENT
DTSTART;TZID=America/Chicago:20270802T080000
DTEND;TZID=America/Chicago:20270802T090000
DTSTAMP:20260425T161317
CREATED:20230904T000049Z
LAST-MODIFIED:20260303T231046Z
UID:10001269-1817193600-1817197200@cccaustin.org
SUMMARY:Open Sanctuary
DESCRIPTION:The sanctuary will be open to welcome all for a time of meditation and reflection. Come by and be sure to share with your friends\, neighbors\, and co-workers who may also like to drop by. Pastor Layne will be on hand on his Pastor’s Porch at the front door with fresh coffee\, breakfast bars\, conversation\, smiles\, and the Joke of the Day.
URL:https://cccaustin.org/event/open-sanctuary/2027-08-02/
LOCATION:Central Christian Church\, 1110 Guadalupe Street\, Austin\, 78701\, United States
ATTACH;FMTTYPE=image/jpeg:https://cccaustin.org/wp-content/uploads/2023/09/Sanctuary2.jpg
END:VEVENT
BEGIN:VEVENT
DTSTART;TZID=America/Chicago:20270804T080000
DTEND;TZID=America/Chicago:20270804T090000
DTSTAMP:20260425T161317
CREATED:20230904T000049Z
LAST-MODIFIED:20260303T231046Z
UID:10001270-1817366400-1817370000@cccaustin.org
SUMMARY:Open Sanctuary
DESCRIPTION:The sanctuary will be open to welcome all for a time of meditation and reflection. Come by and be sure to share with your friends\, neighbors\, and co-workers who may also like to drop by. Pastor Layne will be on hand on his Pastor’s Porch at the front door with fresh coffee\, breakfast bars\, conversation\, smiles\, and the Joke of the Day.
URL:https://cccaustin.org/event/open-sanctuary/2027-08-04/
LOCATION:Central Christian Church\, 1110 Guadalupe Street\, Austin\, 78701\, United States
ATTACH;FMTTYPE=image/jpeg:https://cccaustin.org/wp-content/uploads/2023/09/Sanctuary2.jpg
END:VEVENT
BEGIN:VEVENT
DTSTART;TZID=America/Chicago:20270809T080000
DTEND;TZID=America/Chicago:20270809T090000
DTSTAMP:20260425T161317
CREATED:20230904T000049Z
LAST-MODIFIED:20260303T231046Z
UID:10001271-1817798400-1817802000@cccaustin.org
SUMMARY:Open Sanctuary
DESCRIPTION:The sanctuary will be open to welcome all for a time of meditation and reflection. Come by and be sure to share with your friends\, neighbors\, and co-workers who may also like to drop by. Pastor Layne will be on hand on his Pastor’s Porch at the front door with fresh coffee\, breakfast bars\, conversation\, smiles\, and the Joke of the Day.
URL:https://cccaustin.org/event/open-sanctuary/2027-08-09/
LOCATION:Central Christian Church\, 1110 Guadalupe Street\, Austin\, 78701\, United States
ATTACH;FMTTYPE=image/jpeg:https://cccaustin.org/wp-content/uploads/2023/09/Sanctuary2.jpg
END:VEVENT
BEGIN:VEVENT
DTSTART;TZID=America/Chicago:20270811T080000
DTEND;TZID=America/Chicago:20270811T090000
DTSTAMP:20260425T161317
CREATED:20230904T000049Z
LAST-MODIFIED:20260303T231046Z
UID:10001272-1817971200-1817974800@cccaustin.org
SUMMARY:Open Sanctuary
DESCRIPTION:The sanctuary will be open to welcome all for a time of meditation and reflection. Come by and be sure to share with your friends\, neighbors\, and co-workers who may also like to drop by. Pastor Layne will be on hand on his Pastor’s Porch at the front door with fresh coffee\, breakfast bars\, conversation\, smiles\, and the Joke of the Day.
URL:https://cccaustin.org/event/open-sanctuary/2027-08-11/
LOCATION:Central Christian Church\, 1110 Guadalupe Street\, Austin\, 78701\, United States
ATTACH;FMTTYPE=image/jpeg:https://cccaustin.org/wp-content/uploads/2023/09/Sanctuary2.jpg
END:VEVENT
BEGIN:VEVENT
DTSTART;TZID=America/Chicago:20270816T080000
DTEND;TZID=America/Chicago:20270816T090000
DTSTAMP:20260425T161317
CREATED:20230904T000049Z
LAST-MODIFIED:20260303T231046Z
UID:10001273-1818403200-1818406800@cccaustin.org
SUMMARY:Open Sanctuary
DESCRIPTION:The sanctuary will be open to welcome all for a time of meditation and reflection. Come by and be sure to share with your friends\, neighbors\, and co-workers who may also like to drop by. Pastor Layne will be on hand on his Pastor’s Porch at the front door with fresh coffee\, breakfast bars\, conversation\, smiles\, and the Joke of the Day.
URL:https://cccaustin.org/event/open-sanctuary/2027-08-16/
LOCATION:Central Christian Church\, 1110 Guadalupe Street\, Austin\, 78701\, United States
ATTACH;FMTTYPE=image/jpeg:https://cccaustin.org/wp-content/uploads/2023/09/Sanctuary2.jpg
END:VEVENT
BEGIN:VEVENT
DTSTART;TZID=America/Chicago:20270818T080000
DTEND;TZID=America/Chicago:20270818T090000
DTSTAMP:20260425T161317
CREATED:20230904T000049Z
LAST-MODIFIED:20260303T231046Z
UID:10001274-1818576000-1818579600@cccaustin.org
SUMMARY:Open Sanctuary
DESCRIPTION:The sanctuary will be open to welcome all for a time of meditation and reflection. Come by and be sure to share with your friends\, neighbors\, and co-workers who may also like to drop by. Pastor Layne will be on hand on his Pastor’s Porch at the front door with fresh coffee\, breakfast bars\, conversation\, smiles\, and the Joke of the Day.
URL:https://cccaustin.org/event/open-sanctuary/2027-08-18/
LOCATION:Central Christian Church\, 1110 Guadalupe Street\, Austin\, 78701\, United States
ATTACH;FMTTYPE=image/jpeg:https://cccaustin.org/wp-content/uploads/2023/09/Sanctuary2.jpg
END:VEVENT
BEGIN:VEVENT
DTSTART;TZID=America/Chicago:20270823T080000
DTEND;TZID=America/Chicago:20270823T090000
DTSTAMP:20260425T161317
CREATED:20230904T000049Z
LAST-MODIFIED:20260303T231046Z
UID:10001275-1819008000-1819011600@cccaustin.org
SUMMARY:Open Sanctuary
DESCRIPTION:The sanctuary will be open to welcome all for a time of meditation and reflection. Come by and be sure to share with your friends\, neighbors\, and co-workers who may also like to drop by. Pastor Layne will be on hand on his Pastor’s Porch at the front door with fresh coffee\, breakfast bars\, conversation\, smiles\, and the Joke of the Day.
URL:https://cccaustin.org/event/open-sanctuary/2027-08-23/
LOCATION:Central Christian Church\, 1110 Guadalupe Street\, Austin\, 78701\, United States
ATTACH;FMTTYPE=image/jpeg:https://cccaustin.org/wp-content/uploads/2023/09/Sanctuary2.jpg
END:VEVENT
BEGIN:VEVENT
DTSTART;TZID=America/Chicago:20270825T080000
DTEND;TZID=America/Chicago:20270825T090000
DTSTAMP:20260425T161317
CREATED:20230904T000049Z
LAST-MODIFIED:20260303T231046Z
UID:10001276-1819180800-1819184400@cccaustin.org
SUMMARY:Open Sanctuary
DESCRIPTION:The sanctuary will be open to welcome all for a time of meditation and reflection. Come by and be sure to share with your friends\, neighbors\, and co-workers who may also like to drop by. Pastor Layne will be on hand on his Pastor’s Porch at the front door with fresh coffee\, breakfast bars\, conversation\, smiles\, and the Joke of the Day.
URL:https://cccaustin.org/event/open-sanctuary/2027-08-25/
LOCATION:Central Christian Church\, 1110 Guadalupe Street\, Austin\, 78701\, United States
ATTACH;FMTTYPE=image/jpeg:https://cccaustin.org/wp-content/uploads/2023/09/Sanctuary2.jpg
END:VEVENT
BEGIN:VEVENT
DTSTART;TZID=America/Chicago:20270830T080000
DTEND;TZID=America/Chicago:20270830T090000
DTSTAMP:20260425T161317
CREATED:20230904T000049Z
LAST-MODIFIED:20260303T231046Z
UID:10001277-1819612800-1819616400@cccaustin.org
SUMMARY:Open Sanctuary
DESCRIPTION:The sanctuary will be open to welcome all for a time of meditation and reflection. Come by and be sure to share with your friends\, neighbors\, and co-workers who may also like to drop by. Pastor Layne will be on hand on his Pastor’s Porch at the front door with fresh coffee\, breakfast bars\, conversation\, smiles\, and the Joke of the Day.
URL:https://cccaustin.org/event/open-sanctuary/2027-08-30/
LOCATION:Central Christian Church\, 1110 Guadalupe Street\, Austin\, 78701\, United States
ATTACH;FMTTYPE=image/jpeg:https://cccaustin.org/wp-content/uploads/2023/09/Sanctuary2.jpg
END:VEVENT
BEGIN:VEVENT
DTSTART;TZID=America/Chicago:20270901T080000
DTEND;TZID=America/Chicago:20270901T090000
DTSTAMP:20260425T161317
CREATED:20230904T000049Z
LAST-MODIFIED:20260303T231046Z
UID:10001278-1819785600-1819789200@cccaustin.org
SUMMARY:Open Sanctuary
DESCRIPTION:The sanctuary will be open to welcome all for a time of meditation and reflection. Come by and be sure to share with your friends\, neighbors\, and co-workers who may also like to drop by. Pastor Layne will be on hand on his Pastor’s Porch at the front door with fresh coffee\, breakfast bars\, conversation\, smiles\, and the Joke of the Day.
URL:https://cccaustin.org/event/open-sanctuary/2027-09-01/
LOCATION:Central Christian Church\, 1110 Guadalupe Street\, Austin\, 78701\, United States
ATTACH;FMTTYPE=image/jpeg:https://cccaustin.org/wp-content/uploads/2023/09/Sanctuary2.jpg
END:VEVENT
BEGIN:VEVENT
DTSTART;TZID=America/Chicago:20270906T080000
DTEND;TZID=America/Chicago:20270906T090000
DTSTAMP:20260425T161317
CREATED:20230904T000049Z
LAST-MODIFIED:20260303T231046Z
UID:10001279-1820217600-1820221200@cccaustin.org
SUMMARY:Open Sanctuary
DESCRIPTION:The sanctuary will be open to welcome all for a time of meditation and reflection. Come by and be sure to share with your friends\, neighbors\, and co-workers who may also like to drop by. Pastor Layne will be on hand on his Pastor’s Porch at the front door with fresh coffee\, breakfast bars\, conversation\, smiles\, and the Joke of the Day.
URL:https://cccaustin.org/event/open-sanctuary/2027-09-06/
LOCATION:Central Christian Church\, 1110 Guadalupe Street\, Austin\, 78701\, United States
ATTACH;FMTTYPE=image/jpeg:https://cccaustin.org/wp-content/uploads/2023/09/Sanctuary2.jpg
END:VEVENT
BEGIN:VEVENT
DTSTART;TZID=America/Chicago:20270908T080000
DTEND;TZID=America/Chicago:20270908T090000
DTSTAMP:20260425T161317
CREATED:20230904T000049Z
LAST-MODIFIED:20260303T231046Z
UID:10001280-1820390400-1820394000@cccaustin.org
SUMMARY:Open Sanctuary
DESCRIPTION:The sanctuary will be open to welcome all for a time of meditation and reflection. Come by and be sure to share with your friends\, neighbors\, and co-workers who may also like to drop by. Pastor Layne will be on hand on his Pastor’s Porch at the front door with fresh coffee\, breakfast bars\, conversation\, smiles\, and the Joke of the Day.
URL:https://cccaustin.org/event/open-sanctuary/2027-09-08/
LOCATION:Central Christian Church\, 1110 Guadalupe Street\, Austin\, 78701\, United States
ATTACH;FMTTYPE=image/jpeg:https://cccaustin.org/wp-content/uploads/2023/09/Sanctuary2.jpg
END:VEVENT
BEGIN:VEVENT
DTSTART;TZID=America/Chicago:20270913T080000
DTEND;TZID=America/Chicago:20270913T090000
DTSTAMP:20260425T161317
CREATED:20230904T000049Z
LAST-MODIFIED:20260303T231046Z
UID:10001281-1820822400-1820826000@cccaustin.org
SUMMARY:Open Sanctuary
DESCRIPTION:The sanctuary will be open to welcome all for a time of meditation and reflection. Come by and be sure to share with your friends\, neighbors\, and co-workers who may also like to drop by. Pastor Layne will be on hand on his Pastor’s Porch at the front door with fresh coffee\, breakfast bars\, conversation\, smiles\, and the Joke of the Day.
URL:https://cccaustin.org/event/open-sanctuary/2027-09-13/
LOCATION:Central Christian Church\, 1110 Guadalupe Street\, Austin\, 78701\, United States
ATTACH;FMTTYPE=image/jpeg:https://cccaustin.org/wp-content/uploads/2023/09/Sanctuary2.jpg
END:VEVENT
BEGIN:VEVENT
DTSTART;TZID=America/Chicago:20270915T080000
DTEND;TZID=America/Chicago:20270915T090000
DTSTAMP:20260425T161317
CREATED:20230904T000049Z
LAST-MODIFIED:20260303T231046Z
UID:10001282-1820995200-1820998800@cccaustin.org
SUMMARY:Open Sanctuary
DESCRIPTION:The sanctuary will be open to welcome all for a time of meditation and reflection. Come by and be sure to share with your friends\, neighbors\, and co-workers who may also like to drop by. Pastor Layne will be on hand on his Pastor’s Porch at the front door with fresh coffee\, breakfast bars\, conversation\, smiles\, and the Joke of the Day.
URL:https://cccaustin.org/event/open-sanctuary/2027-09-15/
LOCATION:Central Christian Church\, 1110 Guadalupe Street\, Austin\, 78701\, United States
ATTACH;FMTTYPE=image/jpeg:https://cccaustin.org/wp-content/uploads/2023/09/Sanctuary2.jpg
END:VEVENT
BEGIN:VEVENT
DTSTART;TZID=America/Chicago:20270920T080000
DTEND;TZID=America/Chicago:20270920T090000
DTSTAMP:20260425T161317
CREATED:20230904T000049Z
LAST-MODIFIED:20260303T231046Z
UID:10001283-1821427200-1821430800@cccaustin.org
SUMMARY:Open Sanctuary
DESCRIPTION:The sanctuary will be open to welcome all for a time of meditation and reflection. Come by and be sure to share with your friends\, neighbors\, and co-workers who may also like to drop by. Pastor Layne will be on hand on his Pastor’s Porch at the front door with fresh coffee\, breakfast bars\, conversation\, smiles\, and the Joke of the Day.
URL:https://cccaustin.org/event/open-sanctuary/2027-09-20/
LOCATION:Central Christian Church\, 1110 Guadalupe Street\, Austin\, 78701\, United States
ATTACH;FMTTYPE=image/jpeg:https://cccaustin.org/wp-content/uploads/2023/09/Sanctuary2.jpg
END:VEVENT
BEGIN:VEVENT
DTSTART;TZID=America/Chicago:20270922T080000
DTEND;TZID=America/Chicago:20270922T090000
DTSTAMP:20260425T161317
CREATED:20230904T000049Z
LAST-MODIFIED:20260303T231046Z
UID:10001284-1821600000-1821603600@cccaustin.org
SUMMARY:Open Sanctuary
DESCRIPTION:The sanctuary will be open to welcome all for a time of meditation and reflection. Come by and be sure to share with your friends\, neighbors\, and co-workers who may also like to drop by. Pastor Layne will be on hand on his Pastor’s Porch at the front door with fresh coffee\, breakfast bars\, conversation\, smiles\, and the Joke of the Day.
URL:https://cccaustin.org/event/open-sanctuary/2027-09-22/
LOCATION:Central Christian Church\, 1110 Guadalupe Street\, Austin\, 78701\, United States
ATTACH;FMTTYPE=image/jpeg:https://cccaustin.org/wp-content/uploads/2023/09/Sanctuary2.jpg
END:VEVENT
BEGIN:VEVENT
DTSTART;TZID=America/Chicago:20270927T080000
DTEND;TZID=America/Chicago:20270927T090000
DTSTAMP:20260425T161317
CREATED:20230904T000049Z
LAST-MODIFIED:20260303T231046Z
UID:10001285-1822032000-1822035600@cccaustin.org
SUMMARY:Open Sanctuary
DESCRIPTION:The sanctuary will be open to welcome all for a time of meditation and reflection. Come by and be sure to share with your friends\, neighbors\, and co-workers who may also like to drop by. Pastor Layne will be on hand on his Pastor’s Porch at the front door with fresh coffee\, breakfast bars\, conversation\, smiles\, and the Joke of the Day.
URL:https://cccaustin.org/event/open-sanctuary/2027-09-27/
LOCATION:Central Christian Church\, 1110 Guadalupe Street\, Austin\, 78701\, United States
ATTACH;FMTTYPE=image/jpeg:https://cccaustin.org/wp-content/uploads/2023/09/Sanctuary2.jpg
END:VEVENT
BEGIN:VEVENT
DTSTART;TZID=America/Chicago:20270929T080000
DTEND;TZID=America/Chicago:20270929T090000
DTSTAMP:20260425T161317
CREATED:20230904T000049Z
LAST-MODIFIED:20260303T231046Z
UID:10001286-1822204800-1822208400@cccaustin.org
SUMMARY:Open Sanctuary
DESCRIPTION:The sanctuary will be open to welcome all for a time of meditation and reflection. Come by and be sure to share with your friends\, neighbors\, and co-workers who may also like to drop by. Pastor Layne will be on hand on his Pastor’s Porch at the front door with fresh coffee\, breakfast bars\, conversation\, smiles\, and the Joke of the Day.
URL:https://cccaustin.org/event/open-sanctuary/2027-09-29/
LOCATION:Central Christian Church\, 1110 Guadalupe Street\, Austin\, 78701\, United States
ATTACH;FMTTYPE=image/jpeg:https://cccaustin.org/wp-content/uploads/2023/09/Sanctuary2.jpg
END:VEVENT
BEGIN:VEVENT
DTSTART;TZID=America/Chicago:20271004T080000
DTEND;TZID=America/Chicago:20271004T090000
DTSTAMP:20260425T161317
CREATED:20230904T000049Z
LAST-MODIFIED:20260303T231046Z
UID:10001287-1822636800-1822640400@cccaustin.org
SUMMARY:Open Sanctuary
DESCRIPTION:The sanctuary will be open to welcome all for a time of meditation and reflection. Come by and be sure to share with your friends\, neighbors\, and co-workers who may also like to drop by. Pastor Layne will be on hand on his Pastor’s Porch at the front door with fresh coffee\, breakfast bars\, conversation\, smiles\, and the Joke of the Day.
URL:https://cccaustin.org/event/open-sanctuary/2027-10-04/
LOCATION:Central Christian Church\, 1110 Guadalupe Street\, Austin\, 78701\, United States
ATTACH;FMTTYPE=image/jpeg:https://cccaustin.org/wp-content/uploads/2023/09/Sanctuary2.jpg
END:VEVENT
BEGIN:VEVENT
DTSTART;TZID=America/Chicago:20271006T080000
DTEND;TZID=America/Chicago:20271006T090000
DTSTAMP:20260425T161317
CREATED:20230904T000049Z
LAST-MODIFIED:20260303T231046Z
UID:10001288-1822809600-1822813200@cccaustin.org
SUMMARY:Open Sanctuary
DESCRIPTION:The sanctuary will be open to welcome all for a time of meditation and reflection. Come by and be sure to share with your friends\, neighbors\, and co-workers who may also like to drop by. Pastor Layne will be on hand on his Pastor’s Porch at the front door with fresh coffee\, breakfast bars\, conversation\, smiles\, and the Joke of the Day.
URL:https://cccaustin.org/event/open-sanctuary/2027-10-06/
LOCATION:Central Christian Church\, 1110 Guadalupe Street\, Austin\, 78701\, United States
ATTACH;FMTTYPE=image/jpeg:https://cccaustin.org/wp-content/uploads/2023/09/Sanctuary2.jpg
END:VEVENT
BEGIN:VEVENT
DTSTART;TZID=America/Chicago:20271011T080000
DTEND;TZID=America/Chicago:20271011T090000
DTSTAMP:20260425T161317
CREATED:20230904T000049Z
LAST-MODIFIED:20260303T231046Z
UID:10001289-1823241600-1823245200@cccaustin.org
SUMMARY:Open Sanctuary
DESCRIPTION:The sanctuary will be open to welcome all for a time of meditation and reflection. Come by and be sure to share with your friends\, neighbors\, and co-workers who may also like to drop by. Pastor Layne will be on hand on his Pastor’s Porch at the front door with fresh coffee\, breakfast bars\, conversation\, smiles\, and the Joke of the Day.
URL:https://cccaustin.org/event/open-sanctuary/2027-10-11/
LOCATION:Central Christian Church\, 1110 Guadalupe Street\, Austin\, 78701\, United States
ATTACH;FMTTYPE=image/jpeg:https://cccaustin.org/wp-content/uploads/2023/09/Sanctuary2.jpg
END:VEVENT
BEGIN:VEVENT
DTSTART;TZID=America/Chicago:20271013T080000
DTEND;TZID=America/Chicago:20271013T090000
DTSTAMP:20260425T161317
CREATED:20230904T000049Z
LAST-MODIFIED:20260303T231046Z
UID:10001290-1823414400-1823418000@cccaustin.org
SUMMARY:Open Sanctuary
DESCRIPTION:The sanctuary will be open to welcome all for a time of meditation and reflection. Come by and be sure to share with your friends\, neighbors\, and co-workers who may also like to drop by. Pastor Layne will be on hand on his Pastor’s Porch at the front door with fresh coffee\, breakfast bars\, conversation\, smiles\, and the Joke of the Day.
URL:https://cccaustin.org/event/open-sanctuary/2027-10-13/
LOCATION:Central Christian Church\, 1110 Guadalupe Street\, Austin\, 78701\, United States
ATTACH;FMTTYPE=image/jpeg:https://cccaustin.org/wp-content/uploads/2023/09/Sanctuary2.jpg
END:VEVENT
END:VCALENDAR