BEGIN:VCALENDAR
VERSION:2.0
PRODID:-//Central Christian Church - ECPv6.15.20//NONSGML v1.0//EN
CALSCALE:GREGORIAN
METHOD:PUBLISH
X-WR-CALNAME:Central Christian Church
X-ORIGINAL-URL:https://cccaustin.org
X-WR-CALDESC:Events for Central Christian Church
REFRESH-INTERVAL;VALUE=DURATION:PT1H
X-Robots-Tag:noindex
X-PUBLISHED-TTL:PT1H
BEGIN:VTIMEZONE
TZID:America/Chicago
BEGIN:DAYLIGHT
TZOFFSETFROM:-0600
TZOFFSETTO:-0500
TZNAME:CDT
DTSTART:20260308T080000
END:DAYLIGHT
BEGIN:STANDARD
TZOFFSETFROM:-0500
TZOFFSETTO:-0600
TZNAME:CST
DTSTART:20261101T070000
END:STANDARD
BEGIN:DAYLIGHT
TZOFFSETFROM:-0600
TZOFFSETTO:-0500
TZNAME:CDT
DTSTART:20270314T080000
END:DAYLIGHT
BEGIN:STANDARD
TZOFFSETFROM:-0500
TZOFFSETTO:-0600
TZNAME:CST
DTSTART:20271107T070000
END:STANDARD
BEGIN:DAYLIGHT
TZOFFSETFROM:-0600
TZOFFSETTO:-0500
TZNAME:CDT
DTSTART:20280312T080000
END:DAYLIGHT
BEGIN:STANDARD
TZOFFSETFROM:-0500
TZOFFSETTO:-0600
TZNAME:CST
DTSTART:20281105T070000
END:STANDARD
BEGIN:DAYLIGHT
TZOFFSETFROM:-0600
TZOFFSETTO:-0500
TZNAME:CDT
DTSTART:20290311T080000
END:DAYLIGHT
BEGIN:STANDARD
TZOFFSETFROM:-0500
TZOFFSETTO:-0600
TZNAME:CST
DTSTART:20291104T070000
END:STANDARD
END:VTIMEZONE
BEGIN:VEVENT
DTSTART;TZID=America/Chicago:20271108T080000
DTEND;TZID=America/Chicago:20271108T090000
DTSTAMP:20260425T202004
CREATED:20230904T000049Z
LAST-MODIFIED:20260303T231046Z
UID:10001297-1825660800-1825664400@cccaustin.org
SUMMARY:Open Sanctuary
DESCRIPTION:The sanctuary will be open to welcome all for a time of meditation and reflection. Come by and be sure to share with your friends\, neighbors\, and co-workers who may also like to drop by. Pastor Layne will be on hand on his Pastor’s Porch at the front door with fresh coffee\, breakfast bars\, conversation\, smiles\, and the Joke of the Day.
URL:https://cccaustin.org/event/open-sanctuary/2027-11-08/
LOCATION:Central Christian Church\, 1110 Guadalupe Street\, Austin\, 78701\, United States
ATTACH;FMTTYPE=image/jpeg:https://cccaustin.org/wp-content/uploads/2023/09/Sanctuary2.jpg
END:VEVENT
BEGIN:VEVENT
DTSTART;TZID=America/Chicago:20271110T080000
DTEND;TZID=America/Chicago:20271110T090000
DTSTAMP:20260425T202004
CREATED:20230904T000049Z
LAST-MODIFIED:20260303T231046Z
UID:10001298-1825833600-1825837200@cccaustin.org
SUMMARY:Open Sanctuary
DESCRIPTION:The sanctuary will be open to welcome all for a time of meditation and reflection. Come by and be sure to share with your friends\, neighbors\, and co-workers who may also like to drop by. Pastor Layne will be on hand on his Pastor’s Porch at the front door with fresh coffee\, breakfast bars\, conversation\, smiles\, and the Joke of the Day.
URL:https://cccaustin.org/event/open-sanctuary/2027-11-10/
LOCATION:Central Christian Church\, 1110 Guadalupe Street\, Austin\, 78701\, United States
ATTACH;FMTTYPE=image/jpeg:https://cccaustin.org/wp-content/uploads/2023/09/Sanctuary2.jpg
END:VEVENT
BEGIN:VEVENT
DTSTART;TZID=America/Chicago:20271115T080000
DTEND;TZID=America/Chicago:20271115T090000
DTSTAMP:20260425T202004
CREATED:20230904T000049Z
LAST-MODIFIED:20260303T231046Z
UID:10001299-1826265600-1826269200@cccaustin.org
SUMMARY:Open Sanctuary
DESCRIPTION:The sanctuary will be open to welcome all for a time of meditation and reflection. Come by and be sure to share with your friends\, neighbors\, and co-workers who may also like to drop by. Pastor Layne will be on hand on his Pastor’s Porch at the front door with fresh coffee\, breakfast bars\, conversation\, smiles\, and the Joke of the Day.
URL:https://cccaustin.org/event/open-sanctuary/2027-11-15/
LOCATION:Central Christian Church\, 1110 Guadalupe Street\, Austin\, 78701\, United States
ATTACH;FMTTYPE=image/jpeg:https://cccaustin.org/wp-content/uploads/2023/09/Sanctuary2.jpg
END:VEVENT
BEGIN:VEVENT
DTSTART;TZID=America/Chicago:20271117T080000
DTEND;TZID=America/Chicago:20271117T090000
DTSTAMP:20260425T202004
CREATED:20230904T000049Z
LAST-MODIFIED:20260303T231046Z
UID:10001300-1826438400-1826442000@cccaustin.org
SUMMARY:Open Sanctuary
DESCRIPTION:The sanctuary will be open to welcome all for a time of meditation and reflection. Come by and be sure to share with your friends\, neighbors\, and co-workers who may also like to drop by. Pastor Layne will be on hand on his Pastor’s Porch at the front door with fresh coffee\, breakfast bars\, conversation\, smiles\, and the Joke of the Day.
URL:https://cccaustin.org/event/open-sanctuary/2027-11-17/
LOCATION:Central Christian Church\, 1110 Guadalupe Street\, Austin\, 78701\, United States
ATTACH;FMTTYPE=image/jpeg:https://cccaustin.org/wp-content/uploads/2023/09/Sanctuary2.jpg
END:VEVENT
BEGIN:VEVENT
DTSTART;TZID=America/Chicago:20271122T080000
DTEND;TZID=America/Chicago:20271122T090000
DTSTAMP:20260425T202004
CREATED:20230904T000049Z
LAST-MODIFIED:20260303T231046Z
UID:10001301-1826870400-1826874000@cccaustin.org
SUMMARY:Open Sanctuary
DESCRIPTION:The sanctuary will be open to welcome all for a time of meditation and reflection. Come by and be sure to share with your friends\, neighbors\, and co-workers who may also like to drop by. Pastor Layne will be on hand on his Pastor’s Porch at the front door with fresh coffee\, breakfast bars\, conversation\, smiles\, and the Joke of the Day.
URL:https://cccaustin.org/event/open-sanctuary/2027-11-22/
LOCATION:Central Christian Church\, 1110 Guadalupe Street\, Austin\, 78701\, United States
ATTACH;FMTTYPE=image/jpeg:https://cccaustin.org/wp-content/uploads/2023/09/Sanctuary2.jpg
END:VEVENT
BEGIN:VEVENT
DTSTART;TZID=America/Chicago:20271124T080000
DTEND;TZID=America/Chicago:20271124T090000
DTSTAMP:20260425T202004
CREATED:20230904T000049Z
LAST-MODIFIED:20260303T231046Z
UID:10001302-1827043200-1827046800@cccaustin.org
SUMMARY:Open Sanctuary
DESCRIPTION:The sanctuary will be open to welcome all for a time of meditation and reflection. Come by and be sure to share with your friends\, neighbors\, and co-workers who may also like to drop by. Pastor Layne will be on hand on his Pastor’s Porch at the front door with fresh coffee\, breakfast bars\, conversation\, smiles\, and the Joke of the Day.
URL:https://cccaustin.org/event/open-sanctuary/2027-11-24/
LOCATION:Central Christian Church\, 1110 Guadalupe Street\, Austin\, 78701\, United States
ATTACH;FMTTYPE=image/jpeg:https://cccaustin.org/wp-content/uploads/2023/09/Sanctuary2.jpg
END:VEVENT
BEGIN:VEVENT
DTSTART;TZID=America/Chicago:20271129T080000
DTEND;TZID=America/Chicago:20271129T090000
DTSTAMP:20260425T202004
CREATED:20230904T000049Z
LAST-MODIFIED:20260303T231046Z
UID:10001303-1827475200-1827478800@cccaustin.org
SUMMARY:Open Sanctuary
DESCRIPTION:The sanctuary will be open to welcome all for a time of meditation and reflection. Come by and be sure to share with your friends\, neighbors\, and co-workers who may also like to drop by. Pastor Layne will be on hand on his Pastor’s Porch at the front door with fresh coffee\, breakfast bars\, conversation\, smiles\, and the Joke of the Day.
URL:https://cccaustin.org/event/open-sanctuary/2027-11-29/
LOCATION:Central Christian Church\, 1110 Guadalupe Street\, Austin\, 78701\, United States
ATTACH;FMTTYPE=image/jpeg:https://cccaustin.org/wp-content/uploads/2023/09/Sanctuary2.jpg
END:VEVENT
BEGIN:VEVENT
DTSTART;TZID=America/Chicago:20271201T080000
DTEND;TZID=America/Chicago:20271201T090000
DTSTAMP:20260425T202004
CREATED:20230904T000049Z
LAST-MODIFIED:20260303T231046Z
UID:10001304-1827648000-1827651600@cccaustin.org
SUMMARY:Open Sanctuary
DESCRIPTION:The sanctuary will be open to welcome all for a time of meditation and reflection. Come by and be sure to share with your friends\, neighbors\, and co-workers who may also like to drop by. Pastor Layne will be on hand on his Pastor’s Porch at the front door with fresh coffee\, breakfast bars\, conversation\, smiles\, and the Joke of the Day.
URL:https://cccaustin.org/event/open-sanctuary/2027-12-01/
LOCATION:Central Christian Church\, 1110 Guadalupe Street\, Austin\, 78701\, United States
ATTACH;FMTTYPE=image/jpeg:https://cccaustin.org/wp-content/uploads/2023/09/Sanctuary2.jpg
END:VEVENT
BEGIN:VEVENT
DTSTART;TZID=America/Chicago:20271206T080000
DTEND;TZID=America/Chicago:20271206T090000
DTSTAMP:20260425T202004
CREATED:20230904T000049Z
LAST-MODIFIED:20260303T231046Z
UID:10001305-1828080000-1828083600@cccaustin.org
SUMMARY:Open Sanctuary
DESCRIPTION:The sanctuary will be open to welcome all for a time of meditation and reflection. Come by and be sure to share with your friends\, neighbors\, and co-workers who may also like to drop by. Pastor Layne will be on hand on his Pastor’s Porch at the front door with fresh coffee\, breakfast bars\, conversation\, smiles\, and the Joke of the Day.
URL:https://cccaustin.org/event/open-sanctuary/2027-12-06/
LOCATION:Central Christian Church\, 1110 Guadalupe Street\, Austin\, 78701\, United States
ATTACH;FMTTYPE=image/jpeg:https://cccaustin.org/wp-content/uploads/2023/09/Sanctuary2.jpg
END:VEVENT
BEGIN:VEVENT
DTSTART;TZID=America/Chicago:20271208T080000
DTEND;TZID=America/Chicago:20271208T090000
DTSTAMP:20260425T202004
CREATED:20230904T000049Z
LAST-MODIFIED:20260303T231046Z
UID:10001306-1828252800-1828256400@cccaustin.org
SUMMARY:Open Sanctuary
DESCRIPTION:The sanctuary will be open to welcome all for a time of meditation and reflection. Come by and be sure to share with your friends\, neighbors\, and co-workers who may also like to drop by. Pastor Layne will be on hand on his Pastor’s Porch at the front door with fresh coffee\, breakfast bars\, conversation\, smiles\, and the Joke of the Day.
URL:https://cccaustin.org/event/open-sanctuary/2027-12-08/
LOCATION:Central Christian Church\, 1110 Guadalupe Street\, Austin\, 78701\, United States
ATTACH;FMTTYPE=image/jpeg:https://cccaustin.org/wp-content/uploads/2023/09/Sanctuary2.jpg
END:VEVENT
BEGIN:VEVENT
DTSTART;TZID=America/Chicago:20271213T080000
DTEND;TZID=America/Chicago:20271213T090000
DTSTAMP:20260425T202004
CREATED:20230904T000049Z
LAST-MODIFIED:20260303T231046Z
UID:10001307-1828684800-1828688400@cccaustin.org
SUMMARY:Open Sanctuary
DESCRIPTION:The sanctuary will be open to welcome all for a time of meditation and reflection. Come by and be sure to share with your friends\, neighbors\, and co-workers who may also like to drop by. Pastor Layne will be on hand on his Pastor’s Porch at the front door with fresh coffee\, breakfast bars\, conversation\, smiles\, and the Joke of the Day.
URL:https://cccaustin.org/event/open-sanctuary/2027-12-13/
LOCATION:Central Christian Church\, 1110 Guadalupe Street\, Austin\, 78701\, United States
ATTACH;FMTTYPE=image/jpeg:https://cccaustin.org/wp-content/uploads/2023/09/Sanctuary2.jpg
END:VEVENT
BEGIN:VEVENT
DTSTART;TZID=America/Chicago:20271215T080000
DTEND;TZID=America/Chicago:20271215T090000
DTSTAMP:20260425T202004
CREATED:20230904T000049Z
LAST-MODIFIED:20260303T231046Z
UID:10001308-1828857600-1828861200@cccaustin.org
SUMMARY:Open Sanctuary
DESCRIPTION:The sanctuary will be open to welcome all for a time of meditation and reflection. Come by and be sure to share with your friends\, neighbors\, and co-workers who may also like to drop by. Pastor Layne will be on hand on his Pastor’s Porch at the front door with fresh coffee\, breakfast bars\, conversation\, smiles\, and the Joke of the Day.
URL:https://cccaustin.org/event/open-sanctuary/2027-12-15/
LOCATION:Central Christian Church\, 1110 Guadalupe Street\, Austin\, 78701\, United States
ATTACH;FMTTYPE=image/jpeg:https://cccaustin.org/wp-content/uploads/2023/09/Sanctuary2.jpg
END:VEVENT
BEGIN:VEVENT
DTSTART;TZID=America/Chicago:20271220T080000
DTEND;TZID=America/Chicago:20271220T090000
DTSTAMP:20260425T202004
CREATED:20230904T000049Z
LAST-MODIFIED:20260303T231046Z
UID:10001309-1829289600-1829293200@cccaustin.org
SUMMARY:Open Sanctuary
DESCRIPTION:The sanctuary will be open to welcome all for a time of meditation and reflection. Come by and be sure to share with your friends\, neighbors\, and co-workers who may also like to drop by. Pastor Layne will be on hand on his Pastor’s Porch at the front door with fresh coffee\, breakfast bars\, conversation\, smiles\, and the Joke of the Day.
URL:https://cccaustin.org/event/open-sanctuary/2027-12-20/
LOCATION:Central Christian Church\, 1110 Guadalupe Street\, Austin\, 78701\, United States
ATTACH;FMTTYPE=image/jpeg:https://cccaustin.org/wp-content/uploads/2023/09/Sanctuary2.jpg
END:VEVENT
BEGIN:VEVENT
DTSTART;TZID=America/Chicago:20271222T080000
DTEND;TZID=America/Chicago:20271222T090000
DTSTAMP:20260425T202004
CREATED:20230904T000049Z
LAST-MODIFIED:20260303T231046Z
UID:10001310-1829462400-1829466000@cccaustin.org
SUMMARY:Open Sanctuary
DESCRIPTION:The sanctuary will be open to welcome all for a time of meditation and reflection. Come by and be sure to share with your friends\, neighbors\, and co-workers who may also like to drop by. Pastor Layne will be on hand on his Pastor’s Porch at the front door with fresh coffee\, breakfast bars\, conversation\, smiles\, and the Joke of the Day.
URL:https://cccaustin.org/event/open-sanctuary/2027-12-22/
LOCATION:Central Christian Church\, 1110 Guadalupe Street\, Austin\, 78701\, United States
ATTACH;FMTTYPE=image/jpeg:https://cccaustin.org/wp-content/uploads/2023/09/Sanctuary2.jpg
END:VEVENT
BEGIN:VEVENT
DTSTART;TZID=America/Chicago:20271227T080000
DTEND;TZID=America/Chicago:20271227T090000
DTSTAMP:20260425T202004
CREATED:20230904T000049Z
LAST-MODIFIED:20260303T231046Z
UID:10001311-1829894400-1829898000@cccaustin.org
SUMMARY:Open Sanctuary
DESCRIPTION:The sanctuary will be open to welcome all for a time of meditation and reflection. Come by and be sure to share with your friends\, neighbors\, and co-workers who may also like to drop by. Pastor Layne will be on hand on his Pastor’s Porch at the front door with fresh coffee\, breakfast bars\, conversation\, smiles\, and the Joke of the Day.
URL:https://cccaustin.org/event/open-sanctuary/2027-12-27/
LOCATION:Central Christian Church\, 1110 Guadalupe Street\, Austin\, 78701\, United States
ATTACH;FMTTYPE=image/jpeg:https://cccaustin.org/wp-content/uploads/2023/09/Sanctuary2.jpg
END:VEVENT
BEGIN:VEVENT
DTSTART;TZID=America/Chicago:20271229T080000
DTEND;TZID=America/Chicago:20271229T090000
DTSTAMP:20260425T202004
CREATED:20230904T000049Z
LAST-MODIFIED:20260303T231046Z
UID:10001312-1830067200-1830070800@cccaustin.org
SUMMARY:Open Sanctuary
DESCRIPTION:The sanctuary will be open to welcome all for a time of meditation and reflection. Come by and be sure to share with your friends\, neighbors\, and co-workers who may also like to drop by. Pastor Layne will be on hand on his Pastor’s Porch at the front door with fresh coffee\, breakfast bars\, conversation\, smiles\, and the Joke of the Day.
URL:https://cccaustin.org/event/open-sanctuary/2027-12-29/
LOCATION:Central Christian Church\, 1110 Guadalupe Street\, Austin\, 78701\, United States
ATTACH;FMTTYPE=image/jpeg:https://cccaustin.org/wp-content/uploads/2023/09/Sanctuary2.jpg
END:VEVENT
BEGIN:VEVENT
DTSTART;TZID=America/Chicago:20280103T080000
DTEND;TZID=America/Chicago:20280103T090000
DTSTAMP:20260425T202004
CREATED:20230904T000049Z
LAST-MODIFIED:20260303T231046Z
UID:10001313-1830499200-1830502800@cccaustin.org
SUMMARY:Open Sanctuary
DESCRIPTION:The sanctuary will be open to welcome all for a time of meditation and reflection. Come by and be sure to share with your friends\, neighbors\, and co-workers who may also like to drop by. Pastor Layne will be on hand on his Pastor’s Porch at the front door with fresh coffee\, breakfast bars\, conversation\, smiles\, and the Joke of the Day.
URL:https://cccaustin.org/event/open-sanctuary/2028-01-03/
LOCATION:Central Christian Church\, 1110 Guadalupe Street\, Austin\, 78701\, United States
ATTACH;FMTTYPE=image/jpeg:https://cccaustin.org/wp-content/uploads/2023/09/Sanctuary2.jpg
END:VEVENT
BEGIN:VEVENT
DTSTART;TZID=America/Chicago:20280105T080000
DTEND;TZID=America/Chicago:20280105T090000
DTSTAMP:20260425T202004
CREATED:20230904T000049Z
LAST-MODIFIED:20260303T231046Z
UID:10001314-1830672000-1830675600@cccaustin.org
SUMMARY:Open Sanctuary
DESCRIPTION:The sanctuary will be open to welcome all for a time of meditation and reflection. Come by and be sure to share with your friends\, neighbors\, and co-workers who may also like to drop by. Pastor Layne will be on hand on his Pastor’s Porch at the front door with fresh coffee\, breakfast bars\, conversation\, smiles\, and the Joke of the Day.
URL:https://cccaustin.org/event/open-sanctuary/2028-01-05/
LOCATION:Central Christian Church\, 1110 Guadalupe Street\, Austin\, 78701\, United States
ATTACH;FMTTYPE=image/jpeg:https://cccaustin.org/wp-content/uploads/2023/09/Sanctuary2.jpg
END:VEVENT
BEGIN:VEVENT
DTSTART;TZID=America/Chicago:20280110T080000
DTEND;TZID=America/Chicago:20280110T090000
DTSTAMP:20260425T202004
CREATED:20230904T000049Z
LAST-MODIFIED:20260303T231046Z
UID:10001315-1831104000-1831107600@cccaustin.org
SUMMARY:Open Sanctuary
DESCRIPTION:The sanctuary will be open to welcome all for a time of meditation and reflection. Come by and be sure to share with your friends\, neighbors\, and co-workers who may also like to drop by. Pastor Layne will be on hand on his Pastor’s Porch at the front door with fresh coffee\, breakfast bars\, conversation\, smiles\, and the Joke of the Day.
URL:https://cccaustin.org/event/open-sanctuary/2028-01-10/
LOCATION:Central Christian Church\, 1110 Guadalupe Street\, Austin\, 78701\, United States
ATTACH;FMTTYPE=image/jpeg:https://cccaustin.org/wp-content/uploads/2023/09/Sanctuary2.jpg
END:VEVENT
BEGIN:VEVENT
DTSTART;TZID=America/Chicago:20280112T080000
DTEND;TZID=America/Chicago:20280112T090000
DTSTAMP:20260425T202004
CREATED:20230904T000049Z
LAST-MODIFIED:20260303T231046Z
UID:10001316-1831276800-1831280400@cccaustin.org
SUMMARY:Open Sanctuary
DESCRIPTION:The sanctuary will be open to welcome all for a time of meditation and reflection. Come by and be sure to share with your friends\, neighbors\, and co-workers who may also like to drop by. Pastor Layne will be on hand on his Pastor’s Porch at the front door with fresh coffee\, breakfast bars\, conversation\, smiles\, and the Joke of the Day.
URL:https://cccaustin.org/event/open-sanctuary/2028-01-12/
LOCATION:Central Christian Church\, 1110 Guadalupe Street\, Austin\, 78701\, United States
ATTACH;FMTTYPE=image/jpeg:https://cccaustin.org/wp-content/uploads/2023/09/Sanctuary2.jpg
END:VEVENT
BEGIN:VEVENT
DTSTART;TZID=America/Chicago:20280117T080000
DTEND;TZID=America/Chicago:20280117T090000
DTSTAMP:20260425T202004
CREATED:20230904T000049Z
LAST-MODIFIED:20260303T231046Z
UID:10001317-1831708800-1831712400@cccaustin.org
SUMMARY:Open Sanctuary
DESCRIPTION:The sanctuary will be open to welcome all for a time of meditation and reflection. Come by and be sure to share with your friends\, neighbors\, and co-workers who may also like to drop by. Pastor Layne will be on hand on his Pastor’s Porch at the front door with fresh coffee\, breakfast bars\, conversation\, smiles\, and the Joke of the Day.
URL:https://cccaustin.org/event/open-sanctuary/2028-01-17/
LOCATION:Central Christian Church\, 1110 Guadalupe Street\, Austin\, 78701\, United States
ATTACH;FMTTYPE=image/jpeg:https://cccaustin.org/wp-content/uploads/2023/09/Sanctuary2.jpg
END:VEVENT
BEGIN:VEVENT
DTSTART;TZID=America/Chicago:20280119T080000
DTEND;TZID=America/Chicago:20280119T090000
DTSTAMP:20260425T202004
CREATED:20230904T000049Z
LAST-MODIFIED:20260303T231046Z
UID:10001318-1831881600-1831885200@cccaustin.org
SUMMARY:Open Sanctuary
DESCRIPTION:The sanctuary will be open to welcome all for a time of meditation and reflection. Come by and be sure to share with your friends\, neighbors\, and co-workers who may also like to drop by. Pastor Layne will be on hand on his Pastor’s Porch at the front door with fresh coffee\, breakfast bars\, conversation\, smiles\, and the Joke of the Day.
URL:https://cccaustin.org/event/open-sanctuary/2028-01-19/
LOCATION:Central Christian Church\, 1110 Guadalupe Street\, Austin\, 78701\, United States
ATTACH;FMTTYPE=image/jpeg:https://cccaustin.org/wp-content/uploads/2023/09/Sanctuary2.jpg
END:VEVENT
BEGIN:VEVENT
DTSTART;TZID=America/Chicago:20280124T080000
DTEND;TZID=America/Chicago:20280124T090000
DTSTAMP:20260425T202004
CREATED:20230904T000049Z
LAST-MODIFIED:20260303T231046Z
UID:10001319-1832313600-1832317200@cccaustin.org
SUMMARY:Open Sanctuary
DESCRIPTION:The sanctuary will be open to welcome all for a time of meditation and reflection. Come by and be sure to share with your friends\, neighbors\, and co-workers who may also like to drop by. Pastor Layne will be on hand on his Pastor’s Porch at the front door with fresh coffee\, breakfast bars\, conversation\, smiles\, and the Joke of the Day.
URL:https://cccaustin.org/event/open-sanctuary/2028-01-24/
LOCATION:Central Christian Church\, 1110 Guadalupe Street\, Austin\, 78701\, United States
ATTACH;FMTTYPE=image/jpeg:https://cccaustin.org/wp-content/uploads/2023/09/Sanctuary2.jpg
END:VEVENT
BEGIN:VEVENT
DTSTART;TZID=America/Chicago:20280126T080000
DTEND;TZID=America/Chicago:20280126T090000
DTSTAMP:20260425T202004
CREATED:20230904T000049Z
LAST-MODIFIED:20260303T231046Z
UID:10001320-1832486400-1832490000@cccaustin.org
SUMMARY:Open Sanctuary
DESCRIPTION:The sanctuary will be open to welcome all for a time of meditation and reflection. Come by and be sure to share with your friends\, neighbors\, and co-workers who may also like to drop by. Pastor Layne will be on hand on his Pastor’s Porch at the front door with fresh coffee\, breakfast bars\, conversation\, smiles\, and the Joke of the Day.
URL:https://cccaustin.org/event/open-sanctuary/2028-01-26/
LOCATION:Central Christian Church\, 1110 Guadalupe Street\, Austin\, 78701\, United States
ATTACH;FMTTYPE=image/jpeg:https://cccaustin.org/wp-content/uploads/2023/09/Sanctuary2.jpg
END:VEVENT
BEGIN:VEVENT
DTSTART;TZID=America/Chicago:20280131T080000
DTEND;TZID=America/Chicago:20280131T090000
DTSTAMP:20260425T202004
CREATED:20230904T000049Z
LAST-MODIFIED:20260303T231046Z
UID:10001321-1832918400-1832922000@cccaustin.org
SUMMARY:Open Sanctuary
DESCRIPTION:The sanctuary will be open to welcome all for a time of meditation and reflection. Come by and be sure to share with your friends\, neighbors\, and co-workers who may also like to drop by. Pastor Layne will be on hand on his Pastor’s Porch at the front door with fresh coffee\, breakfast bars\, conversation\, smiles\, and the Joke of the Day.
URL:https://cccaustin.org/event/open-sanctuary/2028-01-31/
LOCATION:Central Christian Church\, 1110 Guadalupe Street\, Austin\, 78701\, United States
ATTACH;FMTTYPE=image/jpeg:https://cccaustin.org/wp-content/uploads/2023/09/Sanctuary2.jpg
END:VEVENT
BEGIN:VEVENT
DTSTART;TZID=America/Chicago:20280202T080000
DTEND;TZID=America/Chicago:20280202T090000
DTSTAMP:20260425T202004
CREATED:20230904T000049Z
LAST-MODIFIED:20260303T231046Z
UID:10001322-1833091200-1833094800@cccaustin.org
SUMMARY:Open Sanctuary
DESCRIPTION:The sanctuary will be open to welcome all for a time of meditation and reflection. Come by and be sure to share with your friends\, neighbors\, and co-workers who may also like to drop by. Pastor Layne will be on hand on his Pastor’s Porch at the front door with fresh coffee\, breakfast bars\, conversation\, smiles\, and the Joke of the Day.
URL:https://cccaustin.org/event/open-sanctuary/2028-02-02/
LOCATION:Central Christian Church\, 1110 Guadalupe Street\, Austin\, 78701\, United States
ATTACH;FMTTYPE=image/jpeg:https://cccaustin.org/wp-content/uploads/2023/09/Sanctuary2.jpg
END:VEVENT
BEGIN:VEVENT
DTSTART;TZID=America/Chicago:20280207T080000
DTEND;TZID=America/Chicago:20280207T090000
DTSTAMP:20260425T202004
CREATED:20230904T000049Z
LAST-MODIFIED:20260303T231046Z
UID:10001323-1833523200-1833526800@cccaustin.org
SUMMARY:Open Sanctuary
DESCRIPTION:The sanctuary will be open to welcome all for a time of meditation and reflection. Come by and be sure to share with your friends\, neighbors\, and co-workers who may also like to drop by. Pastor Layne will be on hand on his Pastor’s Porch at the front door with fresh coffee\, breakfast bars\, conversation\, smiles\, and the Joke of the Day.
URL:https://cccaustin.org/event/open-sanctuary/2028-02-07/
LOCATION:Central Christian Church\, 1110 Guadalupe Street\, Austin\, 78701\, United States
ATTACH;FMTTYPE=image/jpeg:https://cccaustin.org/wp-content/uploads/2023/09/Sanctuary2.jpg
END:VEVENT
BEGIN:VEVENT
DTSTART;TZID=America/Chicago:20280209T080000
DTEND;TZID=America/Chicago:20280209T090000
DTSTAMP:20260425T202004
CREATED:20230904T000049Z
LAST-MODIFIED:20260303T231046Z
UID:10001324-1833696000-1833699600@cccaustin.org
SUMMARY:Open Sanctuary
DESCRIPTION:The sanctuary will be open to welcome all for a time of meditation and reflection. Come by and be sure to share with your friends\, neighbors\, and co-workers who may also like to drop by. Pastor Layne will be on hand on his Pastor’s Porch at the front door with fresh coffee\, breakfast bars\, conversation\, smiles\, and the Joke of the Day.
URL:https://cccaustin.org/event/open-sanctuary/2028-02-09/
LOCATION:Central Christian Church\, 1110 Guadalupe Street\, Austin\, 78701\, United States
ATTACH;FMTTYPE=image/jpeg:https://cccaustin.org/wp-content/uploads/2023/09/Sanctuary2.jpg
END:VEVENT
BEGIN:VEVENT
DTSTART;TZID=America/Chicago:20280214T080000
DTEND;TZID=America/Chicago:20280214T090000
DTSTAMP:20260425T202004
CREATED:20230904T000049Z
LAST-MODIFIED:20260303T231046Z
UID:10001325-1834128000-1834131600@cccaustin.org
SUMMARY:Open Sanctuary
DESCRIPTION:The sanctuary will be open to welcome all for a time of meditation and reflection. Come by and be sure to share with your friends\, neighbors\, and co-workers who may also like to drop by. Pastor Layne will be on hand on his Pastor’s Porch at the front door with fresh coffee\, breakfast bars\, conversation\, smiles\, and the Joke of the Day.
URL:https://cccaustin.org/event/open-sanctuary/2028-02-14/
LOCATION:Central Christian Church\, 1110 Guadalupe Street\, Austin\, 78701\, United States
ATTACH;FMTTYPE=image/jpeg:https://cccaustin.org/wp-content/uploads/2023/09/Sanctuary2.jpg
END:VEVENT
BEGIN:VEVENT
DTSTART;TZID=America/Chicago:20280216T080000
DTEND;TZID=America/Chicago:20280216T090000
DTSTAMP:20260425T202004
CREATED:20230904T000049Z
LAST-MODIFIED:20260303T231046Z
UID:10001326-1834300800-1834304400@cccaustin.org
SUMMARY:Open Sanctuary
DESCRIPTION:The sanctuary will be open to welcome all for a time of meditation and reflection. Come by and be sure to share with your friends\, neighbors\, and co-workers who may also like to drop by. Pastor Layne will be on hand on his Pastor’s Porch at the front door with fresh coffee\, breakfast bars\, conversation\, smiles\, and the Joke of the Day.
URL:https://cccaustin.org/event/open-sanctuary/2028-02-16/
LOCATION:Central Christian Church\, 1110 Guadalupe Street\, Austin\, 78701\, United States
ATTACH;FMTTYPE=image/jpeg:https://cccaustin.org/wp-content/uploads/2023/09/Sanctuary2.jpg
END:VEVENT
END:VCALENDAR