BEGIN:VCALENDAR
VERSION:2.0
PRODID:-//Central Christian Church - ECPv6.15.20//NONSGML v1.0//EN
CALSCALE:GREGORIAN
METHOD:PUBLISH
X-WR-CALNAME:Central Christian Church
X-ORIGINAL-URL:https://cccaustin.org
X-WR-CALDESC:Events for Central Christian Church
REFRESH-INTERVAL;VALUE=DURATION:PT1H
X-Robots-Tag:noindex
X-PUBLISHED-TTL:PT1H
BEGIN:VTIMEZONE
TZID:America/Chicago
BEGIN:DAYLIGHT
TZOFFSETFROM:-0600
TZOFFSETTO:-0500
TZNAME:CDT
DTSTART:20270314T080000
END:DAYLIGHT
BEGIN:STANDARD
TZOFFSETFROM:-0500
TZOFFSETTO:-0600
TZNAME:CST
DTSTART:20271107T070000
END:STANDARD
BEGIN:DAYLIGHT
TZOFFSETFROM:-0600
TZOFFSETTO:-0500
TZNAME:CDT
DTSTART:20280312T080000
END:DAYLIGHT
BEGIN:STANDARD
TZOFFSETFROM:-0500
TZOFFSETTO:-0600
TZNAME:CST
DTSTART:20281105T070000
END:STANDARD
BEGIN:DAYLIGHT
TZOFFSETFROM:-0600
TZOFFSETTO:-0500
TZNAME:CDT
DTSTART:20290311T080000
END:DAYLIGHT
BEGIN:STANDARD
TZOFFSETFROM:-0500
TZOFFSETTO:-0600
TZNAME:CST
DTSTART:20291104T070000
END:STANDARD
END:VTIMEZONE
BEGIN:VEVENT
DTSTART;TZID=America/Chicago:20280131T080000
DTEND;TZID=America/Chicago:20280131T090000
DTSTAMP:20260425T232723
CREATED:20230904T000049Z
LAST-MODIFIED:20260303T231046Z
UID:10001321-1832918400-1832922000@cccaustin.org
SUMMARY:Open Sanctuary
DESCRIPTION:The sanctuary will be open to welcome all for a time of meditation and reflection. Come by and be sure to share with your friends\, neighbors\, and co-workers who may also like to drop by. Pastor Layne will be on hand on his Pastor’s Porch at the front door with fresh coffee\, breakfast bars\, conversation\, smiles\, and the Joke of the Day.
URL:https://cccaustin.org/event/open-sanctuary/2028-01-31/
LOCATION:Central Christian Church\, 1110 Guadalupe Street\, Austin\, 78701\, United States
ATTACH;FMTTYPE=image/jpeg:https://cccaustin.org/wp-content/uploads/2023/09/Sanctuary2.jpg
END:VEVENT
BEGIN:VEVENT
DTSTART;TZID=America/Chicago:20280202T080000
DTEND;TZID=America/Chicago:20280202T090000
DTSTAMP:20260425T232723
CREATED:20230904T000049Z
LAST-MODIFIED:20260303T231046Z
UID:10001322-1833091200-1833094800@cccaustin.org
SUMMARY:Open Sanctuary
DESCRIPTION:The sanctuary will be open to welcome all for a time of meditation and reflection. Come by and be sure to share with your friends\, neighbors\, and co-workers who may also like to drop by. Pastor Layne will be on hand on his Pastor’s Porch at the front door with fresh coffee\, breakfast bars\, conversation\, smiles\, and the Joke of the Day.
URL:https://cccaustin.org/event/open-sanctuary/2028-02-02/
LOCATION:Central Christian Church\, 1110 Guadalupe Street\, Austin\, 78701\, United States
ATTACH;FMTTYPE=image/jpeg:https://cccaustin.org/wp-content/uploads/2023/09/Sanctuary2.jpg
END:VEVENT
BEGIN:VEVENT
DTSTART;TZID=America/Chicago:20280207T080000
DTEND;TZID=America/Chicago:20280207T090000
DTSTAMP:20260425T232723
CREATED:20230904T000049Z
LAST-MODIFIED:20260303T231046Z
UID:10001323-1833523200-1833526800@cccaustin.org
SUMMARY:Open Sanctuary
DESCRIPTION:The sanctuary will be open to welcome all for a time of meditation and reflection. Come by and be sure to share with your friends\, neighbors\, and co-workers who may also like to drop by. Pastor Layne will be on hand on his Pastor’s Porch at the front door with fresh coffee\, breakfast bars\, conversation\, smiles\, and the Joke of the Day.
URL:https://cccaustin.org/event/open-sanctuary/2028-02-07/
LOCATION:Central Christian Church\, 1110 Guadalupe Street\, Austin\, 78701\, United States
ATTACH;FMTTYPE=image/jpeg:https://cccaustin.org/wp-content/uploads/2023/09/Sanctuary2.jpg
END:VEVENT
BEGIN:VEVENT
DTSTART;TZID=America/Chicago:20280209T080000
DTEND;TZID=America/Chicago:20280209T090000
DTSTAMP:20260425T232723
CREATED:20230904T000049Z
LAST-MODIFIED:20260303T231046Z
UID:10001324-1833696000-1833699600@cccaustin.org
SUMMARY:Open Sanctuary
DESCRIPTION:The sanctuary will be open to welcome all for a time of meditation and reflection. Come by and be sure to share with your friends\, neighbors\, and co-workers who may also like to drop by. Pastor Layne will be on hand on his Pastor’s Porch at the front door with fresh coffee\, breakfast bars\, conversation\, smiles\, and the Joke of the Day.
URL:https://cccaustin.org/event/open-sanctuary/2028-02-09/
LOCATION:Central Christian Church\, 1110 Guadalupe Street\, Austin\, 78701\, United States
ATTACH;FMTTYPE=image/jpeg:https://cccaustin.org/wp-content/uploads/2023/09/Sanctuary2.jpg
END:VEVENT
BEGIN:VEVENT
DTSTART;TZID=America/Chicago:20280214T080000
DTEND;TZID=America/Chicago:20280214T090000
DTSTAMP:20260425T232723
CREATED:20230904T000049Z
LAST-MODIFIED:20260303T231046Z
UID:10001325-1834128000-1834131600@cccaustin.org
SUMMARY:Open Sanctuary
DESCRIPTION:The sanctuary will be open to welcome all for a time of meditation and reflection. Come by and be sure to share with your friends\, neighbors\, and co-workers who may also like to drop by. Pastor Layne will be on hand on his Pastor’s Porch at the front door with fresh coffee\, breakfast bars\, conversation\, smiles\, and the Joke of the Day.
URL:https://cccaustin.org/event/open-sanctuary/2028-02-14/
LOCATION:Central Christian Church\, 1110 Guadalupe Street\, Austin\, 78701\, United States
ATTACH;FMTTYPE=image/jpeg:https://cccaustin.org/wp-content/uploads/2023/09/Sanctuary2.jpg
END:VEVENT
BEGIN:VEVENT
DTSTART;TZID=America/Chicago:20280216T080000
DTEND;TZID=America/Chicago:20280216T090000
DTSTAMP:20260425T232723
CREATED:20230904T000049Z
LAST-MODIFIED:20260303T231046Z
UID:10001326-1834300800-1834304400@cccaustin.org
SUMMARY:Open Sanctuary
DESCRIPTION:The sanctuary will be open to welcome all for a time of meditation and reflection. Come by and be sure to share with your friends\, neighbors\, and co-workers who may also like to drop by. Pastor Layne will be on hand on his Pastor’s Porch at the front door with fresh coffee\, breakfast bars\, conversation\, smiles\, and the Joke of the Day.
URL:https://cccaustin.org/event/open-sanctuary/2028-02-16/
LOCATION:Central Christian Church\, 1110 Guadalupe Street\, Austin\, 78701\, United States
ATTACH;FMTTYPE=image/jpeg:https://cccaustin.org/wp-content/uploads/2023/09/Sanctuary2.jpg
END:VEVENT
BEGIN:VEVENT
DTSTART;TZID=America/Chicago:20280221T080000
DTEND;TZID=America/Chicago:20280221T090000
DTSTAMP:20260425T232723
CREATED:20230904T000049Z
LAST-MODIFIED:20260303T231046Z
UID:10001327-1834732800-1834736400@cccaustin.org
SUMMARY:Open Sanctuary
DESCRIPTION:The sanctuary will be open to welcome all for a time of meditation and reflection. Come by and be sure to share with your friends\, neighbors\, and co-workers who may also like to drop by. Pastor Layne will be on hand on his Pastor’s Porch at the front door with fresh coffee\, breakfast bars\, conversation\, smiles\, and the Joke of the Day.
URL:https://cccaustin.org/event/open-sanctuary/2028-02-21/
LOCATION:Central Christian Church\, 1110 Guadalupe Street\, Austin\, 78701\, United States
ATTACH;FMTTYPE=image/jpeg:https://cccaustin.org/wp-content/uploads/2023/09/Sanctuary2.jpg
END:VEVENT
BEGIN:VEVENT
DTSTART;TZID=America/Chicago:20280223T080000
DTEND;TZID=America/Chicago:20280223T090000
DTSTAMP:20260425T232723
CREATED:20230904T000049Z
LAST-MODIFIED:20260303T231046Z
UID:10001328-1834905600-1834909200@cccaustin.org
SUMMARY:Open Sanctuary
DESCRIPTION:The sanctuary will be open to welcome all for a time of meditation and reflection. Come by and be sure to share with your friends\, neighbors\, and co-workers who may also like to drop by. Pastor Layne will be on hand on his Pastor’s Porch at the front door with fresh coffee\, breakfast bars\, conversation\, smiles\, and the Joke of the Day.
URL:https://cccaustin.org/event/open-sanctuary/2028-02-23/
LOCATION:Central Christian Church\, 1110 Guadalupe Street\, Austin\, 78701\, United States
ATTACH;FMTTYPE=image/jpeg:https://cccaustin.org/wp-content/uploads/2023/09/Sanctuary2.jpg
END:VEVENT
BEGIN:VEVENT
DTSTART;TZID=America/Chicago:20280228T080000
DTEND;TZID=America/Chicago:20280228T090000
DTSTAMP:20260425T232723
CREATED:20230904T000049Z
LAST-MODIFIED:20260303T231046Z
UID:10001329-1835337600-1835341200@cccaustin.org
SUMMARY:Open Sanctuary
DESCRIPTION:The sanctuary will be open to welcome all for a time of meditation and reflection. Come by and be sure to share with your friends\, neighbors\, and co-workers who may also like to drop by. Pastor Layne will be on hand on his Pastor’s Porch at the front door with fresh coffee\, breakfast bars\, conversation\, smiles\, and the Joke of the Day.
URL:https://cccaustin.org/event/open-sanctuary/2028-02-28/
LOCATION:Central Christian Church\, 1110 Guadalupe Street\, Austin\, 78701\, United States
ATTACH;FMTTYPE=image/jpeg:https://cccaustin.org/wp-content/uploads/2023/09/Sanctuary2.jpg
END:VEVENT
BEGIN:VEVENT
DTSTART;TZID=America/Chicago:20280301T080000
DTEND;TZID=America/Chicago:20280301T090000
DTSTAMP:20260425T232723
CREATED:20230904T000049Z
LAST-MODIFIED:20260303T231046Z
UID:10001330-1835510400-1835514000@cccaustin.org
SUMMARY:Open Sanctuary
DESCRIPTION:The sanctuary will be open to welcome all for a time of meditation and reflection. Come by and be sure to share with your friends\, neighbors\, and co-workers who may also like to drop by. Pastor Layne will be on hand on his Pastor’s Porch at the front door with fresh coffee\, breakfast bars\, conversation\, smiles\, and the Joke of the Day.
URL:https://cccaustin.org/event/open-sanctuary/2028-03-01/
LOCATION:Central Christian Church\, 1110 Guadalupe Street\, Austin\, 78701\, United States
ATTACH;FMTTYPE=image/jpeg:https://cccaustin.org/wp-content/uploads/2023/09/Sanctuary2.jpg
END:VEVENT
BEGIN:VEVENT
DTSTART;TZID=America/Chicago:20280306T080000
DTEND;TZID=America/Chicago:20280306T090000
DTSTAMP:20260425T232723
CREATED:20230904T000049Z
LAST-MODIFIED:20260303T231046Z
UID:10001331-1835942400-1835946000@cccaustin.org
SUMMARY:Open Sanctuary
DESCRIPTION:The sanctuary will be open to welcome all for a time of meditation and reflection. Come by and be sure to share with your friends\, neighbors\, and co-workers who may also like to drop by. Pastor Layne will be on hand on his Pastor’s Porch at the front door with fresh coffee\, breakfast bars\, conversation\, smiles\, and the Joke of the Day.
URL:https://cccaustin.org/event/open-sanctuary/2028-03-06/
LOCATION:Central Christian Church\, 1110 Guadalupe Street\, Austin\, 78701\, United States
ATTACH;FMTTYPE=image/jpeg:https://cccaustin.org/wp-content/uploads/2023/09/Sanctuary2.jpg
END:VEVENT
BEGIN:VEVENT
DTSTART;TZID=America/Chicago:20280308T080000
DTEND;TZID=America/Chicago:20280308T090000
DTSTAMP:20260425T232723
CREATED:20230904T000049Z
LAST-MODIFIED:20260303T231046Z
UID:10001332-1836115200-1836118800@cccaustin.org
SUMMARY:Open Sanctuary
DESCRIPTION:The sanctuary will be open to welcome all for a time of meditation and reflection. Come by and be sure to share with your friends\, neighbors\, and co-workers who may also like to drop by. Pastor Layne will be on hand on his Pastor’s Porch at the front door with fresh coffee\, breakfast bars\, conversation\, smiles\, and the Joke of the Day.
URL:https://cccaustin.org/event/open-sanctuary/2028-03-08/
LOCATION:Central Christian Church\, 1110 Guadalupe Street\, Austin\, 78701\, United States
ATTACH;FMTTYPE=image/jpeg:https://cccaustin.org/wp-content/uploads/2023/09/Sanctuary2.jpg
END:VEVENT
BEGIN:VEVENT
DTSTART;TZID=America/Chicago:20280313T080000
DTEND;TZID=America/Chicago:20280313T090000
DTSTAMP:20260425T232723
CREATED:20230904T000049Z
LAST-MODIFIED:20260303T231046Z
UID:10001333-1836547200-1836550800@cccaustin.org
SUMMARY:Open Sanctuary
DESCRIPTION:The sanctuary will be open to welcome all for a time of meditation and reflection. Come by and be sure to share with your friends\, neighbors\, and co-workers who may also like to drop by. Pastor Layne will be on hand on his Pastor’s Porch at the front door with fresh coffee\, breakfast bars\, conversation\, smiles\, and the Joke of the Day.
URL:https://cccaustin.org/event/open-sanctuary/2028-03-13/
LOCATION:Central Christian Church\, 1110 Guadalupe Street\, Austin\, 78701\, United States
ATTACH;FMTTYPE=image/jpeg:https://cccaustin.org/wp-content/uploads/2023/09/Sanctuary2.jpg
END:VEVENT
BEGIN:VEVENT
DTSTART;TZID=America/Chicago:20280315T080000
DTEND;TZID=America/Chicago:20280315T090000
DTSTAMP:20260425T232723
CREATED:20230904T000049Z
LAST-MODIFIED:20260303T231046Z
UID:10001334-1836720000-1836723600@cccaustin.org
SUMMARY:Open Sanctuary
DESCRIPTION:The sanctuary will be open to welcome all for a time of meditation and reflection. Come by and be sure to share with your friends\, neighbors\, and co-workers who may also like to drop by. Pastor Layne will be on hand on his Pastor’s Porch at the front door with fresh coffee\, breakfast bars\, conversation\, smiles\, and the Joke of the Day.
URL:https://cccaustin.org/event/open-sanctuary/2028-03-15/
LOCATION:Central Christian Church\, 1110 Guadalupe Street\, Austin\, 78701\, United States
ATTACH;FMTTYPE=image/jpeg:https://cccaustin.org/wp-content/uploads/2023/09/Sanctuary2.jpg
END:VEVENT
BEGIN:VEVENT
DTSTART;TZID=America/Chicago:20280320T080000
DTEND;TZID=America/Chicago:20280320T090000
DTSTAMP:20260425T232723
CREATED:20230904T000049Z
LAST-MODIFIED:20260303T231046Z
UID:10001335-1837152000-1837155600@cccaustin.org
SUMMARY:Open Sanctuary
DESCRIPTION:The sanctuary will be open to welcome all for a time of meditation and reflection. Come by and be sure to share with your friends\, neighbors\, and co-workers who may also like to drop by. Pastor Layne will be on hand on his Pastor’s Porch at the front door with fresh coffee\, breakfast bars\, conversation\, smiles\, and the Joke of the Day.
URL:https://cccaustin.org/event/open-sanctuary/2028-03-20/
LOCATION:Central Christian Church\, 1110 Guadalupe Street\, Austin\, 78701\, United States
ATTACH;FMTTYPE=image/jpeg:https://cccaustin.org/wp-content/uploads/2023/09/Sanctuary2.jpg
END:VEVENT
BEGIN:VEVENT
DTSTART;TZID=America/Chicago:20280322T080000
DTEND;TZID=America/Chicago:20280322T090000
DTSTAMP:20260425T232723
CREATED:20230904T000049Z
LAST-MODIFIED:20260303T231046Z
UID:10001336-1837324800-1837328400@cccaustin.org
SUMMARY:Open Sanctuary
DESCRIPTION:The sanctuary will be open to welcome all for a time of meditation and reflection. Come by and be sure to share with your friends\, neighbors\, and co-workers who may also like to drop by. Pastor Layne will be on hand on his Pastor’s Porch at the front door with fresh coffee\, breakfast bars\, conversation\, smiles\, and the Joke of the Day.
URL:https://cccaustin.org/event/open-sanctuary/2028-03-22/
LOCATION:Central Christian Church\, 1110 Guadalupe Street\, Austin\, 78701\, United States
ATTACH;FMTTYPE=image/jpeg:https://cccaustin.org/wp-content/uploads/2023/09/Sanctuary2.jpg
END:VEVENT
BEGIN:VEVENT
DTSTART;TZID=America/Chicago:20280327T080000
DTEND;TZID=America/Chicago:20280327T090000
DTSTAMP:20260425T232723
CREATED:20230904T000049Z
LAST-MODIFIED:20260303T231046Z
UID:10001337-1837756800-1837760400@cccaustin.org
SUMMARY:Open Sanctuary
DESCRIPTION:The sanctuary will be open to welcome all for a time of meditation and reflection. Come by and be sure to share with your friends\, neighbors\, and co-workers who may also like to drop by. Pastor Layne will be on hand on his Pastor’s Porch at the front door with fresh coffee\, breakfast bars\, conversation\, smiles\, and the Joke of the Day.
URL:https://cccaustin.org/event/open-sanctuary/2028-03-27/
LOCATION:Central Christian Church\, 1110 Guadalupe Street\, Austin\, 78701\, United States
ATTACH;FMTTYPE=image/jpeg:https://cccaustin.org/wp-content/uploads/2023/09/Sanctuary2.jpg
END:VEVENT
BEGIN:VEVENT
DTSTART;TZID=America/Chicago:20280329T080000
DTEND;TZID=America/Chicago:20280329T090000
DTSTAMP:20260425T232723
CREATED:20230904T000049Z
LAST-MODIFIED:20260303T231046Z
UID:10001338-1837929600-1837933200@cccaustin.org
SUMMARY:Open Sanctuary
DESCRIPTION:The sanctuary will be open to welcome all for a time of meditation and reflection. Come by and be sure to share with your friends\, neighbors\, and co-workers who may also like to drop by. Pastor Layne will be on hand on his Pastor’s Porch at the front door with fresh coffee\, breakfast bars\, conversation\, smiles\, and the Joke of the Day.
URL:https://cccaustin.org/event/open-sanctuary/2028-03-29/
LOCATION:Central Christian Church\, 1110 Guadalupe Street\, Austin\, 78701\, United States
ATTACH;FMTTYPE=image/jpeg:https://cccaustin.org/wp-content/uploads/2023/09/Sanctuary2.jpg
END:VEVENT
BEGIN:VEVENT
DTSTART;TZID=America/Chicago:20280403T080000
DTEND;TZID=America/Chicago:20280403T090000
DTSTAMP:20260425T232723
CREATED:20230904T000049Z
LAST-MODIFIED:20260303T231046Z
UID:10001339-1838361600-1838365200@cccaustin.org
SUMMARY:Open Sanctuary
DESCRIPTION:The sanctuary will be open to welcome all for a time of meditation and reflection. Come by and be sure to share with your friends\, neighbors\, and co-workers who may also like to drop by. Pastor Layne will be on hand on his Pastor’s Porch at the front door with fresh coffee\, breakfast bars\, conversation\, smiles\, and the Joke of the Day.
URL:https://cccaustin.org/event/open-sanctuary/2028-04-03/
LOCATION:Central Christian Church\, 1110 Guadalupe Street\, Austin\, 78701\, United States
ATTACH;FMTTYPE=image/jpeg:https://cccaustin.org/wp-content/uploads/2023/09/Sanctuary2.jpg
END:VEVENT
BEGIN:VEVENT
DTSTART;TZID=America/Chicago:20280405T080000
DTEND;TZID=America/Chicago:20280405T090000
DTSTAMP:20260425T232723
CREATED:20230904T000049Z
LAST-MODIFIED:20260303T231046Z
UID:10001340-1838534400-1838538000@cccaustin.org
SUMMARY:Open Sanctuary
DESCRIPTION:The sanctuary will be open to welcome all for a time of meditation and reflection. Come by and be sure to share with your friends\, neighbors\, and co-workers who may also like to drop by. Pastor Layne will be on hand on his Pastor’s Porch at the front door with fresh coffee\, breakfast bars\, conversation\, smiles\, and the Joke of the Day.
URL:https://cccaustin.org/event/open-sanctuary/2028-04-05/
LOCATION:Central Christian Church\, 1110 Guadalupe Street\, Austin\, 78701\, United States
ATTACH;FMTTYPE=image/jpeg:https://cccaustin.org/wp-content/uploads/2023/09/Sanctuary2.jpg
END:VEVENT
BEGIN:VEVENT
DTSTART;TZID=America/Chicago:20280410T080000
DTEND;TZID=America/Chicago:20280410T090000
DTSTAMP:20260425T232723
CREATED:20230904T000049Z
LAST-MODIFIED:20260303T231046Z
UID:10001341-1838966400-1838970000@cccaustin.org
SUMMARY:Open Sanctuary
DESCRIPTION:The sanctuary will be open to welcome all for a time of meditation and reflection. Come by and be sure to share with your friends\, neighbors\, and co-workers who may also like to drop by. Pastor Layne will be on hand on his Pastor’s Porch at the front door with fresh coffee\, breakfast bars\, conversation\, smiles\, and the Joke of the Day.
URL:https://cccaustin.org/event/open-sanctuary/2028-04-10/
LOCATION:Central Christian Church\, 1110 Guadalupe Street\, Austin\, 78701\, United States
ATTACH;FMTTYPE=image/jpeg:https://cccaustin.org/wp-content/uploads/2023/09/Sanctuary2.jpg
END:VEVENT
BEGIN:VEVENT
DTSTART;TZID=America/Chicago:20280412T080000
DTEND;TZID=America/Chicago:20280412T090000
DTSTAMP:20260425T232723
CREATED:20230904T000049Z
LAST-MODIFIED:20260303T231046Z
UID:10001342-1839139200-1839142800@cccaustin.org
SUMMARY:Open Sanctuary
DESCRIPTION:The sanctuary will be open to welcome all for a time of meditation and reflection. Come by and be sure to share with your friends\, neighbors\, and co-workers who may also like to drop by. Pastor Layne will be on hand on his Pastor’s Porch at the front door with fresh coffee\, breakfast bars\, conversation\, smiles\, and the Joke of the Day.
URL:https://cccaustin.org/event/open-sanctuary/2028-04-12/
LOCATION:Central Christian Church\, 1110 Guadalupe Street\, Austin\, 78701\, United States
ATTACH;FMTTYPE=image/jpeg:https://cccaustin.org/wp-content/uploads/2023/09/Sanctuary2.jpg
END:VEVENT
BEGIN:VEVENT
DTSTART;TZID=America/Chicago:20280417T080000
DTEND;TZID=America/Chicago:20280417T090000
DTSTAMP:20260425T232723
CREATED:20230904T000049Z
LAST-MODIFIED:20260303T231046Z
UID:10001343-1839571200-1839574800@cccaustin.org
SUMMARY:Open Sanctuary
DESCRIPTION:The sanctuary will be open to welcome all for a time of meditation and reflection. Come by and be sure to share with your friends\, neighbors\, and co-workers who may also like to drop by. Pastor Layne will be on hand on his Pastor’s Porch at the front door with fresh coffee\, breakfast bars\, conversation\, smiles\, and the Joke of the Day.
URL:https://cccaustin.org/event/open-sanctuary/2028-04-17/
LOCATION:Central Christian Church\, 1110 Guadalupe Street\, Austin\, 78701\, United States
ATTACH;FMTTYPE=image/jpeg:https://cccaustin.org/wp-content/uploads/2023/09/Sanctuary2.jpg
END:VEVENT
BEGIN:VEVENT
DTSTART;TZID=America/Chicago:20280419T080000
DTEND;TZID=America/Chicago:20280419T090000
DTSTAMP:20260425T232723
CREATED:20230904T000049Z
LAST-MODIFIED:20260303T231046Z
UID:10001344-1839744000-1839747600@cccaustin.org
SUMMARY:Open Sanctuary
DESCRIPTION:The sanctuary will be open to welcome all for a time of meditation and reflection. Come by and be sure to share with your friends\, neighbors\, and co-workers who may also like to drop by. Pastor Layne will be on hand on his Pastor’s Porch at the front door with fresh coffee\, breakfast bars\, conversation\, smiles\, and the Joke of the Day.
URL:https://cccaustin.org/event/open-sanctuary/2028-04-19/
LOCATION:Central Christian Church\, 1110 Guadalupe Street\, Austin\, 78701\, United States
ATTACH;FMTTYPE=image/jpeg:https://cccaustin.org/wp-content/uploads/2023/09/Sanctuary2.jpg
END:VEVENT
BEGIN:VEVENT
DTSTART;TZID=America/Chicago:20280424T080000
DTEND;TZID=America/Chicago:20280424T090000
DTSTAMP:20260425T232723
CREATED:20230904T000049Z
LAST-MODIFIED:20260303T231046Z
UID:10001345-1840176000-1840179600@cccaustin.org
SUMMARY:Open Sanctuary
DESCRIPTION:The sanctuary will be open to welcome all for a time of meditation and reflection. Come by and be sure to share with your friends\, neighbors\, and co-workers who may also like to drop by. Pastor Layne will be on hand on his Pastor’s Porch at the front door with fresh coffee\, breakfast bars\, conversation\, smiles\, and the Joke of the Day.
URL:https://cccaustin.org/event/open-sanctuary/2028-04-24/
LOCATION:Central Christian Church\, 1110 Guadalupe Street\, Austin\, 78701\, United States
ATTACH;FMTTYPE=image/jpeg:https://cccaustin.org/wp-content/uploads/2023/09/Sanctuary2.jpg
END:VEVENT
BEGIN:VEVENT
DTSTART;TZID=America/Chicago:20280426T080000
DTEND;TZID=America/Chicago:20280426T090000
DTSTAMP:20260425T232723
CREATED:20230904T000049Z
LAST-MODIFIED:20260303T231046Z
UID:10001346-1840348800-1840352400@cccaustin.org
SUMMARY:Open Sanctuary
DESCRIPTION:The sanctuary will be open to welcome all for a time of meditation and reflection. Come by and be sure to share with your friends\, neighbors\, and co-workers who may also like to drop by. Pastor Layne will be on hand on his Pastor’s Porch at the front door with fresh coffee\, breakfast bars\, conversation\, smiles\, and the Joke of the Day.
URL:https://cccaustin.org/event/open-sanctuary/2028-04-26/
LOCATION:Central Christian Church\, 1110 Guadalupe Street\, Austin\, 78701\, United States
ATTACH;FMTTYPE=image/jpeg:https://cccaustin.org/wp-content/uploads/2023/09/Sanctuary2.jpg
END:VEVENT
BEGIN:VEVENT
DTSTART;TZID=America/Chicago:20280501T080000
DTEND;TZID=America/Chicago:20280501T090000
DTSTAMP:20260425T232723
CREATED:20230904T000049Z
LAST-MODIFIED:20260303T231046Z
UID:10001347-1840780800-1840784400@cccaustin.org
SUMMARY:Open Sanctuary
DESCRIPTION:The sanctuary will be open to welcome all for a time of meditation and reflection. Come by and be sure to share with your friends\, neighbors\, and co-workers who may also like to drop by. Pastor Layne will be on hand on his Pastor’s Porch at the front door with fresh coffee\, breakfast bars\, conversation\, smiles\, and the Joke of the Day.
URL:https://cccaustin.org/event/open-sanctuary/2028-05-01/
LOCATION:Central Christian Church\, 1110 Guadalupe Street\, Austin\, 78701\, United States
ATTACH;FMTTYPE=image/jpeg:https://cccaustin.org/wp-content/uploads/2023/09/Sanctuary2.jpg
END:VEVENT
BEGIN:VEVENT
DTSTART;TZID=America/Chicago:20280503T080000
DTEND;TZID=America/Chicago:20280503T090000
DTSTAMP:20260425T232723
CREATED:20230904T000049Z
LAST-MODIFIED:20260303T231046Z
UID:10001348-1840953600-1840957200@cccaustin.org
SUMMARY:Open Sanctuary
DESCRIPTION:The sanctuary will be open to welcome all for a time of meditation and reflection. Come by and be sure to share with your friends\, neighbors\, and co-workers who may also like to drop by. Pastor Layne will be on hand on his Pastor’s Porch at the front door with fresh coffee\, breakfast bars\, conversation\, smiles\, and the Joke of the Day.
URL:https://cccaustin.org/event/open-sanctuary/2028-05-03/
LOCATION:Central Christian Church\, 1110 Guadalupe Street\, Austin\, 78701\, United States
ATTACH;FMTTYPE=image/jpeg:https://cccaustin.org/wp-content/uploads/2023/09/Sanctuary2.jpg
END:VEVENT
BEGIN:VEVENT
DTSTART;TZID=America/Chicago:20280508T080000
DTEND;TZID=America/Chicago:20280508T090000
DTSTAMP:20260425T232723
CREATED:20230904T000049Z
LAST-MODIFIED:20260303T231046Z
UID:10001349-1841385600-1841389200@cccaustin.org
SUMMARY:Open Sanctuary
DESCRIPTION:The sanctuary will be open to welcome all for a time of meditation and reflection. Come by and be sure to share with your friends\, neighbors\, and co-workers who may also like to drop by. Pastor Layne will be on hand on his Pastor’s Porch at the front door with fresh coffee\, breakfast bars\, conversation\, smiles\, and the Joke of the Day.
URL:https://cccaustin.org/event/open-sanctuary/2028-05-08/
LOCATION:Central Christian Church\, 1110 Guadalupe Street\, Austin\, 78701\, United States
ATTACH;FMTTYPE=image/jpeg:https://cccaustin.org/wp-content/uploads/2023/09/Sanctuary2.jpg
END:VEVENT
BEGIN:VEVENT
DTSTART;TZID=America/Chicago:20280510T080000
DTEND;TZID=America/Chicago:20280510T090000
DTSTAMP:20260425T232723
CREATED:20230904T000049Z
LAST-MODIFIED:20260303T231046Z
UID:10001350-1841558400-1841562000@cccaustin.org
SUMMARY:Open Sanctuary
DESCRIPTION:The sanctuary will be open to welcome all for a time of meditation and reflection. Come by and be sure to share with your friends\, neighbors\, and co-workers who may also like to drop by. Pastor Layne will be on hand on his Pastor’s Porch at the front door with fresh coffee\, breakfast bars\, conversation\, smiles\, and the Joke of the Day.
URL:https://cccaustin.org/event/open-sanctuary/2028-05-10/
LOCATION:Central Christian Church\, 1110 Guadalupe Street\, Austin\, 78701\, United States
ATTACH;FMTTYPE=image/jpeg:https://cccaustin.org/wp-content/uploads/2023/09/Sanctuary2.jpg
END:VEVENT
END:VCALENDAR