BEGIN:VCALENDAR
VERSION:2.0
PRODID:-//Central Christian Church - ECPv6.15.20//NONSGML v1.0//EN
CALSCALE:GREGORIAN
METHOD:PUBLISH
X-WR-CALNAME:Central Christian Church
X-ORIGINAL-URL:https://cccaustin.org
X-WR-CALDESC:Events for Central Christian Church
REFRESH-INTERVAL;VALUE=DURATION:PT1H
X-Robots-Tag:noindex
X-PUBLISHED-TTL:PT1H
BEGIN:VTIMEZONE
TZID:America/Chicago
BEGIN:DAYLIGHT
TZOFFSETFROM:-0600
TZOFFSETTO:-0500
TZNAME:CDT
DTSTART:20250309T080000
END:DAYLIGHT
BEGIN:STANDARD
TZOFFSETFROM:-0500
TZOFFSETTO:-0600
TZNAME:CST
DTSTART:20251102T070000
END:STANDARD
BEGIN:DAYLIGHT
TZOFFSETFROM:-0600
TZOFFSETTO:-0500
TZNAME:CDT
DTSTART:20260308T080000
END:DAYLIGHT
BEGIN:STANDARD
TZOFFSETFROM:-0500
TZOFFSETTO:-0600
TZNAME:CST
DTSTART:20261101T070000
END:STANDARD
BEGIN:DAYLIGHT
TZOFFSETFROM:-0600
TZOFFSETTO:-0500
TZNAME:CDT
DTSTART:20270314T080000
END:DAYLIGHT
BEGIN:STANDARD
TZOFFSETFROM:-0500
TZOFFSETTO:-0600
TZNAME:CST
DTSTART:20271107T070000
END:STANDARD
END:VTIMEZONE
BEGIN:VEVENT
DTSTART;TZID=America/Chicago:20260323T110000
DTEND;TZID=America/Chicago:20260323T120000
DTSTAMP:20260424T175028
CREATED:20251106T010826Z
LAST-MODIFIED:20260203T222400Z
UID:10002584-1774263600-1774267200@cccaustin.org
SUMMARY:Staff Meeting
DESCRIPTION:
URL:https://cccaustin.org/event/staff-meeting/2026-03-23/
LOCATION:Central Christian Church\, 1110 Guadalupe Street\, Austin\, 78701\, United States
ATTACH;FMTTYPE=image/jpeg:https://cccaustin.org/wp-content/uploads/2025/11/teaching-in-2020-3.jpg
END:VEVENT
BEGIN:VEVENT
DTSTART;TZID=America/Chicago:20260323T080000
DTEND;TZID=America/Chicago:20260323T090000
DTSTAMP:20260424T175028
CREATED:20230904T000049Z
LAST-MODIFIED:20260303T231046Z
UID:10001127-1774252800-1774256400@cccaustin.org
SUMMARY:Open Sanctuary
DESCRIPTION:The sanctuary will be open to welcome all for a time of meditation and reflection. Come by and be sure to share with your friends\, neighbors\, and co-workers who may also like to drop by. Pastor Layne will be on hand on his Pastor’s Porch at the front door with fresh coffee\, breakfast bars\, conversation\, smiles\, and the Joke of the Day.
URL:https://cccaustin.org/event/open-sanctuary/2026-03-23/
LOCATION:Central Christian Church\, 1110 Guadalupe Street\, Austin\, 78701\, United States
ATTACH;FMTTYPE=image/jpeg:https://cccaustin.org/wp-content/uploads/2023/09/Sanctuary2.jpg
END:VEVENT
BEGIN:VEVENT
DTSTART;TZID=America/Chicago:20260322T110000
DTEND;TZID=America/Chicago:20260322T120000
DTSTAMP:20260424T175028
CREATED:20241210T164358Z
LAST-MODIFIED:20260324T031230Z
UID:10002051-1774177200-1774180800@cccaustin.org
SUMMARY:Worship Service
DESCRIPTION:Please join us each Sunday morning at 11am in person\, or livestreaming on our facebook page (link below) to take part in our worship service as we share fellowship\, music\, Communion\, and a thought provoking sermon. We hope to see you! \n\nhttps://www.facebook.com/CentralChristianChurchAustin
URL:https://cccaustin.org/event/worship-service-3/2026-03-22/
LOCATION:Central Christian Church\, 1110 Guadalupe Street\, Austin\, 78701\, United States
ATTACH;FMTTYPE=image/jpeg:https://cccaustin.org/wp-content/uploads/2022/07/worship2.jpg
END:VEVENT
BEGIN:VEVENT
DTSTART;TZID=America/Chicago:20260322T093000
DTEND;TZID=America/Chicago:20260322T103000
DTSTAMP:20260424T175028
CREATED:20260203T213529Z
LAST-MODIFIED:20260303T225358Z
UID:10003217-1774171800-1774175400@cccaustin.org
SUMMARY:Breakfast & Bible Study
DESCRIPTION:Please join us in the Fellowship Hall starting February 8th to join Pastor Layne for his six-week presentation/discussion “How I Read My Bible”. Arrive by 9:30am to make a plate and fill your coffee cup. Discussion will begin promptly at 9:45am and end at 10:30am. Old-timers and newbies welcome!
URL:https://cccaustin.org/event/breakfast-bible-study/2026-03-22/
LOCATION:Central Christian Church\, 1110 Guadalupe Street\, Austin\, 78701\, United States
ATTACH;FMTTYPE=image/jpeg:https://cccaustin.org/wp-content/uploads/2026/02/Bible-and-Glasses.jpg
END:VEVENT
BEGIN:VEVENT
DTSTART;TZID=America/Chicago:20260318T190000
DTEND;TZID=America/Chicago:20260318T200000
DTSTAMP:20260424T175028
CREATED:20260203T213937Z
LAST-MODIFIED:20260203T221530Z
UID:10003185-1773860400-1773864000@cccaustin.org
SUMMARY:Lenten Book Study
DESCRIPTION:Please join us both in person or over Zoom for our prayer gathering and book study where we will be discussing Adam Hamilton’s book\, Final Words from the Cross.
URL:https://cccaustin.org/event/lenten-book-study/2026-03-18/
LOCATION:Central Christian Church\, 1110 Guadalupe Street\, Austin\, 78701\, United States
ATTACH;FMTTYPE=image/jpeg:https://cccaustin.org/wp-content/uploads/2026/02/Bible-and-Glasses.jpg
END:VEVENT
BEGIN:VEVENT
DTSTART;TZID=America/Chicago:20260318T180000
DTEND;TZID=America/Chicago:20260318T190000
DTSTAMP:20260424T175028
CREATED:20260203T214419Z
LAST-MODIFIED:20260203T214419Z
UID:10003193-1773856800-1773860400@cccaustin.org
SUMMARY:Meager Meal
DESCRIPTION:Please join us in the Fellowship Hall for a meager meal as we prepare for the upcoming prayer gathering and book study.
URL:https://cccaustin.org/event/meager-meal/2026-03-18/
LOCATION:Central Christian Church\, 1110 Guadalupe Street\, Austin\, 78701\, United States
ATTACH;FMTTYPE=image/jpeg:https://cccaustin.org/wp-content/uploads/2025/03/meager-meal.jpg
END:VEVENT
BEGIN:VEVENT
DTSTART;TZID=America/Chicago:20260318T080000
DTEND;TZID=America/Chicago:20260318T090000
DTSTAMP:20260424T175028
CREATED:20230904T000049Z
LAST-MODIFIED:20260303T231046Z
UID:10001126-1773820800-1773824400@cccaustin.org
SUMMARY:Open Sanctuary
DESCRIPTION:The sanctuary will be open to welcome all for a time of meditation and reflection. Come by and be sure to share with your friends\, neighbors\, and co-workers who may also like to drop by. Pastor Layne will be on hand on his Pastor’s Porch at the front door with fresh coffee\, breakfast bars\, conversation\, smiles\, and the Joke of the Day.
URL:https://cccaustin.org/event/open-sanctuary/2026-03-18/
LOCATION:Central Christian Church\, 1110 Guadalupe Street\, Austin\, 78701\, United States
ATTACH;FMTTYPE=image/jpeg:https://cccaustin.org/wp-content/uploads/2023/09/Sanctuary2.jpg
END:VEVENT
BEGIN:VEVENT
DTSTART;TZID=America/Chicago:20260316T110000
DTEND;TZID=America/Chicago:20260316T120000
DTSTAMP:20260424T175028
CREATED:20251106T010826Z
LAST-MODIFIED:20260203T222400Z
UID:10002583-1773658800-1773662400@cccaustin.org
SUMMARY:Staff Meeting
DESCRIPTION:
URL:https://cccaustin.org/event/staff-meeting/2026-03-16/
LOCATION:Central Christian Church\, 1110 Guadalupe Street\, Austin\, 78701\, United States
ATTACH;FMTTYPE=image/jpeg:https://cccaustin.org/wp-content/uploads/2025/11/teaching-in-2020-3.jpg
END:VEVENT
BEGIN:VEVENT
DTSTART;TZID=America/Chicago:20260315T120000
DTEND;TZID=America/Chicago:20260315T130000
DTSTAMP:20260424T175028
CREATED:20260303T230849Z
LAST-MODIFIED:20260303T230849Z
UID:10003218-1773576000-1773579600@cccaustin.org
SUMMARY:March Luncheon
DESCRIPTION:Get ready for St. Patty’s day by staying after church for a luncheon on march 15th. We will provide Ham and Potatoes. Can you bring something GREEN? Please contact Michyl-Shannon to say what you will provide.
URL:https://cccaustin.org/event/march-luncheon/
LOCATION:Central Christian Church\, 1110 Guadalupe Street\, Austin\, 78701\, United States
ATTACH;FMTTYPE=image/jpeg:https://cccaustin.org/wp-content/uploads/2025/11/images.jpeg
END:VEVENT
BEGIN:VEVENT
DTSTART;TZID=America/Chicago:20260315T110000
DTEND;TZID=America/Chicago:20260315T120000
DTSTAMP:20260424T175028
CREATED:20241210T164358Z
LAST-MODIFIED:20260324T031230Z
UID:10002050-1773572400-1773576000@cccaustin.org
SUMMARY:Worship Service
DESCRIPTION:Please join us each Sunday morning at 11am in person\, or livestreaming on our facebook page (link below) to take part in our worship service as we share fellowship\, music\, Communion\, and a thought provoking sermon. We hope to see you! \n\nhttps://www.facebook.com/CentralChristianChurchAustin
URL:https://cccaustin.org/event/worship-service-3/2026-03-15/
LOCATION:Central Christian Church\, 1110 Guadalupe Street\, Austin\, 78701\, United States
ATTACH;FMTTYPE=image/jpeg:https://cccaustin.org/wp-content/uploads/2022/07/worship2.jpg
END:VEVENT
BEGIN:VEVENT
DTSTART;TZID=America/Chicago:20260311T190000
DTEND;TZID=America/Chicago:20260311T200000
DTSTAMP:20260424T175028
CREATED:20260203T213937Z
LAST-MODIFIED:20260203T221530Z
UID:10003184-1773255600-1773259200@cccaustin.org
SUMMARY:Lenten Book Study
DESCRIPTION:Please join us both in person or over Zoom for our prayer gathering and book study where we will be discussing Adam Hamilton’s book\, Final Words from the Cross.
URL:https://cccaustin.org/event/lenten-book-study/2026-03-11/
LOCATION:Central Christian Church\, 1110 Guadalupe Street\, Austin\, 78701\, United States
ATTACH;FMTTYPE=image/jpeg:https://cccaustin.org/wp-content/uploads/2026/02/Bible-and-Glasses.jpg
END:VEVENT
BEGIN:VEVENT
DTSTART;TZID=America/Chicago:20260311T180000
DTEND;TZID=America/Chicago:20260311T190000
DTSTAMP:20260424T175028
CREATED:20260203T214419Z
LAST-MODIFIED:20260203T214419Z
UID:10003192-1773252000-1773255600@cccaustin.org
SUMMARY:Meager Meal
DESCRIPTION:Please join us in the Fellowship Hall for a meager meal as we prepare for the upcoming prayer gathering and book study.
URL:https://cccaustin.org/event/meager-meal/2026-03-11/
LOCATION:Central Christian Church\, 1110 Guadalupe Street\, Austin\, 78701\, United States
ATTACH;FMTTYPE=image/jpeg:https://cccaustin.org/wp-content/uploads/2025/03/meager-meal.jpg
END:VEVENT
BEGIN:VEVENT
DTSTART;TZID=America/Chicago:20260311T080000
DTEND;TZID=America/Chicago:20260311T090000
DTSTAMP:20260424T175028
CREATED:20230904T000049Z
LAST-MODIFIED:20260303T231046Z
UID:10001124-1773216000-1773219600@cccaustin.org
SUMMARY:Open Sanctuary
DESCRIPTION:The sanctuary will be open to welcome all for a time of meditation and reflection. Come by and be sure to share with your friends\, neighbors\, and co-workers who may also like to drop by. Pastor Layne will be on hand on his Pastor’s Porch at the front door with fresh coffee\, breakfast bars\, conversation\, smiles\, and the Joke of the Day.
URL:https://cccaustin.org/event/open-sanctuary/2026-03-11/
LOCATION:Central Christian Church\, 1110 Guadalupe Street\, Austin\, 78701\, United States
ATTACH;FMTTYPE=image/jpeg:https://cccaustin.org/wp-content/uploads/2023/09/Sanctuary2.jpg
END:VEVENT
BEGIN:VEVENT
DTSTART;TZID=America/Chicago:20260310T120000
DTEND;TZID=America/Chicago:20260310T130000
DTSTAMP:20260424T175028
CREATED:20260303T224818Z
LAST-MODIFIED:20260303T224818Z
UID:10003214-1773144000-1773147600@cccaustin.org
SUMMARY:Capital Clergy Meeting
DESCRIPTION:
URL:https://cccaustin.org/event/capital-clergy-meeting/
LOCATION:Central Christian Church\, 1110 Guadalupe Street\, Austin\, 78701\, United States
ATTACH;FMTTYPE=image/jpeg:https://cccaustin.org/wp-content/uploads/2025/11/Clergy-Meeting.jpg
END:VEVENT
BEGIN:VEVENT
DTSTART;TZID=America/Chicago:20260309T110000
DTEND;TZID=America/Chicago:20260309T120000
DTSTAMP:20260424T175028
CREATED:20251106T010826Z
LAST-MODIFIED:20260203T222400Z
UID:10002582-1773054000-1773057600@cccaustin.org
SUMMARY:Staff Meeting
DESCRIPTION:
URL:https://cccaustin.org/event/staff-meeting/2026-03-09/
LOCATION:Central Christian Church\, 1110 Guadalupe Street\, Austin\, 78701\, United States
ATTACH;FMTTYPE=image/jpeg:https://cccaustin.org/wp-content/uploads/2025/11/teaching-in-2020-3.jpg
END:VEVENT
BEGIN:VEVENT
DTSTART;TZID=America/Chicago:20260309T080000
DTEND;TZID=America/Chicago:20260309T090000
DTSTAMP:20260424T175028
CREATED:20230904T000049Z
LAST-MODIFIED:20260303T231046Z
UID:10001123-1773043200-1773046800@cccaustin.org
SUMMARY:Open Sanctuary
DESCRIPTION:The sanctuary will be open to welcome all for a time of meditation and reflection. Come by and be sure to share with your friends\, neighbors\, and co-workers who may also like to drop by. Pastor Layne will be on hand on his Pastor’s Porch at the front door with fresh coffee\, breakfast bars\, conversation\, smiles\, and the Joke of the Day.
URL:https://cccaustin.org/event/open-sanctuary/2026-03-09/
LOCATION:Central Christian Church\, 1110 Guadalupe Street\, Austin\, 78701\, United States
ATTACH;FMTTYPE=image/jpeg:https://cccaustin.org/wp-content/uploads/2023/09/Sanctuary2.jpg
END:VEVENT
BEGIN:VEVENT
DTSTART;TZID=America/Chicago:20260308T110000
DTEND;TZID=America/Chicago:20260308T120000
DTSTAMP:20260424T175028
CREATED:20241210T164358Z
LAST-MODIFIED:20260324T031230Z
UID:10002049-1772967600-1772971200@cccaustin.org
SUMMARY:Worship Service
DESCRIPTION:Please join us each Sunday morning at 11am in person\, or livestreaming on our facebook page (link below) to take part in our worship service as we share fellowship\, music\, Communion\, and a thought provoking sermon. We hope to see you! \n\nhttps://www.facebook.com/CentralChristianChurchAustin
URL:https://cccaustin.org/event/worship-service-3/2026-03-08/
LOCATION:Central Christian Church\, 1110 Guadalupe Street\, Austin\, 78701\, United States
ATTACH;FMTTYPE=image/jpeg:https://cccaustin.org/wp-content/uploads/2022/07/worship2.jpg
END:VEVENT
BEGIN:VEVENT
DTSTART;TZID=America/Chicago:20260308T093000
DTEND;TZID=America/Chicago:20260308T103000
DTSTAMP:20260424T175028
CREATED:20260203T213529Z
LAST-MODIFIED:20260303T225358Z
UID:10003178-1772962200-1772965800@cccaustin.org
SUMMARY:Breakfast & Bible Study
DESCRIPTION:Please join us in the Fellowship Hall starting February 8th to join Pastor Layne for his six-week presentation/discussion “How I Read My Bible”. Arrive by 9:30am to make a plate and fill your coffee cup. Discussion will begin promptly at 9:45am and end at 10:30am. Old-timers and newbies welcome!
URL:https://cccaustin.org/event/breakfast-bible-study/2026-03-08/
LOCATION:Central Christian Church\, 1110 Guadalupe Street\, Austin\, 78701\, United States
ATTACH;FMTTYPE=image/jpeg:https://cccaustin.org/wp-content/uploads/2026/02/Bible-and-Glasses.jpg
END:VEVENT
BEGIN:VEVENT
DTSTART;TZID=America/Chicago:20260307T120000
DTEND;TZID=America/Chicago:20260307T170000
DTSTAMP:20260424T175028
CREATED:20260303T224518Z
LAST-MODIFIED:20260303T224518Z
UID:10003213-1772884800-1772902800@cccaustin.org
SUMMARY:Austin Creative Alliance Open House
DESCRIPTION:All are invited! Come check out our newest tenants – see live performances in the sanctuary and in the community room. And then visit the various artists on the second and third floors!
URL:https://cccaustin.org/event/austin-creative-alliance-open-house/
LOCATION:Central Christian Church\, 1110 Guadalupe Street\, Austin\, 78701\, United States
ATTACH;FMTTYPE=image/webp:https://cccaustin.org/wp-content/uploads/2026/03/ACABlackstackedtextw-bluelogo.png.webp
END:VEVENT
BEGIN:VEVENT
DTSTART;TZID=America/Chicago:20260304T190000
DTEND;TZID=America/Chicago:20260304T200000
DTSTAMP:20260424T175028
CREATED:20260203T213937Z
LAST-MODIFIED:20260203T221530Z
UID:10003183-1772650800-1772654400@cccaustin.org
SUMMARY:Lenten Book Study
DESCRIPTION:Please join us both in person or over Zoom for our prayer gathering and book study where we will be discussing Adam Hamilton’s book\, Final Words from the Cross.
URL:https://cccaustin.org/event/lenten-book-study/2026-03-04/
LOCATION:Central Christian Church\, 1110 Guadalupe Street\, Austin\, 78701\, United States
ATTACH;FMTTYPE=image/jpeg:https://cccaustin.org/wp-content/uploads/2026/02/Bible-and-Glasses.jpg
END:VEVENT
BEGIN:VEVENT
DTSTART;TZID=America/Chicago:20260304T180000
DTEND;TZID=America/Chicago:20260304T190000
DTSTAMP:20260424T175028
CREATED:20260203T214419Z
LAST-MODIFIED:20260203T214419Z
UID:10003191-1772647200-1772650800@cccaustin.org
SUMMARY:Meager Meal
DESCRIPTION:Please join us in the Fellowship Hall for a meager meal as we prepare for the upcoming prayer gathering and book study.
URL:https://cccaustin.org/event/meager-meal/2026-03-04/
LOCATION:Central Christian Church\, 1110 Guadalupe Street\, Austin\, 78701\, United States
ATTACH;FMTTYPE=image/jpeg:https://cccaustin.org/wp-content/uploads/2025/03/meager-meal.jpg
END:VEVENT
BEGIN:VEVENT
DTSTART;TZID=America/Chicago:20260304T080000
DTEND;TZID=America/Chicago:20260304T090000
DTSTAMP:20260424T175028
CREATED:20230904T000049Z
LAST-MODIFIED:20260303T231046Z
UID:10001122-1772611200-1772614800@cccaustin.org
SUMMARY:Open Sanctuary
DESCRIPTION:The sanctuary will be open to welcome all for a time of meditation and reflection. Come by and be sure to share with your friends\, neighbors\, and co-workers who may also like to drop by. Pastor Layne will be on hand on his Pastor’s Porch at the front door with fresh coffee\, breakfast bars\, conversation\, smiles\, and the Joke of the Day.
URL:https://cccaustin.org/event/open-sanctuary/2026-03-04/
LOCATION:Central Christian Church\, 1110 Guadalupe Street\, Austin\, 78701\, United States
ATTACH;FMTTYPE=image/jpeg:https://cccaustin.org/wp-content/uploads/2023/09/Sanctuary2.jpg
END:VEVENT
BEGIN:VEVENT
DTSTART;TZID=America/Chicago:20260302T183000
DTEND;TZID=America/Chicago:20260302T200000
DTSTAMP:20260424T175028
CREATED:20251201T162815Z
LAST-MODIFIED:20251201T162815Z
UID:10002639-1772476200-1772481600@cccaustin.org
SUMMARY:NAMI Meeting
DESCRIPTION:
URL:https://cccaustin.org/event/nami-meeting/2026-03-02/
LOCATION:Central Christian Church\, 1110 Guadalupe Street\, Austin\, 78701\, United States
ATTACH;FMTTYPE=image/jpeg:https://cccaustin.org/wp-content/uploads/2025/12/NAMI.jpeg
END:VEVENT
BEGIN:VEVENT
DTSTART;TZID=America/Chicago:20260302T110000
DTEND;TZID=America/Chicago:20260302T120000
DTSTAMP:20260424T175028
CREATED:20251106T010826Z
LAST-MODIFIED:20260203T222400Z
UID:10002581-1772449200-1772452800@cccaustin.org
SUMMARY:Staff Meeting
DESCRIPTION:
URL:https://cccaustin.org/event/staff-meeting/2026-03-02/
LOCATION:Central Christian Church\, 1110 Guadalupe Street\, Austin\, 78701\, United States
ATTACH;FMTTYPE=image/jpeg:https://cccaustin.org/wp-content/uploads/2025/11/teaching-in-2020-3.jpg
END:VEVENT
BEGIN:VEVENT
DTSTART;TZID=America/Chicago:20260302T080000
DTEND;TZID=America/Chicago:20260302T090000
DTSTAMP:20260424T175028
CREATED:20230904T000049Z
LAST-MODIFIED:20260303T231046Z
UID:10001121-1772438400-1772442000@cccaustin.org
SUMMARY:Open Sanctuary
DESCRIPTION:The sanctuary will be open to welcome all for a time of meditation and reflection. Come by and be sure to share with your friends\, neighbors\, and co-workers who may also like to drop by. Pastor Layne will be on hand on his Pastor’s Porch at the front door with fresh coffee\, breakfast bars\, conversation\, smiles\, and the Joke of the Day.
URL:https://cccaustin.org/event/open-sanctuary/2026-03-02/
LOCATION:Central Christian Church\, 1110 Guadalupe Street\, Austin\, 78701\, United States
ATTACH;FMTTYPE=image/jpeg:https://cccaustin.org/wp-content/uploads/2023/09/Sanctuary2.jpg
END:VEVENT
BEGIN:VEVENT
DTSTART;TZID=America/Chicago:20260301T110000
DTEND;TZID=America/Chicago:20260301T120000
DTSTAMP:20260424T175028
CREATED:20241210T164358Z
LAST-MODIFIED:20260324T031230Z
UID:10002048-1772362800-1772366400@cccaustin.org
SUMMARY:Worship Service
DESCRIPTION:Please join us each Sunday morning at 11am in person\, or livestreaming on our facebook page (link below) to take part in our worship service as we share fellowship\, music\, Communion\, and a thought provoking sermon. We hope to see you! \n\nhttps://www.facebook.com/CentralChristianChurchAustin
URL:https://cccaustin.org/event/worship-service-3/2026-03-01/
LOCATION:Central Christian Church\, 1110 Guadalupe Street\, Austin\, 78701\, United States
ATTACH;FMTTYPE=image/jpeg:https://cccaustin.org/wp-content/uploads/2022/07/worship2.jpg
END:VEVENT
BEGIN:VEVENT
DTSTART;TZID=America/Chicago:20260301T093000
DTEND;TZID=America/Chicago:20260301T103000
DTSTAMP:20260424T175028
CREATED:20260203T213529Z
LAST-MODIFIED:20260303T225358Z
UID:10003177-1772357400-1772361000@cccaustin.org
SUMMARY:Breakfast & Bible Study
DESCRIPTION:Please join us in the Fellowship Hall starting February 8th to join Pastor Layne for his six-week presentation/discussion “How I Read My Bible”. Arrive by 9:30am to make a plate and fill your coffee cup. Discussion will begin promptly at 9:45am and end at 10:30am. Old-timers and newbies welcome!
URL:https://cccaustin.org/event/breakfast-bible-study/2026-03-01/
LOCATION:Central Christian Church\, 1110 Guadalupe Street\, Austin\, 78701\, United States
ATTACH;FMTTYPE=image/jpeg:https://cccaustin.org/wp-content/uploads/2026/02/Bible-and-Glasses.jpg
END:VEVENT
BEGIN:VEVENT
DTSTART;TZID=America/Chicago:20260225T190000
DTEND;TZID=America/Chicago:20260225T200000
DTSTAMP:20260424T175028
CREATED:20260203T213937Z
LAST-MODIFIED:20260203T221530Z
UID:10003182-1772046000-1772049600@cccaustin.org
SUMMARY:Lenten Book Study
DESCRIPTION:Please join us both in person or over Zoom for our prayer gathering and book study where we will be discussing Adam Hamilton’s book\, Final Words from the Cross.
URL:https://cccaustin.org/event/lenten-book-study/2026-02-25/
LOCATION:Central Christian Church\, 1110 Guadalupe Street\, Austin\, 78701\, United States
ATTACH;FMTTYPE=image/jpeg:https://cccaustin.org/wp-content/uploads/2026/02/Bible-and-Glasses.jpg
END:VEVENT
BEGIN:VEVENT
DTSTART;TZID=America/Chicago:20260225T180000
DTEND;TZID=America/Chicago:20260225T190000
DTSTAMP:20260424T175028
CREATED:20260203T214419Z
LAST-MODIFIED:20260203T214419Z
UID:10003190-1772042400-1772046000@cccaustin.org
SUMMARY:Meager Meal
DESCRIPTION:Please join us in the Fellowship Hall for a meager meal as we prepare for the upcoming prayer gathering and book study.
URL:https://cccaustin.org/event/meager-meal/2026-02-25/
LOCATION:Central Christian Church\, 1110 Guadalupe Street\, Austin\, 78701\, United States
ATTACH;FMTTYPE=image/jpeg:https://cccaustin.org/wp-content/uploads/2025/03/meager-meal.jpg
END:VEVENT
BEGIN:VEVENT
DTSTART;TZID=America/Chicago:20260225T080000
DTEND;TZID=America/Chicago:20260225T090000
DTSTAMP:20260424T175028
CREATED:20230904T000049Z
LAST-MODIFIED:20260303T231046Z
UID:10001120-1772006400-1772010000@cccaustin.org
SUMMARY:Open Sanctuary
DESCRIPTION:The sanctuary will be open to welcome all for a time of meditation and reflection. Come by and be sure to share with your friends\, neighbors\, and co-workers who may also like to drop by. Pastor Layne will be on hand on his Pastor’s Porch at the front door with fresh coffee\, breakfast bars\, conversation\, smiles\, and the Joke of the Day.
URL:https://cccaustin.org/event/open-sanctuary/2026-02-25/
LOCATION:Central Christian Church\, 1110 Guadalupe Street\, Austin\, 78701\, United States
ATTACH;FMTTYPE=image/jpeg:https://cccaustin.org/wp-content/uploads/2023/09/Sanctuary2.jpg
END:VEVENT
END:VCALENDAR