BEGIN:VCALENDAR
VERSION:2.0
PRODID:-//Central Christian Church - ECPv6.15.20//NONSGML v1.0//EN
CALSCALE:GREGORIAN
METHOD:PUBLISH
X-ORIGINAL-URL:https://cccaustin.org
X-WR-CALDESC:Events for Central Christian Church
REFRESH-INTERVAL;VALUE=DURATION:PT1H
X-Robots-Tag:noindex
X-PUBLISHED-TTL:PT1H
BEGIN:VTIMEZONE
TZID:America/Chicago
BEGIN:DAYLIGHT
TZOFFSETFROM:-0600
TZOFFSETTO:-0500
TZNAME:CDT
DTSTART:20250309T080000
END:DAYLIGHT
BEGIN:STANDARD
TZOFFSETFROM:-0500
TZOFFSETTO:-0600
TZNAME:CST
DTSTART:20251102T070000
END:STANDARD
BEGIN:DAYLIGHT
TZOFFSETFROM:-0600
TZOFFSETTO:-0500
TZNAME:CDT
DTSTART:20260308T080000
END:DAYLIGHT
BEGIN:STANDARD
TZOFFSETFROM:-0500
TZOFFSETTO:-0600
TZNAME:CST
DTSTART:20261101T070000
END:STANDARD
BEGIN:DAYLIGHT
TZOFFSETFROM:-0600
TZOFFSETTO:-0500
TZNAME:CDT
DTSTART:20270314T080000
END:DAYLIGHT
BEGIN:STANDARD
TZOFFSETFROM:-0500
TZOFFSETTO:-0600
TZNAME:CST
DTSTART:20271107T070000
END:STANDARD
END:VTIMEZONE
BEGIN:VEVENT
DTSTART;TZID=America/Chicago:20260601T183000
DTEND;TZID=America/Chicago:20260601T200000
DTSTAMP:20260424T160742
CREATED:20251201T162815Z
LAST-MODIFIED:20251201T162815Z
UID:10002642-1780338600-1780344000@cccaustin.org
SUMMARY:NAMI Meeting
DESCRIPTION:
URL:https://cccaustin.org/event/nami-meeting/2026-06-01/
LOCATION:Central Christian Church\, 1110 Guadalupe Street\, Austin\, 78701\, United States
ATTACH;FMTTYPE=image/jpeg:https://cccaustin.org/wp-content/uploads/2025/12/NAMI.jpeg
END:VEVENT
BEGIN:VEVENT
DTSTART;TZID=America/Chicago:20260603T080000
DTEND;TZID=America/Chicago:20260603T090000
DTSTAMP:20260424T160742
CREATED:20230904T000049Z
LAST-MODIFIED:20260303T231046Z
UID:10001148-1780473600-1780477200@cccaustin.org
SUMMARY:Open Sanctuary
DESCRIPTION:The sanctuary will be open to welcome all for a time of meditation and reflection. Come by and be sure to share with your friends\, neighbors\, and co-workers who may also like to drop by. Pastor Layne will be on hand on his Pastor’s Porch at the front door with fresh coffee\, breakfast bars\, conversation\, smiles\, and the Joke of the Day.
URL:https://cccaustin.org/event/open-sanctuary/2026-06-03/
LOCATION:Central Christian Church\, 1110 Guadalupe Street\, Austin\, 78701\, United States
ATTACH;FMTTYPE=image/jpeg:https://cccaustin.org/wp-content/uploads/2023/09/Sanctuary2.jpg
END:VEVENT
BEGIN:VEVENT
DTSTART;TZID=America/Chicago:20260607T110000
DTEND;TZID=America/Chicago:20260607T120000
DTSTAMP:20260424T160742
CREATED:20241210T164358Z
LAST-MODIFIED:20260324T031230Z
UID:10003235-1780830000-1780833600@cccaustin.org
SUMMARY:Worship Service
DESCRIPTION:Please join us each Sunday morning at 11am in person\, or livestreaming on our facebook page (link below) to take part in our worship service as we share fellowship\, music\, Communion\, and a thought provoking sermon. We hope to see you! \n\nhttps://www.facebook.com/CentralChristianChurchAustin
URL:https://cccaustin.org/event/worship-service-3/2026-06-07/
LOCATION:Central Christian Church\, 1110 Guadalupe Street\, Austin\, 78701\, United States
ATTACH;FMTTYPE=image/jpeg:https://cccaustin.org/wp-content/uploads/2022/07/worship2.jpg
END:VEVENT
BEGIN:VEVENT
DTSTART;TZID=America/Chicago:20260608T080000
DTEND;TZID=America/Chicago:20260608T090000
DTSTAMP:20260424T160742
CREATED:20230904T000049Z
LAST-MODIFIED:20260303T231046Z
UID:10001149-1780905600-1780909200@cccaustin.org
SUMMARY:Open Sanctuary
DESCRIPTION:The sanctuary will be open to welcome all for a time of meditation and reflection. Come by and be sure to share with your friends\, neighbors\, and co-workers who may also like to drop by. Pastor Layne will be on hand on his Pastor’s Porch at the front door with fresh coffee\, breakfast bars\, conversation\, smiles\, and the Joke of the Day.
URL:https://cccaustin.org/event/open-sanctuary/2026-06-08/
LOCATION:Central Christian Church\, 1110 Guadalupe Street\, Austin\, 78701\, United States
ATTACH;FMTTYPE=image/jpeg:https://cccaustin.org/wp-content/uploads/2023/09/Sanctuary2.jpg
END:VEVENT
BEGIN:VEVENT
DTSTART;TZID=America/Chicago:20260608T110000
DTEND;TZID=America/Chicago:20260608T120000
DTSTAMP:20260424T160742
CREATED:20251106T010826Z
LAST-MODIFIED:20260203T222400Z
UID:10002595-1780916400-1780920000@cccaustin.org
SUMMARY:Staff Meeting
DESCRIPTION:
URL:https://cccaustin.org/event/staff-meeting/2026-06-08/
LOCATION:Central Christian Church\, 1110 Guadalupe Street\, Austin\, 78701\, United States
ATTACH;FMTTYPE=image/jpeg:https://cccaustin.org/wp-content/uploads/2025/11/teaching-in-2020-3.jpg
END:VEVENT
BEGIN:VEVENT
DTSTART;TZID=America/Chicago:20260610T080000
DTEND;TZID=America/Chicago:20260610T090000
DTSTAMP:20260424T160742
CREATED:20230904T000049Z
LAST-MODIFIED:20260303T231046Z
UID:10001150-1781078400-1781082000@cccaustin.org
SUMMARY:Open Sanctuary
DESCRIPTION:The sanctuary will be open to welcome all for a time of meditation and reflection. Come by and be sure to share with your friends\, neighbors\, and co-workers who may also like to drop by. Pastor Layne will be on hand on his Pastor’s Porch at the front door with fresh coffee\, breakfast bars\, conversation\, smiles\, and the Joke of the Day.
URL:https://cccaustin.org/event/open-sanctuary/2026-06-10/
LOCATION:Central Christian Church\, 1110 Guadalupe Street\, Austin\, 78701\, United States
ATTACH;FMTTYPE=image/jpeg:https://cccaustin.org/wp-content/uploads/2023/09/Sanctuary2.jpg
END:VEVENT
BEGIN:VEVENT
DTSTART;TZID=America/Chicago:20260614T110000
DTEND;TZID=America/Chicago:20260614T120000
DTSTAMP:20260424T160742
CREATED:20241210T164358Z
LAST-MODIFIED:20260324T031230Z
UID:10003236-1781434800-1781438400@cccaustin.org
SUMMARY:Worship Service
DESCRIPTION:Please join us each Sunday morning at 11am in person\, or livestreaming on our facebook page (link below) to take part in our worship service as we share fellowship\, music\, Communion\, and a thought provoking sermon. We hope to see you! \n\nhttps://www.facebook.com/CentralChristianChurchAustin
URL:https://cccaustin.org/event/worship-service-3/2026-06-14/
LOCATION:Central Christian Church\, 1110 Guadalupe Street\, Austin\, 78701\, United States
ATTACH;FMTTYPE=image/jpeg:https://cccaustin.org/wp-content/uploads/2022/07/worship2.jpg
END:VEVENT
BEGIN:VEVENT
DTSTART;TZID=America/Chicago:20260615T080000
DTEND;TZID=America/Chicago:20260615T090000
DTSTAMP:20260424T160742
CREATED:20230904T000049Z
LAST-MODIFIED:20260303T231046Z
UID:10001151-1781510400-1781514000@cccaustin.org
SUMMARY:Open Sanctuary
DESCRIPTION:The sanctuary will be open to welcome all for a time of meditation and reflection. Come by and be sure to share with your friends\, neighbors\, and co-workers who may also like to drop by. Pastor Layne will be on hand on his Pastor’s Porch at the front door with fresh coffee\, breakfast bars\, conversation\, smiles\, and the Joke of the Day.
URL:https://cccaustin.org/event/open-sanctuary/2026-06-15/
LOCATION:Central Christian Church\, 1110 Guadalupe Street\, Austin\, 78701\, United States
ATTACH;FMTTYPE=image/jpeg:https://cccaustin.org/wp-content/uploads/2023/09/Sanctuary2.jpg
END:VEVENT
BEGIN:VEVENT
DTSTART;TZID=America/Chicago:20260615T110000
DTEND;TZID=America/Chicago:20260615T120000
DTSTAMP:20260424T160742
CREATED:20251106T010826Z
LAST-MODIFIED:20260203T222400Z
UID:10002596-1781521200-1781524800@cccaustin.org
SUMMARY:Staff Meeting
DESCRIPTION:
URL:https://cccaustin.org/event/staff-meeting/2026-06-15/
LOCATION:Central Christian Church\, 1110 Guadalupe Street\, Austin\, 78701\, United States
ATTACH;FMTTYPE=image/jpeg:https://cccaustin.org/wp-content/uploads/2025/11/teaching-in-2020-3.jpg
END:VEVENT
BEGIN:VEVENT
DTSTART;TZID=America/Chicago:20260617T080000
DTEND;TZID=America/Chicago:20260617T090000
DTSTAMP:20260424T160742
CREATED:20230904T000049Z
LAST-MODIFIED:20260303T231046Z
UID:10001152-1781683200-1781686800@cccaustin.org
SUMMARY:Open Sanctuary
DESCRIPTION:The sanctuary will be open to welcome all for a time of meditation and reflection. Come by and be sure to share with your friends\, neighbors\, and co-workers who may also like to drop by. Pastor Layne will be on hand on his Pastor’s Porch at the front door with fresh coffee\, breakfast bars\, conversation\, smiles\, and the Joke of the Day.
URL:https://cccaustin.org/event/open-sanctuary/2026-06-17/
LOCATION:Central Christian Church\, 1110 Guadalupe Street\, Austin\, 78701\, United States
ATTACH;FMTTYPE=image/jpeg:https://cccaustin.org/wp-content/uploads/2023/09/Sanctuary2.jpg
END:VEVENT
BEGIN:VEVENT
DTSTART;TZID=America/Chicago:20260621T110000
DTEND;TZID=America/Chicago:20260621T120000
DTSTAMP:20260424T160742
CREATED:20241210T164358Z
LAST-MODIFIED:20260324T031230Z
UID:10003237-1782039600-1782043200@cccaustin.org
SUMMARY:Worship Service
DESCRIPTION:Please join us each Sunday morning at 11am in person\, or livestreaming on our facebook page (link below) to take part in our worship service as we share fellowship\, music\, Communion\, and a thought provoking sermon. We hope to see you! \n\nhttps://www.facebook.com/CentralChristianChurchAustin
URL:https://cccaustin.org/event/worship-service-3/2026-06-21/
LOCATION:Central Christian Church\, 1110 Guadalupe Street\, Austin\, 78701\, United States
ATTACH;FMTTYPE=image/jpeg:https://cccaustin.org/wp-content/uploads/2022/07/worship2.jpg
END:VEVENT
BEGIN:VEVENT
DTSTART;TZID=America/Chicago:20260622T080000
DTEND;TZID=America/Chicago:20260622T090000
DTSTAMP:20260424T160742
CREATED:20230904T000049Z
LAST-MODIFIED:20260303T231046Z
UID:10001153-1782115200-1782118800@cccaustin.org
SUMMARY:Open Sanctuary
DESCRIPTION:The sanctuary will be open to welcome all for a time of meditation and reflection. Come by and be sure to share with your friends\, neighbors\, and co-workers who may also like to drop by. Pastor Layne will be on hand on his Pastor’s Porch at the front door with fresh coffee\, breakfast bars\, conversation\, smiles\, and the Joke of the Day.
URL:https://cccaustin.org/event/open-sanctuary/2026-06-22/
LOCATION:Central Christian Church\, 1110 Guadalupe Street\, Austin\, 78701\, United States
ATTACH;FMTTYPE=image/jpeg:https://cccaustin.org/wp-content/uploads/2023/09/Sanctuary2.jpg
END:VEVENT
BEGIN:VEVENT
DTSTART;TZID=America/Chicago:20260622T110000
DTEND;TZID=America/Chicago:20260622T120000
DTSTAMP:20260424T160742
CREATED:20251106T010826Z
LAST-MODIFIED:20260203T222400Z
UID:10002597-1782126000-1782129600@cccaustin.org
SUMMARY:Staff Meeting
DESCRIPTION:
URL:https://cccaustin.org/event/staff-meeting/2026-06-22/
LOCATION:Central Christian Church\, 1110 Guadalupe Street\, Austin\, 78701\, United States
ATTACH;FMTTYPE=image/jpeg:https://cccaustin.org/wp-content/uploads/2025/11/teaching-in-2020-3.jpg
END:VEVENT
BEGIN:VEVENT
DTSTART;TZID=America/Chicago:20260624T080000
DTEND;TZID=America/Chicago:20260624T090000
DTSTAMP:20260424T160742
CREATED:20230904T000049Z
LAST-MODIFIED:20260303T231046Z
UID:10001154-1782288000-1782291600@cccaustin.org
SUMMARY:Open Sanctuary
DESCRIPTION:The sanctuary will be open to welcome all for a time of meditation and reflection. Come by and be sure to share with your friends\, neighbors\, and co-workers who may also like to drop by. Pastor Layne will be on hand on his Pastor’s Porch at the front door with fresh coffee\, breakfast bars\, conversation\, smiles\, and the Joke of the Day.
URL:https://cccaustin.org/event/open-sanctuary/2026-06-24/
LOCATION:Central Christian Church\, 1110 Guadalupe Street\, Austin\, 78701\, United States
ATTACH;FMTTYPE=image/jpeg:https://cccaustin.org/wp-content/uploads/2023/09/Sanctuary2.jpg
END:VEVENT
BEGIN:VEVENT
DTSTART;TZID=America/Chicago:20260628T110000
DTEND;TZID=America/Chicago:20260628T120000
DTSTAMP:20260424T160742
CREATED:20241210T164358Z
LAST-MODIFIED:20260324T031230Z
UID:10003238-1782644400-1782648000@cccaustin.org
SUMMARY:Worship Service
DESCRIPTION:Please join us each Sunday morning at 11am in person\, or livestreaming on our facebook page (link below) to take part in our worship service as we share fellowship\, music\, Communion\, and a thought provoking sermon. We hope to see you! \n\nhttps://www.facebook.com/CentralChristianChurchAustin
URL:https://cccaustin.org/event/worship-service-3/2026-06-28/
LOCATION:Central Christian Church\, 1110 Guadalupe Street\, Austin\, 78701\, United States
ATTACH;FMTTYPE=image/jpeg:https://cccaustin.org/wp-content/uploads/2022/07/worship2.jpg
END:VEVENT
BEGIN:VEVENT
DTSTART;TZID=America/Chicago:20260629T080000
DTEND;TZID=America/Chicago:20260629T090000
DTSTAMP:20260424T160742
CREATED:20230904T000049Z
LAST-MODIFIED:20260303T231046Z
UID:10001155-1782720000-1782723600@cccaustin.org
SUMMARY:Open Sanctuary
DESCRIPTION:The sanctuary will be open to welcome all for a time of meditation and reflection. Come by and be sure to share with your friends\, neighbors\, and co-workers who may also like to drop by. Pastor Layne will be on hand on his Pastor’s Porch at the front door with fresh coffee\, breakfast bars\, conversation\, smiles\, and the Joke of the Day.
URL:https://cccaustin.org/event/open-sanctuary/2026-06-29/
LOCATION:Central Christian Church\, 1110 Guadalupe Street\, Austin\, 78701\, United States
ATTACH;FMTTYPE=image/jpeg:https://cccaustin.org/wp-content/uploads/2023/09/Sanctuary2.jpg
END:VEVENT
BEGIN:VEVENT
DTSTART;TZID=America/Chicago:20260629T110000
DTEND;TZID=America/Chicago:20260629T120000
DTSTAMP:20260424T160742
CREATED:20251106T010826Z
LAST-MODIFIED:20260203T222400Z
UID:10002598-1782730800-1782734400@cccaustin.org
SUMMARY:Staff Meeting
DESCRIPTION:
URL:https://cccaustin.org/event/staff-meeting/2026-06-29/
LOCATION:Central Christian Church\, 1110 Guadalupe Street\, Austin\, 78701\, United States
ATTACH;FMTTYPE=image/jpeg:https://cccaustin.org/wp-content/uploads/2025/11/teaching-in-2020-3.jpg
END:VEVENT
BEGIN:VEVENT
DTSTART;TZID=America/Chicago:20260701T080000
DTEND;TZID=America/Chicago:20260701T090000
DTSTAMP:20260424T160742
CREATED:20230904T000049Z
LAST-MODIFIED:20260303T231046Z
UID:10001156-1782892800-1782896400@cccaustin.org
SUMMARY:Open Sanctuary
DESCRIPTION:The sanctuary will be open to welcome all for a time of meditation and reflection. Come by and be sure to share with your friends\, neighbors\, and co-workers who may also like to drop by. Pastor Layne will be on hand on his Pastor’s Porch at the front door with fresh coffee\, breakfast bars\, conversation\, smiles\, and the Joke of the Day.
URL:https://cccaustin.org/event/open-sanctuary/2026-07-01/
LOCATION:Central Christian Church\, 1110 Guadalupe Street\, Austin\, 78701\, United States
ATTACH;FMTTYPE=image/jpeg:https://cccaustin.org/wp-content/uploads/2023/09/Sanctuary2.jpg
END:VEVENT
BEGIN:VEVENT
DTSTART;TZID=America/Chicago:20260705T110000
DTEND;TZID=America/Chicago:20260705T120000
DTSTAMP:20260424T160742
CREATED:20241210T164358Z
LAST-MODIFIED:20260324T031230Z
UID:10003239-1783249200-1783252800@cccaustin.org
SUMMARY:Worship Service
DESCRIPTION:Please join us each Sunday morning at 11am in person\, or livestreaming on our facebook page (link below) to take part in our worship service as we share fellowship\, music\, Communion\, and a thought provoking sermon. We hope to see you! \n\nhttps://www.facebook.com/CentralChristianChurchAustin
URL:https://cccaustin.org/event/worship-service-3/2026-07-05/
LOCATION:Central Christian Church\, 1110 Guadalupe Street\, Austin\, 78701\, United States
ATTACH;FMTTYPE=image/jpeg:https://cccaustin.org/wp-content/uploads/2022/07/worship2.jpg
END:VEVENT
BEGIN:VEVENT
DTSTART;TZID=America/Chicago:20260706T080000
DTEND;TZID=America/Chicago:20260706T090000
DTSTAMP:20260424T160742
CREATED:20230904T000049Z
LAST-MODIFIED:20260303T231046Z
UID:10001157-1783324800-1783328400@cccaustin.org
SUMMARY:Open Sanctuary
DESCRIPTION:The sanctuary will be open to welcome all for a time of meditation and reflection. Come by and be sure to share with your friends\, neighbors\, and co-workers who may also like to drop by. Pastor Layne will be on hand on his Pastor’s Porch at the front door with fresh coffee\, breakfast bars\, conversation\, smiles\, and the Joke of the Day.
URL:https://cccaustin.org/event/open-sanctuary/2026-07-06/
LOCATION:Central Christian Church\, 1110 Guadalupe Street\, Austin\, 78701\, United States
ATTACH;FMTTYPE=image/jpeg:https://cccaustin.org/wp-content/uploads/2023/09/Sanctuary2.jpg
END:VEVENT
BEGIN:VEVENT
DTSTART;TZID=America/Chicago:20260706T110000
DTEND;TZID=America/Chicago:20260706T120000
DTSTAMP:20260424T160742
CREATED:20251106T010826Z
LAST-MODIFIED:20260203T222400Z
UID:10002599-1783335600-1783339200@cccaustin.org
SUMMARY:Staff Meeting
DESCRIPTION:
URL:https://cccaustin.org/event/staff-meeting/2026-07-06/
LOCATION:Central Christian Church\, 1110 Guadalupe Street\, Austin\, 78701\, United States
ATTACH;FMTTYPE=image/jpeg:https://cccaustin.org/wp-content/uploads/2025/11/teaching-in-2020-3.jpg
END:VEVENT
BEGIN:VEVENT
DTSTART;TZID=America/Chicago:20260706T183000
DTEND;TZID=America/Chicago:20260706T200000
DTSTAMP:20260424T160742
CREATED:20251201T162815Z
LAST-MODIFIED:20251201T162815Z
UID:10002643-1783362600-1783368000@cccaustin.org
SUMMARY:NAMI Meeting
DESCRIPTION:
URL:https://cccaustin.org/event/nami-meeting/2026-07-06/
LOCATION:Central Christian Church\, 1110 Guadalupe Street\, Austin\, 78701\, United States
ATTACH;FMTTYPE=image/jpeg:https://cccaustin.org/wp-content/uploads/2025/12/NAMI.jpeg
END:VEVENT
BEGIN:VEVENT
DTSTART;TZID=America/Chicago:20260708T080000
DTEND;TZID=America/Chicago:20260708T090000
DTSTAMP:20260424T160742
CREATED:20230904T000049Z
LAST-MODIFIED:20260303T231046Z
UID:10001158-1783497600-1783501200@cccaustin.org
SUMMARY:Open Sanctuary
DESCRIPTION:The sanctuary will be open to welcome all for a time of meditation and reflection. Come by and be sure to share with your friends\, neighbors\, and co-workers who may also like to drop by. Pastor Layne will be on hand on his Pastor’s Porch at the front door with fresh coffee\, breakfast bars\, conversation\, smiles\, and the Joke of the Day.
URL:https://cccaustin.org/event/open-sanctuary/2026-07-08/
LOCATION:Central Christian Church\, 1110 Guadalupe Street\, Austin\, 78701\, United States
ATTACH;FMTTYPE=image/jpeg:https://cccaustin.org/wp-content/uploads/2023/09/Sanctuary2.jpg
END:VEVENT
BEGIN:VEVENT
DTSTART;TZID=America/Chicago:20260712T110000
DTEND;TZID=America/Chicago:20260712T120000
DTSTAMP:20260424T160742
CREATED:20241210T164358Z
LAST-MODIFIED:20260324T031230Z
UID:10003240-1783854000-1783857600@cccaustin.org
SUMMARY:Worship Service
DESCRIPTION:Please join us each Sunday morning at 11am in person\, or livestreaming on our facebook page (link below) to take part in our worship service as we share fellowship\, music\, Communion\, and a thought provoking sermon. We hope to see you! \n\nhttps://www.facebook.com/CentralChristianChurchAustin
URL:https://cccaustin.org/event/worship-service-3/2026-07-12/
LOCATION:Central Christian Church\, 1110 Guadalupe Street\, Austin\, 78701\, United States
ATTACH;FMTTYPE=image/jpeg:https://cccaustin.org/wp-content/uploads/2022/07/worship2.jpg
END:VEVENT
BEGIN:VEVENT
DTSTART;TZID=America/Chicago:20260713T080000
DTEND;TZID=America/Chicago:20260713T090000
DTSTAMP:20260424T160742
CREATED:20230904T000049Z
LAST-MODIFIED:20260303T231046Z
UID:10001159-1783929600-1783933200@cccaustin.org
SUMMARY:Open Sanctuary
DESCRIPTION:The sanctuary will be open to welcome all for a time of meditation and reflection. Come by and be sure to share with your friends\, neighbors\, and co-workers who may also like to drop by. Pastor Layne will be on hand on his Pastor’s Porch at the front door with fresh coffee\, breakfast bars\, conversation\, smiles\, and the Joke of the Day.
URL:https://cccaustin.org/event/open-sanctuary/2026-07-13/
LOCATION:Central Christian Church\, 1110 Guadalupe Street\, Austin\, 78701\, United States
ATTACH;FMTTYPE=image/jpeg:https://cccaustin.org/wp-content/uploads/2023/09/Sanctuary2.jpg
END:VEVENT
BEGIN:VEVENT
DTSTART;TZID=America/Chicago:20260713T110000
DTEND;TZID=America/Chicago:20260713T120000
DTSTAMP:20260424T160742
CREATED:20251106T010826Z
LAST-MODIFIED:20260203T222400Z
UID:10002600-1783940400-1783944000@cccaustin.org
SUMMARY:Staff Meeting
DESCRIPTION:
URL:https://cccaustin.org/event/staff-meeting/2026-07-13/
LOCATION:Central Christian Church\, 1110 Guadalupe Street\, Austin\, 78701\, United States
ATTACH;FMTTYPE=image/jpeg:https://cccaustin.org/wp-content/uploads/2025/11/teaching-in-2020-3.jpg
END:VEVENT
BEGIN:VEVENT
DTSTART;TZID=America/Chicago:20260715T080000
DTEND;TZID=America/Chicago:20260715T090000
DTSTAMP:20260424T160742
CREATED:20230904T000049Z
LAST-MODIFIED:20260303T231046Z
UID:10001160-1784102400-1784106000@cccaustin.org
SUMMARY:Open Sanctuary
DESCRIPTION:The sanctuary will be open to welcome all for a time of meditation and reflection. Come by and be sure to share with your friends\, neighbors\, and co-workers who may also like to drop by. Pastor Layne will be on hand on his Pastor’s Porch at the front door with fresh coffee\, breakfast bars\, conversation\, smiles\, and the Joke of the Day.
URL:https://cccaustin.org/event/open-sanctuary/2026-07-15/
LOCATION:Central Christian Church\, 1110 Guadalupe Street\, Austin\, 78701\, United States
ATTACH;FMTTYPE=image/jpeg:https://cccaustin.org/wp-content/uploads/2023/09/Sanctuary2.jpg
END:VEVENT
BEGIN:VEVENT
DTSTART;TZID=America/Chicago:20260719T110000
DTEND;TZID=America/Chicago:20260719T120000
DTSTAMP:20260424T160742
CREATED:20241210T164358Z
LAST-MODIFIED:20260324T031230Z
UID:10003241-1784458800-1784462400@cccaustin.org
SUMMARY:Worship Service
DESCRIPTION:Please join us each Sunday morning at 11am in person\, or livestreaming on our facebook page (link below) to take part in our worship service as we share fellowship\, music\, Communion\, and a thought provoking sermon. We hope to see you! \n\nhttps://www.facebook.com/CentralChristianChurchAustin
URL:https://cccaustin.org/event/worship-service-3/2026-07-19/
LOCATION:Central Christian Church\, 1110 Guadalupe Street\, Austin\, 78701\, United States
ATTACH;FMTTYPE=image/jpeg:https://cccaustin.org/wp-content/uploads/2022/07/worship2.jpg
END:VEVENT
BEGIN:VEVENT
DTSTART;TZID=America/Chicago:20260720T080000
DTEND;TZID=America/Chicago:20260720T090000
DTSTAMP:20260424T160742
CREATED:20230904T000049Z
LAST-MODIFIED:20260303T231046Z
UID:10001161-1784534400-1784538000@cccaustin.org
SUMMARY:Open Sanctuary
DESCRIPTION:The sanctuary will be open to welcome all for a time of meditation and reflection. Come by and be sure to share with your friends\, neighbors\, and co-workers who may also like to drop by. Pastor Layne will be on hand on his Pastor’s Porch at the front door with fresh coffee\, breakfast bars\, conversation\, smiles\, and the Joke of the Day.
URL:https://cccaustin.org/event/open-sanctuary/2026-07-20/
LOCATION:Central Christian Church\, 1110 Guadalupe Street\, Austin\, 78701\, United States
ATTACH;FMTTYPE=image/jpeg:https://cccaustin.org/wp-content/uploads/2023/09/Sanctuary2.jpg
END:VEVENT
BEGIN:VEVENT
DTSTART;TZID=America/Chicago:20260720T110000
DTEND;TZID=America/Chicago:20260720T120000
DTSTAMP:20260424T160742
CREATED:20251106T010826Z
LAST-MODIFIED:20260203T222400Z
UID:10002601-1784545200-1784548800@cccaustin.org
SUMMARY:Staff Meeting
DESCRIPTION:
URL:https://cccaustin.org/event/staff-meeting/2026-07-20/
LOCATION:Central Christian Church\, 1110 Guadalupe Street\, Austin\, 78701\, United States
ATTACH;FMTTYPE=image/jpeg:https://cccaustin.org/wp-content/uploads/2025/11/teaching-in-2020-3.jpg
END:VEVENT
END:VCALENDAR