BEGIN:VCALENDAR
VERSION:2.0
PRODID:-//Central Christian Church - ECPv6.15.20//NONSGML v1.0//EN
CALSCALE:GREGORIAN
METHOD:PUBLISH
X-WR-CALNAME:Central Christian Church
X-ORIGINAL-URL:https://cccaustin.org
X-WR-CALDESC:Events for Central Christian Church
REFRESH-INTERVAL;VALUE=DURATION:PT1H
X-Robots-Tag:noindex
X-PUBLISHED-TTL:PT1H
BEGIN:VTIMEZONE
TZID:America/Chicago
BEGIN:DAYLIGHT
TZOFFSETFROM:-0600
TZOFFSETTO:-0500
TZNAME:CDT
DTSTART:20250309T080000
END:DAYLIGHT
BEGIN:STANDARD
TZOFFSETFROM:-0500
TZOFFSETTO:-0600
TZNAME:CST
DTSTART:20251102T070000
END:STANDARD
BEGIN:DAYLIGHT
TZOFFSETFROM:-0600
TZOFFSETTO:-0500
TZNAME:CDT
DTSTART:20260308T080000
END:DAYLIGHT
BEGIN:STANDARD
TZOFFSETFROM:-0500
TZOFFSETTO:-0600
TZNAME:CST
DTSTART:20261101T070000
END:STANDARD
BEGIN:DAYLIGHT
TZOFFSETFROM:-0600
TZOFFSETTO:-0500
TZNAME:CDT
DTSTART:20270314T080000
END:DAYLIGHT
BEGIN:STANDARD
TZOFFSETFROM:-0500
TZOFFSETTO:-0600
TZNAME:CST
DTSTART:20271107T070000
END:STANDARD
END:VTIMEZONE
BEGIN:VEVENT
DTSTART;TZID=America/Chicago:20260302T080000
DTEND;TZID=America/Chicago:20260302T090000
DTSTAMP:20260424T205300
CREATED:20230904T000049Z
LAST-MODIFIED:20260303T231046Z
UID:10001121-1772438400-1772442000@cccaustin.org
SUMMARY:Open Sanctuary
DESCRIPTION:The sanctuary will be open to welcome all for a time of meditation and reflection. Come by and be sure to share with your friends\, neighbors\, and co-workers who may also like to drop by. Pastor Layne will be on hand on his Pastor’s Porch at the front door with fresh coffee\, breakfast bars\, conversation\, smiles\, and the Joke of the Day.
URL:https://cccaustin.org/event/open-sanctuary/2026-03-02/
LOCATION:Central Christian Church\, 1110 Guadalupe Street\, Austin\, 78701\, United States
ATTACH;FMTTYPE=image/jpeg:https://cccaustin.org/wp-content/uploads/2023/09/Sanctuary2.jpg
END:VEVENT
BEGIN:VEVENT
DTSTART;TZID=America/Chicago:20260301T110000
DTEND;TZID=America/Chicago:20260301T120000
DTSTAMP:20260424T205300
CREATED:20241210T164358Z
LAST-MODIFIED:20260324T031230Z
UID:10002048-1772362800-1772366400@cccaustin.org
SUMMARY:Worship Service
DESCRIPTION:Please join us each Sunday morning at 11am in person\, or livestreaming on our facebook page (link below) to take part in our worship service as we share fellowship\, music\, Communion\, and a thought provoking sermon. We hope to see you! \n\nhttps://www.facebook.com/CentralChristianChurchAustin
URL:https://cccaustin.org/event/worship-service-3/2026-03-01/
LOCATION:Central Christian Church\, 1110 Guadalupe Street\, Austin\, 78701\, United States
ATTACH;FMTTYPE=image/jpeg:https://cccaustin.org/wp-content/uploads/2022/07/worship2.jpg
END:VEVENT
BEGIN:VEVENT
DTSTART;TZID=America/Chicago:20260301T093000
DTEND;TZID=America/Chicago:20260301T103000
DTSTAMP:20260424T205300
CREATED:20260203T213529Z
LAST-MODIFIED:20260303T225358Z
UID:10003177-1772357400-1772361000@cccaustin.org
SUMMARY:Breakfast & Bible Study
DESCRIPTION:Please join us in the Fellowship Hall starting February 8th to join Pastor Layne for his six-week presentation/discussion “How I Read My Bible”. Arrive by 9:30am to make a plate and fill your coffee cup. Discussion will begin promptly at 9:45am and end at 10:30am. Old-timers and newbies welcome!
URL:https://cccaustin.org/event/breakfast-bible-study/2026-03-01/
LOCATION:Central Christian Church\, 1110 Guadalupe Street\, Austin\, 78701\, United States
ATTACH;FMTTYPE=image/jpeg:https://cccaustin.org/wp-content/uploads/2026/02/Bible-and-Glasses.jpg
END:VEVENT
BEGIN:VEVENT
DTSTART;TZID=America/Chicago:20260225T190000
DTEND;TZID=America/Chicago:20260225T200000
DTSTAMP:20260424T205300
CREATED:20260203T213937Z
LAST-MODIFIED:20260203T221530Z
UID:10003182-1772046000-1772049600@cccaustin.org
SUMMARY:Lenten Book Study
DESCRIPTION:Please join us both in person or over Zoom for our prayer gathering and book study where we will be discussing Adam Hamilton’s book\, Final Words from the Cross.
URL:https://cccaustin.org/event/lenten-book-study/2026-02-25/
LOCATION:Central Christian Church\, 1110 Guadalupe Street\, Austin\, 78701\, United States
ATTACH;FMTTYPE=image/jpeg:https://cccaustin.org/wp-content/uploads/2026/02/Bible-and-Glasses.jpg
END:VEVENT
BEGIN:VEVENT
DTSTART;TZID=America/Chicago:20260225T180000
DTEND;TZID=America/Chicago:20260225T190000
DTSTAMP:20260424T205300
CREATED:20260203T214419Z
LAST-MODIFIED:20260203T214419Z
UID:10003190-1772042400-1772046000@cccaustin.org
SUMMARY:Meager Meal
DESCRIPTION:Please join us in the Fellowship Hall for a meager meal as we prepare for the upcoming prayer gathering and book study.
URL:https://cccaustin.org/event/meager-meal/2026-02-25/
LOCATION:Central Christian Church\, 1110 Guadalupe Street\, Austin\, 78701\, United States
ATTACH;FMTTYPE=image/jpeg:https://cccaustin.org/wp-content/uploads/2025/03/meager-meal.jpg
END:VEVENT
BEGIN:VEVENT
DTSTART;TZID=America/Chicago:20260225T080000
DTEND;TZID=America/Chicago:20260225T090000
DTSTAMP:20260424T205300
CREATED:20230904T000049Z
LAST-MODIFIED:20260303T231046Z
UID:10001120-1772006400-1772010000@cccaustin.org
SUMMARY:Open Sanctuary
DESCRIPTION:The sanctuary will be open to welcome all for a time of meditation and reflection. Come by and be sure to share with your friends\, neighbors\, and co-workers who may also like to drop by. Pastor Layne will be on hand on his Pastor’s Porch at the front door with fresh coffee\, breakfast bars\, conversation\, smiles\, and the Joke of the Day.
URL:https://cccaustin.org/event/open-sanctuary/2026-02-25/
LOCATION:Central Christian Church\, 1110 Guadalupe Street\, Austin\, 78701\, United States
ATTACH;FMTTYPE=image/jpeg:https://cccaustin.org/wp-content/uploads/2023/09/Sanctuary2.jpg
END:VEVENT
BEGIN:VEVENT
DTSTART;TZID=America/Chicago:20260223T110000
DTEND;TZID=America/Chicago:20260223T120000
DTSTAMP:20260424T205300
CREATED:20251106T010826Z
LAST-MODIFIED:20260203T222400Z
UID:10002580-1771844400-1771848000@cccaustin.org
SUMMARY:Staff Meeting
DESCRIPTION:
URL:https://cccaustin.org/event/staff-meeting/2026-02-23/
LOCATION:Central Christian Church\, 1110 Guadalupe Street\, Austin\, 78701\, United States
ATTACH;FMTTYPE=image/jpeg:https://cccaustin.org/wp-content/uploads/2025/11/teaching-in-2020-3.jpg
END:VEVENT
BEGIN:VEVENT
DTSTART;TZID=America/Chicago:20260223T080000
DTEND;TZID=America/Chicago:20260223T090000
DTSTAMP:20260424T205300
CREATED:20230904T000049Z
LAST-MODIFIED:20260303T231046Z
UID:10001119-1771833600-1771837200@cccaustin.org
SUMMARY:Open Sanctuary
DESCRIPTION:The sanctuary will be open to welcome all for a time of meditation and reflection. Come by and be sure to share with your friends\, neighbors\, and co-workers who may also like to drop by. Pastor Layne will be on hand on his Pastor’s Porch at the front door with fresh coffee\, breakfast bars\, conversation\, smiles\, and the Joke of the Day.
URL:https://cccaustin.org/event/open-sanctuary/2026-02-23/
LOCATION:Central Christian Church\, 1110 Guadalupe Street\, Austin\, 78701\, United States
ATTACH;FMTTYPE=image/jpeg:https://cccaustin.org/wp-content/uploads/2023/09/Sanctuary2.jpg
END:VEVENT
BEGIN:VEVENT
DTSTART;TZID=America/Chicago:20260222T120000
DTEND;TZID=America/Chicago:20260222T130000
DTSTAMP:20260424T205300
CREATED:20260203T222941Z
LAST-MODIFIED:20260203T222941Z
UID:10003205-1771761600-1771765200@cccaustin.org
SUMMARY:Outreach Project
DESCRIPTION:Please join us in the community room to help match medicine bottles. CCC collects\, sanitizes and ships medicine bottles to medical missions across the globe. Come help us with the final step to prepare them to mail.
URL:https://cccaustin.org/event/outreach-project-3/
LOCATION:Central Christian Church\, 1110 Guadalupe Street\, Austin\, 78701\, United States
ATTACH;FMTTYPE=image/avif:https://cccaustin.org/wp-content/uploads/2026/01/Outreach-Image.avif
END:VEVENT
BEGIN:VEVENT
DTSTART;TZID=America/Chicago:20260222T110000
DTEND;TZID=America/Chicago:20260222T120000
DTSTAMP:20260424T205300
CREATED:20241210T164358Z
LAST-MODIFIED:20260324T031230Z
UID:10002047-1771758000-1771761600@cccaustin.org
SUMMARY:Worship Service
DESCRIPTION:Please join us each Sunday morning at 11am in person\, or livestreaming on our facebook page (link below) to take part in our worship service as we share fellowship\, music\, Communion\, and a thought provoking sermon. We hope to see you! \n\nhttps://www.facebook.com/CentralChristianChurchAustin
URL:https://cccaustin.org/event/worship-service-3/2026-02-22/
LOCATION:Central Christian Church\, 1110 Guadalupe Street\, Austin\, 78701\, United States
ATTACH;FMTTYPE=image/jpeg:https://cccaustin.org/wp-content/uploads/2022/07/worship2.jpg
END:VEVENT
BEGIN:VEVENT
DTSTART;TZID=America/Chicago:20260222T093000
DTEND;TZID=America/Chicago:20260222T103000
DTSTAMP:20260424T205300
CREATED:20260203T213529Z
LAST-MODIFIED:20260303T225358Z
UID:10003176-1771752600-1771756200@cccaustin.org
SUMMARY:Breakfast & Bible Study
DESCRIPTION:Please join us in the Fellowship Hall starting February 8th to join Pastor Layne for his six-week presentation/discussion “How I Read My Bible”. Arrive by 9:30am to make a plate and fill your coffee cup. Discussion will begin promptly at 9:45am and end at 10:30am. Old-timers and newbies welcome!
URL:https://cccaustin.org/event/breakfast-bible-study/2026-02-22/
LOCATION:Central Christian Church\, 1110 Guadalupe Street\, Austin\, 78701\, United States
ATTACH;FMTTYPE=image/jpeg:https://cccaustin.org/wp-content/uploads/2026/02/Bible-and-Glasses.jpg
END:VEVENT
BEGIN:VEVENT
DTSTART;TZID=America/Chicago:20260218T190000
DTEND;TZID=America/Chicago:20260218T193000
DTSTAMP:20260424T205300
CREATED:20260203T221741Z
LAST-MODIFIED:20260203T221741Z
UID:10003199-1771441200-1771443000@cccaustin.org
SUMMARY:Ash Wednesday Observance
DESCRIPTION:Please join us at Central Christian Church for an observance in honor of Ash Wednesday.
URL:https://cccaustin.org/event/ash-wednesday-observance/
LOCATION:Central Christian Church\, 1110 Guadalupe Street\, Austin\, 78701\, United States
ATTACH;FMTTYPE=image/jpeg:https://cccaustin.org/wp-content/uploads/2026/02/Ash-Wednesday.jpg
END:VEVENT
BEGIN:VEVENT
DTSTART;TZID=America/Chicago:20260218T180000
DTEND;TZID=America/Chicago:20260218T190000
DTSTAMP:20260424T205300
CREATED:20260203T214419Z
LAST-MODIFIED:20260203T214419Z
UID:10003189-1771437600-1771441200@cccaustin.org
SUMMARY:Meager Meal
DESCRIPTION:Please join us in the Fellowship Hall for a meager meal as we prepare for the upcoming prayer gathering and book study.
URL:https://cccaustin.org/event/meager-meal/2026-02-18/
LOCATION:Central Christian Church\, 1110 Guadalupe Street\, Austin\, 78701\, United States
ATTACH;FMTTYPE=image/jpeg:https://cccaustin.org/wp-content/uploads/2025/03/meager-meal.jpg
END:VEVENT
BEGIN:VEVENT
DTSTART;TZID=America/Chicago:20260218T163000
DTEND;TZID=America/Chicago:20260218T173000
DTSTAMP:20260424T205300
CREATED:20260203T221312Z
LAST-MODIFIED:20260203T221312Z
UID:10003198-1771432200-1771435800@cccaustin.org
SUMMARY:Curbside Imposition of Ashes
DESCRIPTION:Please join us on the corner of Guadalupe and 12th Street if you would like our pastors to apply ashes in honor of Ash Wednesday.
URL:https://cccaustin.org/event/curbside-imposition-of-ashes/2026-02-18/3/
LOCATION:Central Christian Church\, 1110 Guadalupe Street\, Austin\, 78701\, United States
ATTACH;FMTTYPE=image/png:https://cccaustin.org/wp-content/uploads/2024/02/Screenshot-2024-02-06-at-4.14.51-PM.png
END:VEVENT
BEGIN:VEVENT
DTSTART;TZID=America/Chicago:20260218T120000
DTEND;TZID=America/Chicago:20260218T130000
DTSTAMP:20260424T205300
CREATED:20260203T221312Z
LAST-MODIFIED:20260203T221312Z
UID:10003197-1771416000-1771419600@cccaustin.org
SUMMARY:Curbside Imposition of Ashes
DESCRIPTION:Please join us on the corner of Guadalupe and 12th Street if you would like our pastors to apply ashes in honor of Ash Wednesday.
URL:https://cccaustin.org/event/curbside-imposition-of-ashes/2026-02-18/2/
LOCATION:Central Christian Church\, 1110 Guadalupe Street\, Austin\, 78701\, United States
ATTACH;FMTTYPE=image/png:https://cccaustin.org/wp-content/uploads/2024/02/Screenshot-2024-02-06-at-4.14.51-PM.png
END:VEVENT
BEGIN:VEVENT
DTSTART;TZID=America/Chicago:20260218T083000
DTEND;TZID=America/Chicago:20260218T093000
DTSTAMP:20260424T205300
CREATED:20260203T221312Z
LAST-MODIFIED:20260203T221312Z
UID:10003196-1771403400-1771407000@cccaustin.org
SUMMARY:Curbside Imposition of Ashes
DESCRIPTION:Please join us on the corner of Guadalupe and 12th Street if you would like our pastors to apply ashes in honor of Ash Wednesday.
URL:https://cccaustin.org/event/curbside-imposition-of-ashes/2026-02-18/1/
LOCATION:Central Christian Church\, 1110 Guadalupe Street\, Austin\, 78701\, United States
ATTACH;FMTTYPE=image/png:https://cccaustin.org/wp-content/uploads/2024/02/Screenshot-2024-02-06-at-4.14.51-PM.png
END:VEVENT
BEGIN:VEVENT
DTSTART;TZID=America/Chicago:20260218T080000
DTEND;TZID=America/Chicago:20260218T090000
DTSTAMP:20260424T205300
CREATED:20230904T000049Z
LAST-MODIFIED:20260303T231046Z
UID:10001118-1771401600-1771405200@cccaustin.org
SUMMARY:Open Sanctuary
DESCRIPTION:The sanctuary will be open to welcome all for a time of meditation and reflection. Come by and be sure to share with your friends\, neighbors\, and co-workers who may also like to drop by. Pastor Layne will be on hand on his Pastor’s Porch at the front door with fresh coffee\, breakfast bars\, conversation\, smiles\, and the Joke of the Day.
URL:https://cccaustin.org/event/open-sanctuary/2026-02-18/
LOCATION:Central Christian Church\, 1110 Guadalupe Street\, Austin\, 78701\, United States
ATTACH;FMTTYPE=image/jpeg:https://cccaustin.org/wp-content/uploads/2023/09/Sanctuary2.jpg
END:VEVENT
BEGIN:VEVENT
DTSTART;TZID=America/Chicago:20260215T110000
DTEND;TZID=America/Chicago:20260215T120000
DTSTAMP:20260424T205300
CREATED:20241210T164358Z
LAST-MODIFIED:20260324T031230Z
UID:10002046-1771153200-1771156800@cccaustin.org
SUMMARY:Worship Service
DESCRIPTION:Please join us each Sunday morning at 11am in person\, or livestreaming on our facebook page (link below) to take part in our worship service as we share fellowship\, music\, Communion\, and a thought provoking sermon. We hope to see you! \n\nhttps://www.facebook.com/CentralChristianChurchAustin
URL:https://cccaustin.org/event/worship-service-3/2026-02-15/
LOCATION:Central Christian Church\, 1110 Guadalupe Street\, Austin\, 78701\, United States
ATTACH;FMTTYPE=image/jpeg:https://cccaustin.org/wp-content/uploads/2022/07/worship2.jpg
END:VEVENT
BEGIN:VEVENT
DTSTART;TZID=America/Chicago:20260215T093000
DTEND;TZID=America/Chicago:20260215T103000
DTSTAMP:20260424T205300
CREATED:20260203T213529Z
LAST-MODIFIED:20260303T225358Z
UID:10003175-1771147800-1771151400@cccaustin.org
SUMMARY:Breakfast & Bible Study
DESCRIPTION:Please join us in the Fellowship Hall starting February 8th to join Pastor Layne for his six-week presentation/discussion “How I Read My Bible”. Arrive by 9:30am to make a plate and fill your coffee cup. Discussion will begin promptly at 9:45am and end at 10:30am. Old-timers and newbies welcome!
URL:https://cccaustin.org/event/breakfast-bible-study/2026-02-15/
LOCATION:Central Christian Church\, 1110 Guadalupe Street\, Austin\, 78701\, United States
ATTACH;FMTTYPE=image/jpeg:https://cccaustin.org/wp-content/uploads/2026/02/Bible-and-Glasses.jpg
END:VEVENT
BEGIN:VEVENT
DTSTART;TZID=America/Chicago:20260211T190000
DTEND;TZID=America/Chicago:20260211T200000
DTSTAMP:20260424T205300
CREATED:20260203T213937Z
LAST-MODIFIED:20260203T221530Z
UID:10003180-1770836400-1770840000@cccaustin.org
SUMMARY:Lenten Book Study
DESCRIPTION:Please join us both in person or over Zoom for our prayer gathering and book study where we will be discussing Adam Hamilton’s book\, Final Words from the Cross.
URL:https://cccaustin.org/event/lenten-book-study/2026-02-11/
LOCATION:Central Christian Church\, 1110 Guadalupe Street\, Austin\, 78701\, United States
ATTACH;FMTTYPE=image/jpeg:https://cccaustin.org/wp-content/uploads/2026/02/Bible-and-Glasses.jpg
END:VEVENT
BEGIN:VEVENT
DTSTART;TZID=America/Chicago:20260211T180000
DTEND;TZID=America/Chicago:20260211T190000
DTSTAMP:20260424T205300
CREATED:20260203T214419Z
LAST-MODIFIED:20260203T214419Z
UID:10003188-1770832800-1770836400@cccaustin.org
SUMMARY:Meager Meal
DESCRIPTION:Please join us in the Fellowship Hall for a meager meal as we prepare for the upcoming prayer gathering and book study.
URL:https://cccaustin.org/event/meager-meal/2026-02-11/
LOCATION:Central Christian Church\, 1110 Guadalupe Street\, Austin\, 78701\, United States
ATTACH;FMTTYPE=image/jpeg:https://cccaustin.org/wp-content/uploads/2025/03/meager-meal.jpg
END:VEVENT
BEGIN:VEVENT
DTSTART;TZID=America/Chicago:20260211T080000
DTEND;TZID=America/Chicago:20260211T090000
DTSTAMP:20260424T205300
CREATED:20230904T000049Z
LAST-MODIFIED:20260303T231046Z
UID:10001116-1770796800-1770800400@cccaustin.org
SUMMARY:Open Sanctuary
DESCRIPTION:The sanctuary will be open to welcome all for a time of meditation and reflection. Come by and be sure to share with your friends\, neighbors\, and co-workers who may also like to drop by. Pastor Layne will be on hand on his Pastor’s Porch at the front door with fresh coffee\, breakfast bars\, conversation\, smiles\, and the Joke of the Day.
URL:https://cccaustin.org/event/open-sanctuary/2026-02-11/
LOCATION:Central Christian Church\, 1110 Guadalupe Street\, Austin\, 78701\, United States
ATTACH;FMTTYPE=image/jpeg:https://cccaustin.org/wp-content/uploads/2023/09/Sanctuary2.jpg
END:VEVENT
BEGIN:VEVENT
DTSTART;TZID=America/Chicago:20260210T120000
DTEND;TZID=America/Chicago:20260210T130000
DTSTAMP:20260424T205300
CREATED:20260203T221930Z
LAST-MODIFIED:20260203T221930Z
UID:10003200-1770724800-1770728400@cccaustin.org
SUMMARY:Capital Clergy Meeting
DESCRIPTION:
URL:https://cccaustin.org/event/capital-clergy-meeting-4/
LOCATION:Central Christian Church\, 1110 Guadalupe Street\, Austin\, 78701\, United States
ATTACH;FMTTYPE=image/jpeg:https://cccaustin.org/wp-content/uploads/2025/11/Clergy-Meeting.jpg
END:VEVENT
BEGIN:VEVENT
DTSTART;TZID=America/Chicago:20260209T110000
DTEND;TZID=America/Chicago:20260209T120000
DTSTAMP:20260424T205300
CREATED:20251106T010826Z
LAST-MODIFIED:20260203T222400Z
UID:10002578-1770634800-1770638400@cccaustin.org
SUMMARY:Staff Meeting
DESCRIPTION:
URL:https://cccaustin.org/event/staff-meeting/2026-02-09/
LOCATION:Central Christian Church\, 1110 Guadalupe Street\, Austin\, 78701\, United States
ATTACH;FMTTYPE=image/jpeg:https://cccaustin.org/wp-content/uploads/2025/11/teaching-in-2020-3.jpg
END:VEVENT
BEGIN:VEVENT
DTSTART;TZID=America/Chicago:20260209T080000
DTEND;TZID=America/Chicago:20260209T090000
DTSTAMP:20260424T205300
CREATED:20230904T000049Z
LAST-MODIFIED:20260303T231046Z
UID:10001115-1770624000-1770627600@cccaustin.org
SUMMARY:Open Sanctuary
DESCRIPTION:The sanctuary will be open to welcome all for a time of meditation and reflection. Come by and be sure to share with your friends\, neighbors\, and co-workers who may also like to drop by. Pastor Layne will be on hand on his Pastor’s Porch at the front door with fresh coffee\, breakfast bars\, conversation\, smiles\, and the Joke of the Day.
URL:https://cccaustin.org/event/open-sanctuary/2026-02-09/
LOCATION:Central Christian Church\, 1110 Guadalupe Street\, Austin\, 78701\, United States
ATTACH;FMTTYPE=image/jpeg:https://cccaustin.org/wp-content/uploads/2023/09/Sanctuary2.jpg
END:VEVENT
BEGIN:VEVENT
DTSTART;TZID=America/Chicago:20260208T120000
DTEND;TZID=America/Chicago:20260208T130000
DTSTAMP:20260424T205300
CREATED:20260203T213018Z
LAST-MODIFIED:20260203T213018Z
UID:10003173-1770552000-1770555600@cccaustin.org
SUMMARY:SOUPer Bowl of Caring
DESCRIPTION:Join us in the Fellowship Hall after the service with your favorite soup\, salad\, or dessert to share…plus any nonperishable food items to donate to Bethany Food Pantry!
URL:https://cccaustin.org/event/souper-bowl-of-caring/
LOCATION:Central Christian Church\, 1110 Guadalupe Street\, Austin\, 78701\, United States
ATTACH;FMTTYPE=image/webp:https://cccaustin.org/wp-content/uploads/2024/02/soupimage.webp
END:VEVENT
BEGIN:VEVENT
DTSTART;TZID=America/Chicago:20260208T110000
DTEND;TZID=America/Chicago:20260208T120000
DTSTAMP:20260424T205300
CREATED:20241210T164358Z
LAST-MODIFIED:20260324T031230Z
UID:10002045-1770548400-1770552000@cccaustin.org
SUMMARY:Worship Service
DESCRIPTION:Please join us each Sunday morning at 11am in person\, or livestreaming on our facebook page (link below) to take part in our worship service as we share fellowship\, music\, Communion\, and a thought provoking sermon. We hope to see you! \n\nhttps://www.facebook.com/CentralChristianChurchAustin
URL:https://cccaustin.org/event/worship-service-3/2026-02-08/
LOCATION:Central Christian Church\, 1110 Guadalupe Street\, Austin\, 78701\, United States
ATTACH;FMTTYPE=image/jpeg:https://cccaustin.org/wp-content/uploads/2022/07/worship2.jpg
END:VEVENT
BEGIN:VEVENT
DTSTART;TZID=America/Chicago:20260208T093000
DTEND;TZID=America/Chicago:20260208T103000
DTSTAMP:20260424T205300
CREATED:20260203T213529Z
LAST-MODIFIED:20260303T225358Z
UID:10003174-1770543000-1770546600@cccaustin.org
SUMMARY:Breakfast & Bible Study
DESCRIPTION:Please join us in the Fellowship Hall starting February 8th to join Pastor Layne for his six-week presentation/discussion “How I Read My Bible”. Arrive by 9:30am to make a plate and fill your coffee cup. Discussion will begin promptly at 9:45am and end at 10:30am. Old-timers and newbies welcome!
URL:https://cccaustin.org/event/breakfast-bible-study/2026-02-08/
LOCATION:Central Christian Church\, 1110 Guadalupe Street\, Austin\, 78701\, United States
ATTACH;FMTTYPE=image/jpeg:https://cccaustin.org/wp-content/uploads/2026/02/Bible-and-Glasses.jpg
END:VEVENT
BEGIN:VEVENT
DTSTART;TZID=America/Chicago:20260204T080000
DTEND;TZID=America/Chicago:20260204T090000
DTSTAMP:20260424T205300
CREATED:20230904T000049Z
LAST-MODIFIED:20260303T231046Z
UID:10001114-1770192000-1770195600@cccaustin.org
SUMMARY:Open Sanctuary
DESCRIPTION:The sanctuary will be open to welcome all for a time of meditation and reflection. Come by and be sure to share with your friends\, neighbors\, and co-workers who may also like to drop by. Pastor Layne will be on hand on his Pastor’s Porch at the front door with fresh coffee\, breakfast bars\, conversation\, smiles\, and the Joke of the Day.
URL:https://cccaustin.org/event/open-sanctuary/2026-02-04/
LOCATION:Central Christian Church\, 1110 Guadalupe Street\, Austin\, 78701\, United States
ATTACH;FMTTYPE=image/jpeg:https://cccaustin.org/wp-content/uploads/2023/09/Sanctuary2.jpg
END:VEVENT
BEGIN:VEVENT
DTSTART;TZID=America/Chicago:20260202T183000
DTEND;TZID=America/Chicago:20260202T200000
DTSTAMP:20260424T205300
CREATED:20251201T162815Z
LAST-MODIFIED:20251201T162815Z
UID:10002638-1770057000-1770062400@cccaustin.org
SUMMARY:NAMI Meeting
DESCRIPTION:
URL:https://cccaustin.org/event/nami-meeting/2026-02-02/
LOCATION:Central Christian Church\, 1110 Guadalupe Street\, Austin\, 78701\, United States
ATTACH;FMTTYPE=image/jpeg:https://cccaustin.org/wp-content/uploads/2025/12/NAMI.jpeg
END:VEVENT
END:VCALENDAR