BEGIN:VCALENDAR
VERSION:2.0
PRODID:-//Central Christian Church - ECPv6.15.20//NONSGML v1.0//EN
CALSCALE:GREGORIAN
METHOD:PUBLISH
X-WR-CALNAME:Central Christian Church
X-ORIGINAL-URL:https://cccaustin.org
X-WR-CALDESC:Events for Central Christian Church
REFRESH-INTERVAL;VALUE=DURATION:PT1H
X-Robots-Tag:noindex
X-PUBLISHED-TTL:PT1H
BEGIN:VTIMEZONE
TZID:America/Chicago
BEGIN:DAYLIGHT
TZOFFSETFROM:-0600
TZOFFSETTO:-0500
TZNAME:CDT
DTSTART:20250309T080000
END:DAYLIGHT
BEGIN:STANDARD
TZOFFSETFROM:-0500
TZOFFSETTO:-0600
TZNAME:CST
DTSTART:20251102T070000
END:STANDARD
BEGIN:DAYLIGHT
TZOFFSETFROM:-0600
TZOFFSETTO:-0500
TZNAME:CDT
DTSTART:20260308T080000
END:DAYLIGHT
BEGIN:STANDARD
TZOFFSETFROM:-0500
TZOFFSETTO:-0600
TZNAME:CST
DTSTART:20261101T070000
END:STANDARD
BEGIN:DAYLIGHT
TZOFFSETFROM:-0600
TZOFFSETTO:-0500
TZNAME:CDT
DTSTART:20270314T080000
END:DAYLIGHT
BEGIN:STANDARD
TZOFFSETFROM:-0500
TZOFFSETTO:-0600
TZNAME:CST
DTSTART:20271107T070000
END:STANDARD
END:VTIMEZONE
BEGIN:VEVENT
DTSTART;TZID=America/Chicago:20260317T190000
DTEND;TZID=America/Chicago:20260317T200000
DTSTAMP:20260424T232828
CREATED:20260303T231327Z
LAST-MODIFIED:20260303T231758Z
UID:10003220-1773774000-1773777600@cccaustin.org
SUMMARY:Administrative Council Meeting
DESCRIPTION:Please join us over Zoom for our monthly administrative council meeting.
URL:https://cccaustin.org/event/administrative-council-meeting/
LOCATION:Zoom
ATTACH;FMTTYPE=image/jpeg:https://cccaustin.org/wp-content/uploads/2023/03/AC-Council-Meeting.jpeg
END:VEVENT
BEGIN:VEVENT
DTSTART;TZID=America/Chicago:20260310T190000
DTEND;TZID=America/Chicago:20260310T200000
DTSTAMP:20260424T232828
CREATED:20260303T225217Z
LAST-MODIFIED:20260303T225217Z
UID:10003216-1773169200-1773172800@cccaustin.org
SUMMARY:Trustees Meeting (Zoom)
DESCRIPTION:
URL:https://cccaustin.org/event/trustees-meeting-zoom/
LOCATION:Zoom
ATTACH;FMTTYPE=image/webp:https://cccaustin.org/wp-content/uploads/2025/11/Trustee-Meeting.webp
END:VEVENT
BEGIN:VEVENT
DTSTART;TZID=America/Chicago:20260310T140000
DTEND;TZID=America/Chicago:20260310T150000
DTSTAMP:20260424T232828
CREATED:20260303T225107Z
LAST-MODIFIED:20260303T225107Z
UID:10003215-1773151200-1773154800@cccaustin.org
SUMMARY:Christian Women's Fellowship
DESCRIPTION:Please join us on Zoom for Christian Women’s Fellowship lesson “Understand the Loaves”. Please read Mark 6: 6-52 for lesson preparation.
URL:https://cccaustin.org/event/christian-womens-fellowship-2/
LOCATION:Zoom
ATTACH;FMTTYPE=image/jpeg:https://cccaustin.org/wp-content/uploads/2024/02/WDC.jpg
END:VEVENT
BEGIN:VEVENT
DTSTART;TZID=America/Chicago:20260217T190000
DTEND;TZID=America/Chicago:20260217T200000
DTSTAMP:20260424T232828
CREATED:20260203T222547Z
LAST-MODIFIED:20260203T222547Z
UID:10003204-1771354800-1771358400@cccaustin.org
SUMMARY:Administrative Council Meeting (Zoom)
DESCRIPTION:Please join us over Zoom for our monthly administrative council meeting. All are welcome!
URL:https://cccaustin.org/event/administrative-council-meeting-zoom/
LOCATION:Zoom
ATTACH;FMTTYPE=image/jpeg:https://cccaustin.org/wp-content/uploads/2025/11/AC-Meeting.jpg
END:VEVENT
BEGIN:VEVENT
DTSTART;TZID=America/Chicago:20260210T140000
DTEND;TZID=America/Chicago:20260210T150000
DTSTAMP:20260424T232828
CREATED:20260203T222059Z
LAST-MODIFIED:20260203T222059Z
UID:10003201-1770732000-1770735600@cccaustin.org
SUMMARY:Christian Women's Fellowship (Zoom)
DESCRIPTION:
URL:https://cccaustin.org/event/christian-womens-fellowship-zoom/
LOCATION:Zoom
ATTACH;FMTTYPE=image/jpeg:https://cccaustin.org/wp-content/uploads/2024/02/WDC.jpg
END:VEVENT
BEGIN:VEVENT
DTSTART;TZID=America/Chicago:20260207T110000
DTEND;TZID=America/Chicago:20260207T130000
DTSTAMP:20260424T232828
CREATED:20260117T190026Z
LAST-MODIFIED:20260117T190213Z
UID:10003166-1770462000-1770469200@cccaustin.org
SUMMARY:Ladies' Valentine Brunch
DESCRIPTION:Grab your girlfriends and join us for brunch\, fellowship and crafts! \nPlease bring a gently used or new purse to donate to Dress For Success! \nWear your festive pink or red attire too!
URL:https://cccaustin.org/event/ladies-valentine-brunch/
LOCATION:Zoom
ATTACH;FMTTYPE=image/png:https://cccaustin.org/wp-content/uploads/2026/01/Valentines-Brunch.png
END:VEVENT
BEGIN:VEVENT
DTSTART;TZID=America/Chicago:20260204T190000
DTEND;TZID=America/Chicago:20260204T193000
DTSTAMP:20260424T232828
CREATED:20260117T175545Z
LAST-MODIFIED:20260203T214116Z
UID:10003105-1770231600-1770233400@cccaustin.org
SUMMARY:Prayer Gathering
DESCRIPTION:Please join us as we share our joys and concerns in an online prayer gathering through Zoom.
URL:https://cccaustin.org/event/prayer-gathering/2026-02-04/
LOCATION:Zoom
ATTACH;FMTTYPE=image/jpeg:https://cccaustin.org/wp-content/uploads/2022/07/Prayergathering.jpg
END:VEVENT
BEGIN:VEVENT
DTSTART;TZID=America/Chicago:20260128T190000
DTEND;TZID=America/Chicago:20260128T193000
DTSTAMP:20260424T232828
CREATED:20260117T175545Z
LAST-MODIFIED:20260203T214116Z
UID:10003104-1769626800-1769628600@cccaustin.org
SUMMARY:Prayer Gathering
DESCRIPTION:Please join us as we share our joys and concerns in an online prayer gathering through Zoom.
URL:https://cccaustin.org/event/prayer-gathering/2026-01-28/
LOCATION:Zoom
ATTACH;FMTTYPE=image/jpeg:https://cccaustin.org/wp-content/uploads/2022/07/Prayergathering.jpg
END:VEVENT
END:VCALENDAR